Back to Build/check report for BioC 3.19:   simplified   long
ABCD[E]FGHIJKLMNOPQRSTUVWXYZ

This page was generated on 2024-02-20 13:14:58 -0500 (Tue, 20 Feb 2024).

HostnameOSArch (*)R versionInstalled pkgs
nebbiolo1Linux (Ubuntu 22.04.3 LTS)x86_64R Under development (unstable) (2024-01-16 r85808) -- "Unsuffered Consequences" 4657
Click on any hostname to see more info about the system (e.g. compilers)      (*) as reported by 'uname -p', except on Windows and Mac OS X

Package 674/2244HostnameOS / ArchINSTALLBUILDCHECKBUILD BIN
EWCE 1.11.3  (landing page)
Alan Murphy
Snapshot Date: 2024-02-19 14:10:08 -0500 (Mon, 19 Feb 2024)
git_url: https://git.bioconductor.org/packages/EWCE
git_branch: devel
git_last_commit: 3838e2c
git_last_commit_date: 2023-11-21 08:06:56 -0500 (Tue, 21 Nov 2023)
nebbiolo1Linux (Ubuntu 22.04.3 LTS) / x86_64  OK    OK    OK  UNNEEDED, same version is already published

BUILD results for EWCE on nebbiolo1


To the developers/maintainers of the EWCE package:
- Allow up to 24 hours (and sometimes 48 hours) for your latest push to git@git.bioconductor.org:packages/EWCE.git to reflect on this report. See Troubleshooting Build Report for more information.
- Use the following Renviron settings to reproduce errors and warnings.
- If 'R CMD check' started to fail recently on the Linux builder(s) over a missing dependency, add the missing dependency to 'Suggests:' in your DESCRIPTION file. See Renviron.bioc for more information.

raw results


Summary

Package: EWCE
Version: 1.11.3
Command: /home/biocbuild/bbs-3.19-bioc/R/bin/R CMD build --keep-empty-dirs --no-resave-data EWCE
StartedAt: 2024-02-19 17:01:59 -0500 (Mon, 19 Feb 2024)
EndedAt: 2024-02-19 17:06:09 -0500 (Mon, 19 Feb 2024)
EllapsedTime: 250.1 seconds
RetCode: 0
Status:   OK  
PackageFile: EWCE_1.11.3.tar.gz
PackageFileSize: 2.301 MiB

Command output

##############################################################################
##############################################################################
###
### Running command:
###
###   /home/biocbuild/bbs-3.19-bioc/R/bin/R CMD build --keep-empty-dirs --no-resave-data EWCE
###
##############################################################################
##############################################################################


* checking for file ‘EWCE/DESCRIPTION’ ... OK
* preparing ‘EWCE’:
* checking DESCRIPTION meta-information ... OK
* installing the package to build vignettes
* creating vignettes ... OK
* checking for LF line-endings in source and make files and shell scripts
* checking for empty or unneeded directories
WARNING: directory ‘EWCE/inst/extdata’ is empty
* building ‘EWCE_1.11.3.tar.gz’