Back to Multiple platform build/check report for BioC 3.19:   simplified   long
AB[C]DEFGHIJKLMNOPQRSTUVWXYZ

This page was generated on 2024-03-28 11:40:25 -0400 (Thu, 28 Mar 2024).

HostnameOSArch (*)R versionInstalled pkgs
nebbiolo1Linux (Ubuntu 22.04.3 LTS)x86_64R Under development (unstable) (2024-03-18 r86148) -- "Unsuffered Consequences" 4708
palomino3Windows Server 2022 Datacenterx64R Under development (unstable) (2024-03-16 r86144 ucrt) -- "Unsuffered Consequences" 4446
lconwaymacOS 12.7.1 Montereyx86_64R Under development (unstable) (2024-03-18 r86148) -- "Unsuffered Consequences" 4471
kunpeng2Linux (openEuler 22.03 LTS-SP1)aarch64R Under development (unstable) (2024-03-19 r86153) -- "Unsuffered Consequences" 4426
Click on any hostname to see more info about the system (e.g. compilers)      (*) as reported by 'uname -p', except on Windows and Mac OS X

Package 331/2270HostnameOS / ArchINSTALLBUILDCHECKBUILD BIN
ChIPanalyser 1.25.0  (landing page)
Patrick C.N. Martin
Snapshot Date: 2024-03-27 14:00:18 -0400 (Wed, 27 Mar 2024)
git_url: https://git.bioconductor.org/packages/ChIPanalyser
git_branch: devel
git_last_commit: 022da06
git_last_commit_date: 2023-10-24 10:59:22 -0400 (Tue, 24 Oct 2023)
nebbiolo1Linux (Ubuntu 22.04.3 LTS) / x86_64  OK    OK    OK  UNNEEDED, same version is already published
palomino3Windows Server 2022 Datacenter / x64  OK    OK    OK    OK  UNNEEDED, same version is already published
lconwaymacOS 12.7.1 Monterey / x86_64  OK    OK    OK    OK  UNNEEDED, same version is already published
kunpeng2Linux (openEuler 22.03 LTS-SP1) / aarch64  OK    OK    OK  

CHECK results for ChIPanalyser on kunpeng2


To the developers/maintainers of the ChIPanalyser package:
- Allow up to 24 hours (and sometimes 48 hours) for your latest push to git@git.bioconductor.org:packages/ChIPanalyser.git to reflect on this report. See Troubleshooting Build Report for more information.
- Use the following Renviron settings to reproduce errors and warnings.
- If 'R CMD check' started to fail recently on the Linux builder(s) over a missing dependency, add the missing dependency to 'Suggests:' in your DESCRIPTION file. See Renviron.bioc for more information.
- See Martin Grigorov's blog post for how to debug Linux ARM64 related issues on a x86_64 host.

raw results


Summary

Package: ChIPanalyser
Version: 1.25.0
Command: /home/biocbuild/R/R-4.4-devel-2024.03.20/bin/R CMD check --install=check:ChIPanalyser.install-out.txt --library=/home/biocbuild/R/R-4.4-devel-2024.03.20/site-library --no-vignettes --timings ChIPanalyser_1.25.0.tar.gz
StartedAt: 2024-03-28 03:46:36 -0000 (Thu, 28 Mar 2024)
EndedAt: 2024-03-28 03:53:23 -0000 (Thu, 28 Mar 2024)
EllapsedTime: 407.8 seconds
RetCode: 0
Status:   OK  
CheckDir: ChIPanalyser.Rcheck
Warnings: 0

Command output

##############################################################################
##############################################################################
###
### Running command:
###
###   /home/biocbuild/R/R-4.4-devel-2024.03.20/bin/R CMD check --install=check:ChIPanalyser.install-out.txt --library=/home/biocbuild/R/R-4.4-devel-2024.03.20/site-library --no-vignettes --timings ChIPanalyser_1.25.0.tar.gz
###
##############################################################################
##############################################################################


* using log directory ‘/home/biocbuild/bbs-3.19-bioc/meat/ChIPanalyser.Rcheck’
* using R Under development (unstable) (2024-03-19 r86153)
* using platform: aarch64-unknown-linux-gnu
* R was compiled by
    gcc (GCC) 10.3.1
    GNU Fortran (GCC) 10.3.1
* running under: openEuler 22.03 (LTS-SP1)
* using session charset: UTF-8
* using option ‘--no-vignettes’
* checking for file ‘ChIPanalyser/DESCRIPTION’ ... OK
* checking extension type ... Package
* this is package ‘ChIPanalyser’ version ‘1.25.0’
* package encoding: UTF-8
* checking package namespace information ... OK
* checking package dependencies ... OK
* checking if this is a source package ... OK
* checking if there is a namespace ... OK
* checking for hidden files and directories ... OK
* checking for portable file names ... OK
* checking for sufficient/correct file permissions ... OK
* checking whether package ‘ChIPanalyser’ can be installed ... OK
* checking installed package size ... OK
* checking package directory ... OK
* checking ‘build’ directory ... OK
* checking DESCRIPTION meta-information ... OK
* checking top-level files ... OK
* checking for left-over files ... OK
* checking index information ... OK
* checking package subdirectories ... OK
* checking code files for non-ASCII characters ... OK
* checking R files for syntax errors ... OK
* checking whether the package can be loaded ... OK
* checking whether the package can be loaded with stated dependencies ... OK
* checking whether the package can be unloaded cleanly ... OK
* checking whether the namespace can be loaded with stated dependencies ... OK
* checking whether the namespace can be unloaded cleanly ... OK
* checking loading without being on the library search path ... OK
* checking dependencies in R code ... OK
* checking S3 generic/method consistency ... OK
* checking replacement functions ... OK
* checking foreign function calls ... OK
* checking R code for possible problems ... OK
* checking Rd files ... NOTE
checkRd: (-1) data.Rd:24-25: Lost braces in \enumerate; meant \describe ?
checkRd: (-1) data.Rd:26-27: Lost braces in \enumerate; meant \describe ?
checkRd: (-1) data.Rd:28-31: Lost braces in \enumerate; meant \describe ?
checkRd: (-1) data.Rd:32-33: Lost braces in \enumerate; meant \describe ?
checkRd: (-1) data.Rd:34-35: Lost braces in \enumerate; meant \describe ?
checkRd: (-1) evolve.Rd:91-92: Lost braces in \itemize; \value handles \item{}{} directly
checkRd: (-1) evolve.Rd:93-94: Lost braces in \itemize; \value handles \item{}{} directly
checkRd: (-1) evolve.Rd:95-96: Lost braces in \itemize; \value handles \item{}{} directly
checkRd: (-1) generateStartingPopulation.Rd:31-39: Lost braces in \enumerate; meant \describe ?
checkRd: (-1) generateStartingPopulation.Rd:40-44: Lost braces in \enumerate; meant \describe ?
* checking Rd metadata ... OK
* checking Rd cross-references ... OK
* checking for missing documentation entries ... OK
* checking for code/documentation mismatches ... OK
* checking Rd \usage sections ... OK
* checking Rd contents ... OK
* checking for unstated dependencies in examples ... OK
* checking contents of ‘data’ directory ... OK
* checking data for non-ASCII characters ... OK
* checking LazyData ... OK
* checking data for ASCII and uncompressed saves ... OK
* checking files in ‘vignettes’ ... OK
* checking examples ... OK
* checking for unstated dependencies in ‘tests’ ... OK
* checking tests ...
  Running ‘runTests.R’
 OK
* checking for unstated dependencies in vignettes ... OK
* checking package vignettes ... OK
* checking running R code from vignettes ... SKIPPED
* checking re-building of vignette outputs ... SKIPPED
* checking PDF version of manual ... OK
* DONE

Status: 1 NOTE
See
  ‘/home/biocbuild/bbs-3.19-bioc/meat/ChIPanalyser.Rcheck/00check.log’
for details.


Installation output

ChIPanalyser.Rcheck/00install.out

##############################################################################
##############################################################################
###
### Running command:
###
###   /home/biocbuild/R/R-4.4-devel-2024.03.20/bin/R CMD INSTALL ChIPanalyser
###
##############################################################################
##############################################################################


* installing to library ‘/home/biocbuild/R/R-4.4-devel-2024.03.20/site-library’
* installing *source* package ‘ChIPanalyser’ ...
** using staged installation
** R
** data
*** moving datasets to lazyload DB
** inst
** byte-compile and prepare package for lazy loading
Creating a new generic function for ‘drop’ in package ‘ChIPanalyser’
** help
*** installing help indices
** building package indices
** installing vignettes
** testing if installed package can be loaded from temporary location
** testing if installed package can be loaded from final location
** testing if installed package keeps a record of temporary installation path
* DONE (ChIPanalyser)

Tests output

ChIPanalyser.Rcheck/tests/runTests.Rout


R Under development (unstable) (2024-03-19 r86153) -- "Unsuffered Consequences"
Copyright (C) 2024 The R Foundation for Statistical Computing
Platform: aarch64-unknown-linux-gnu

R is free software and comes with ABSOLUTELY NO WARRANTY.
You are welcome to redistribute it under certain conditions.
Type 'license()' or 'licence()' for distribution details.

R is a collaborative project with many contributors.
Type 'contributors()' for more information and
'citation()' on how to cite R or R packages in publications.

Type 'demo()' for some demos, 'help()' for on-line help, or
'help.start()' for an HTML browser interface to help.
Type 'q()' to quit R.

> BiocGenerics:::testPackage("ChIPanalyser")

Attaching package: 'BiocGenerics'

The following objects are masked from 'package:stats':

    IQR, mad, sd, var, xtabs

The following objects are masked from 'package:base':

    Filter, Find, Map, Position, Reduce, anyDuplicated, aperm, append,
    as.data.frame, basename, cbind, colnames, dirname, do.call,
    duplicated, eval, evalq, get, grep, grepl, intersect, is.unsorted,
    lapply, mapply, match, mget, order, paste, pmax, pmax.int, pmin,
    pmin.int, rank, rbind, rownames, sapply, setdiff, table, tapply,
    union, unique, unsplit, which.max, which.min


Attaching package: 'S4Vectors'

The following object is masked from 'package:utils':

    findMatches

The following objects are masked from 'package:base':

    I, expand.grid, unname


Attaching package: 'Biostrings'

The following object is masked from 'package:base':

    strsplit


Attaching package: 'rtracklayer'

The following object is masked from 'package:BiocIO':

    FileForFormat


Attaching package: 'ChIPanalyser'

The following object is masked from 'package:IRanges':

    drop

The following object is masked from 'package:base':

    drop

Loading required package: BSgenome.Dmelanogaster.UCSC.dm6


RUNIT TEST PROTOCOL -- Thu Mar 28 03:53:16 2024 
*********************************************** 
Number of test functions: 0 
Number of errors: 0 
Number of failures: 0 

 
1 Test Suite : 
ChIPanalyser RUnit Tests - 0 test functions, 0 errors, 0 failures
Number of test functions: 0 
Number of errors: 0 
Number of failures: 0 
> 
> proc.time()
   user  system elapsed 
 77.401   5.263  82.917 

Example timings

ChIPanalyser.Rcheck/ChIPanalyser-Ex.timings

nameusersystemelapsed
BPFrequency0.2140.0080.223
BPFrequency_-0.0020.0000.003
ChIPScore-class0.0020.0000.001
ChIPanalyser-package000
DNASequenceLength0.0030.0000.002
GRList-class0.0010.0000.001
PFMFormat0.2290.0120.242
PFMFormat_0.0560.0120.068
PWMThreshold0.0080.0060.014
PWMThreshold_-0.0130.0000.013
PWMpseudocount0.0130.0000.014
PWMpseudocount_-0.9410.0000.943
PositionFrequencyMatrix0.0640.0000.064
PositionFrequencyMatrix_-0.0330.0000.033
PositionWeightMatrix0.0630.0000.062
PositionWeightMatrix_-0.0180.0000.018
averageExpPWMScore0.0620.0000.063
backgroundSignal0.0110.0000.012
backgroundSignal_-0.0150.0000.015
boundMolecules0.0080.0030.011
boundMolecules_-0.0140.0000.014
chipMean0.0120.0000.011
chipMean_-0.0120.0000.011
chipSd0.0120.0000.011
chipSd_-0.0110.0000.011
chipSmooth0.0110.0000.011
chipSmooth_-0.0120.0000.012
computeChIPProfile0.0020.0000.002
computeGenomeWideScores000
computeOccupancy0.0020.0000.002
computeOptimal0.0020.0000.002
computePWMScore0.0020.0000.001
data0.0010.0000.001
drop0.0580.0040.063
evolve0.0010.0000.001
generateStartingPopulation0.0270.0000.027
genomicProfiles-class0.0010.0000.001
genomicProfiles0.0760.0040.080
genomicProfilesInternal-class0.0000.0000.001
getHighestFitnessSolutions0.0010.0000.001
getTestingData4.5060.0844.600
getTrainingData1.5670.0201.590
lambdaPWM0.0120.0000.012
lambdaPWM_0.0130.0000.013
loci-class0.0000.0000.001
loci1.5590.0441.607
lociWidth0.0130.0000.013
lociWidth_0.0130.0000.013
maxPWMScore0.0020.0000.002
maxSignal0.0120.0000.012
maxSignal_-0.0120.0000.011
minPWMScore0.0020.0000.003
naturalLog0.0120.0000.012
naturalLog_-0.0120.0000.013
noOfSites0.0130.0000.013
noOfSites_-0.0130.0000.012
noiseFilter0.0120.0000.012
noiseFilter_0.0120.0000.013
nos-class0.0000.0000.001
parameterOptions-class0.0010.0000.001
parameterOptions0.0140.0000.014
ploidy0.0110.0000.012
ploidy_-0.0110.0000.012
plotOccupancyProfile0.0020.0000.002
plotOptimalHeatMaps0.0020.0000.002
processingChIP1.5390.0441.587
profileAccuracyEstimate0.0020.0000.002
removeBackground0.0120.0000.012
removeBackground_-0.0120.0000.013
scores1.5530.0401.595
searchSites0.0020.0000.002
setChromatinStates2.2700.0152.291
singleRun0.0000.0010.002
splitData1.5360.0821.622
stepSize0.0120.0000.012
stepSize_-0.0110.0000.011
strandRule0.0090.0040.013
strandRule_-0.0130.0000.013
whichstrand0.0120.0000.012
whichstrand_-0.0090.0040.013