Index of /checkResults/devel/bioc-LATEST/CGHbase/raw-results

[ICO]NameLast modifiedSizeDescription

[DIR]Parent Directory  -  
[   ]info.dcf22-Oct-2021 01:05 268  
[DIR]merida1/22-Oct-2021 01:05 -  
[DIR]nebbiolo2/22-Oct-2021 01:04 -  
[DIR]riesling1/22-Oct-2021 01:04 -