Back to Multiple platform build/check report for BioC 3.19: simplified long |
|
This page was generated on 2023-12-04 11:38:52 -0500 (Mon, 04 Dec 2023).
Hostname | OS | Arch (*) | R version | Installed pkgs |
---|---|---|---|---|
nebbiolo1 | Linux (Ubuntu 22.04.2 LTS) | x86_64 | R Under development (unstable) (2023-11-11 r85510) -- "Unsuffered Consequences" | 4602 |
palomino3 | Windows Server 2022 Datacenter | x64 | R Under development (unstable) (2023-11-14 r85524 ucrt) -- "Unsuffered Consequences" | 4345 |
merida1 | macOS 12.7.1 Monterey | x86_64 | R Under development (unstable) (2023-11-11 r85510) -- "Unsuffered Consequences" | 4370 |
kunpeng2 | Linux (openEuler 22.03 LTS-SP1) | aarch64 | R Under development (unstable) (2023-11-01 r85459) -- "Unsuffered Consequences" | 4255 |
Click on any hostname to see more info about the system (e.g. compilers) (*) as reported by 'uname -p', except on Windows and Mac OS X |
Package 209/2225 | Hostname | OS / Arch | INSTALL | BUILD | CHECK | BUILD BIN | ||||||||
BioNetStat 1.23.0 (landing page) Vinicius Jardim
| nebbiolo1 | Linux (Ubuntu 22.04.2 LTS) / x86_64 | OK | OK | OK | ![]() | ||||||||
palomino3 | Windows Server 2022 Datacenter / x64 | OK | OK | OK | OK | ![]() | ||||||||
merida1 | macOS 12.7.1 Monterey / x86_64 | OK | OK | OK | OK | ![]() | ||||||||
kunpeng2 | Linux (openEuler 22.03 LTS-SP1) / aarch64 | OK | OK | OK | ||||||||||
To the developers/maintainers of the BioNetStat package: - Allow up to 24 hours (and sometimes 48 hours) for your latest push to git@git.bioconductor.org:packages/BioNetStat.git to reflect on this report. See Troubleshooting Build Report for more information. - Use the following Renviron settings to reproduce errors and warnings. - If 'R CMD check' started to fail recently on the Linux builder(s) over a missing dependency, add the missing dependency to 'Suggests:' in your DESCRIPTION file. See Renviron.bioc for more information. - See Martin Grigorov's blog post for how to debug Linux ARM64 related issues on a x86_64 host. |
Package: BioNetStat |
Version: 1.23.0 |
Command: /home/biocbuild/R/R-4.4-devel-2023.11.02/bin/R CMD check --install=check:BioNetStat.install-out.txt --library=/home/biocbuild/R/R-4.4-devel-2023.11.02/site-library --no-vignettes --timings BioNetStat_1.23.0.tar.gz |
StartedAt: 2023-12-04 03:47:25 -0000 (Mon, 04 Dec 2023) |
EndedAt: 2023-12-04 03:51:08 -0000 (Mon, 04 Dec 2023) |
EllapsedTime: 223.4 seconds |
RetCode: 0 |
Status: OK |
CheckDir: BioNetStat.Rcheck |
Warnings: 0 |
############################################################################## ############################################################################## ### ### Running command: ### ### /home/biocbuild/R/R-4.4-devel-2023.11.02/bin/R CMD check --install=check:BioNetStat.install-out.txt --library=/home/biocbuild/R/R-4.4-devel-2023.11.02/site-library --no-vignettes --timings BioNetStat_1.23.0.tar.gz ### ############################################################################## ############################################################################## * using log directory ‘/home/biocbuild/bbs-3.19-bioc/meat/BioNetStat.Rcheck’ * using R Under development (unstable) (2023-11-01 r85459) * using platform: aarch64-unknown-linux-gnu * R was compiled by gcc (GCC) 10.3.1 GNU Fortran (GCC) 10.3.1 * running under: openEuler 22.03 (LTS-SP1) * using session charset: UTF-8 * using option ‘--no-vignettes’ * checking for file ‘BioNetStat/DESCRIPTION’ ... OK * checking extension type ... Package * this is package ‘BioNetStat’ version ‘1.23.0’ * package encoding: UTF-8 * checking package namespace information ... OK * checking package dependencies ... OK * checking if this is a source package ... OK * checking if there is a namespace ... OK * checking for hidden files and directories ... OK * checking for portable file names ... OK * checking for sufficient/correct file permissions ... OK * checking whether package ‘BioNetStat’ can be installed ... OK * checking installed package size ... NOTE installed size is 5.4Mb sub-directories of 1Mb or more: extdata 1.9Mb shiny 1.9Mb * checking package directory ... OK * checking ‘build’ directory ... OK * checking DESCRIPTION meta-information ... OK * checking top-level files ... OK * checking for left-over files ... OK * checking index information ... OK * checking package subdirectories ... NOTE Found the following CITATION file in a non-standard place: CITATION Most likely ‘inst/CITATION’ should be used instead. * checking R files for non-ASCII characters ... OK * checking R files for syntax errors ... OK * checking whether the package can be loaded ... OK * checking whether the package can be loaded with stated dependencies ... OK * checking whether the package can be unloaded cleanly ... OK * checking whether the namespace can be loaded with stated dependencies ... OK * checking whether the namespace can be unloaded cleanly ... OK * checking loading without being on the library search path ... OK * checking dependencies in R code ... NOTE Namespaces in Imports field not imported from: ‘BiocParallel’ ‘RColorBrewer’ ‘RJSONIO’ ‘ggplot2’ ‘knitr’ ‘markdown’ ‘pheatmap’ ‘plyr’ ‘rmarkdown’ ‘stats’ ‘utils’ ‘whisker’ ‘yaml’ All declared Imports should be used. Packages in Depends field not imported from: ‘DT’ ‘shiny’ ‘shinyBS’ These packages need to be imported from (in the NAMESPACE file) for when this namespace is loaded but not attached. * checking S3 generic/method consistency ... OK * checking replacement functions ... OK * checking foreign function calls ... OK * checking R code for possible problems ... NOTE adjacencyMatrix : <anonymous>: no visible global function definition for ‘cor’ adjacencyMatrix : <anonymous>: no visible global function definition for ‘p.adjust’ betweennessCentralityTest: no visible global function definition for ‘bplapply’ betweennessCentralityVertexTest: no visible global function definition for ‘bplapply’ closenessCentralityTest: no visible global function definition for ‘bplapply’ closenessCentralityVertexTest: no visible global function definition for ‘bplapply’ clusteringCoefficientTest : <anonymous>: no visible global function definition for ‘dist’ clusteringCoefficientTest : <anonymous> : <anonymous>: no visible global function definition for ‘dist’ clusteringCoefficientTest: no visible global function definition for ‘bplapply’ clusteringCoefficientVertexTest: no visible global function definition for ‘bplapply’ degreeCentralityTest: no visible global function definition for ‘bplapply’ degreeCentralityVertexTest: no visible global function definition for ‘bplapply’ degreeDistributionTest: no visible global function definition for ‘bplapply’ diffNetAnalysis: no visible binding for global variable ‘expr’ diffNetAnalysis: no visible global function definition for ‘p.adjust’ doLabels: no visible global function definition for ‘read.csv’ edgeBetweennessEdgeTest: no visible global function definition for ‘bplapply’ edgeBetweennessTest: no visible global function definition for ‘bplapply’ edgesResInt : <anonymous>: no visible global function definition for ‘dist’ eigenvectorCentralityTest: no visible global function definition for ‘bplapply’ eigenvectorCentralityVertexTest: no visible global function definition for ‘bplapply’ gaussianDensity: no visible global function definition for ‘bw.nrd0’ gaussianDensity: no visible global function definition for ‘density’ pathPlot: no visible binding for global variable ‘median’ readVarFile: no visible global function definition for ‘read.table’ resInt : <anonymous>: no visible global function definition for ‘dist’ retEdgesTable: no visible global function definition for ‘p.adjust’ retTable: no visible global function definition for ‘p.adjust’ spectralDistributionTest: no visible global function definition for ‘bplapply’ spectralEntropyTest: no visible global function definition for ‘bplapply’ var.list: no visible global function definition for ‘aggregate’ Undefined global functions or variables: aggregate bplapply bw.nrd0 cor density dist expr median p.adjust read.csv read.table Consider adding importFrom("stats", "aggregate", "bw.nrd0", "cor", "density", "dist", "median", "p.adjust") importFrom("utils", "read.csv", "read.table") to your NAMESPACE file. * checking Rd files ... NOTE checkRd: (-1) centralityPathPlot.Rd:47: Escaped LaTeX specials: \# * checking Rd metadata ... OK * checking Rd cross-references ... OK * checking for missing documentation entries ... OK * checking for code/documentation mismatches ... OK * checking Rd \usage sections ... OK * checking Rd contents ... OK * checking for unstated dependencies in examples ... OK * checking contents of ‘data’ directory ... OK * checking data for non-ASCII characters ... OK * checking data for ASCII and uncompressed saves ... OK * checking files in ‘vignettes’ ... OK * checking examples ... OK Examples with CPU (user + system) or elapsed time > 5s user system elapsed centralityPathPlot 14.814 0.484 21.186 networkTest 13.982 0.096 14.089 pathPlot 13.425 0.255 13.708 * checking for unstated dependencies in vignettes ... OK * checking package vignettes in ‘inst/doc’ ... OK * checking running R code from vignettes ... SKIPPED * checking re-building of vignette outputs ... SKIPPED * checking PDF version of manual ... OK * DONE Status: 5 NOTEs See ‘/home/biocbuild/bbs-3.19-bioc/meat/BioNetStat.Rcheck/00check.log’ for details.
BioNetStat.Rcheck/00install.out
############################################################################## ############################################################################## ### ### Running command: ### ### /home/biocbuild/R/R-4.4-devel-2023.11.02/bin/R CMD INSTALL BioNetStat ### ############################################################################## ############################################################################## * installing to library ‘/home/biocbuild/R/R-4.4-devel-2023.11.02/site-library’ * installing *source* package ‘BioNetStat’ ... ** using staged installation ** R ** data ** inst ** byte-compile and prepare package for lazy loading ** help *** installing help indices ** building package indices ** installing vignettes ** testing if installed package can be loaded from temporary location ** testing if installed package can be loaded from final location ** testing if installed package keeps a record of temporary installation path * DONE (BioNetStat)
BioNetStat.Rcheck/BioNetStat-Ex.timings
name | user | system | elapsed | |
KLdegree | 0.014 | 0.000 | 0.015 | |
KLspectrum | 1.622 | 0.044 | 1.669 | |
adjacencyMatrix | 0.001 | 0.000 | 0.001 | |
centralityPathPlot | 14.814 | 0.484 | 21.186 | |
diffNetAnalysis | 1.805 | 0.024 | 1.833 | |
doLabels | 0.168 | 0.004 | 0.172 | |
edgeTest | 0.102 | 0.000 | 0.102 | |
labels | 0.000 | 0.001 | 0.001 | |
nDegreeDensities | 0.052 | 0.006 | 0.058 | |
nSpectralDensities | 0.086 | 0.000 | 0.086 | |
networkFeature | 0.098 | 0.012 | 0.110 | |
networkTest | 13.982 | 0.096 | 14.089 | |
nodeScores | 0.093 | 0.000 | 0.093 | |
nodeTest | 0.136 | 0.000 | 0.136 | |
pathPlot | 13.425 | 0.255 | 13.708 | |
readSetFile | 0.058 | 0.000 | 0.060 | |
readVarFile | 0.224 | 0.004 | 0.228 | |
runBioNetStat | 0 | 0 | 0 | |
varFile | 0.003 | 0.004 | 0.006 | |