Index of /checkResults/devel/bioc-LATEST/BioNetStat/raw-results
Name
Last modified
Size
Description
Parent Directory
-
info.dcf
27-Sep-2023 00:40
273
kunpeng2/
27-Sep-2023 00:40
-
lconway/
27-Sep-2023 00:38
-
nebbiolo2/
27-Sep-2023 00:36
-
palomino4/
27-Sep-2023 00:37
-