Back to Multiple platform build/check report for BioC 3.17: simplified long |
|
This page was generated on 2023-03-24 11:06:37 -0400 (Fri, 24 Mar 2023).
Hostname | OS | Arch (*) | R version | Installed pkgs |
---|---|---|---|---|
nebbiolo1 | Linux (Ubuntu 22.04.1 LTS) | x86_64 | R Under development (unstable) (2023-03-16 r83996) -- "Unsuffered Consequences" | 4546 |
palomino3 | Windows Server 2022 Datacenter | x64 | R Under development (unstable) (2023-03-15 r83984 ucrt) -- "Unsuffered Consequences" | 4307 |
merida1 | macOS 10.14.6 Mojave | x86_64 | R Under development (unstable) (2023-03-16 r83985) -- "Unsuffered Consequences" | 4299 |
Click on any hostname to see more info about the system (e.g. compilers) (*) as reported by 'uname -p', except on Windows and Mac OS X |
To the developers/maintainers of the BioNet package: - Please allow up to 24 hours (and sometimes 48 hours) for your latest push to git@git.bioconductor.org:packages/BioNet.git to reflect on this report. See How and When does the builder pull? When will my changes propagate? for more information. - Make sure to use the following settings in order to reproduce any error or warning you see on this page. |
Package 210/2195 | Hostname | OS / Arch | INSTALL | BUILD | CHECK | BUILD BIN | ||||||||
BioNet 1.59.0 (landing page) Marcus Dittrich
| nebbiolo1 | Linux (Ubuntu 22.04.1 LTS) / x86_64 | OK | OK | OK | ![]() | ||||||||
palomino3 | Windows Server 2022 Datacenter / x64 | OK | OK | OK | OK | ![]() | ||||||||
merida1 | macOS 10.14.6 Mojave / x86_64 | OK | OK | OK | OK | ![]() | ||||||||
Package: BioNet |
Version: 1.59.0 |
Command: rm -rf BioNet.buildbin-libdir && mkdir BioNet.buildbin-libdir && /Users/biocbuild/BBS/utils/build-universal.sh BioNet_1.59.0.tar.gz /Library/Frameworks/R.framework/Resources/bin/R BioNet.buildbin-libdir |
StartedAt: 2023-03-24 08:51:31 -0400 (Fri, 24 Mar 2023) |
EndedAt: 2023-03-24 08:52:33 -0400 (Fri, 24 Mar 2023) |
EllapsedTime: 61.3 seconds |
RetCode: 0 |
Status: OK |
PackageFile: BioNet_1.59.0.tgz |
PackageFileSize: 1.514 MiB |
############################################################################## ############################################################################## ### ### Running command: ### ### rm -rf BioNet.buildbin-libdir && mkdir BioNet.buildbin-libdir && /Users/biocbuild/BBS/utils/build-universal.sh BioNet_1.59.0.tar.gz /Library/Frameworks/R.framework/Resources/bin/R BioNet.buildbin-libdir ### ############################################################################## ############################################################################## >>>>>>> >>>>>>> INSTALLATION WITH 'R CMD INSTALL --preclean --no-multiarch --library=BioNet.buildbin-libdir BioNet_1.59.0.tar.gz' >>>>>>> * installing *source* package ‘BioNet’ ... ** using staged installation ** R ** data ** inst ** byte-compile and prepare package for lazy loading ** help *** installing help indices ** building package indices ** installing vignettes ** testing if installed package can be loaded from temporary location ** testing if installed package can be loaded from final location ** testing if installed package keeps a record of temporary installation path * DONE (BioNet)