Index of /checkResults/devel/bioc-LATEST/BioNet/raw-results
Name
Last modified
Size
Description
Parent Directory
-
info.dcf
30-Mar-2023 00:06
288
merida1/
30-Mar-2023 00:06
-
nebbiolo1/
30-Mar-2023 00:04
-
palomino3/
30-Mar-2023 00:05
-