Back to Multiple platform build/check report for BioC 3.19:   simplified   long
A[B]CDEFGHIJKLMNOPQRSTUVWXYZ

This page was generated on 2024-02-28 11:38:36 -0500 (Wed, 28 Feb 2024).

HostnameOSArch (*)R versionInstalled pkgs
nebbiolo1Linux (Ubuntu 22.04.3 LTS)x86_64R Under development (unstable) (2024-01-16 r85808) -- "Unsuffered Consequences" 4671
palomino3Windows Server 2022 Datacenterx64R Under development (unstable) (2024-01-14 r85805 ucrt) -- "Unsuffered Consequences" 4411
merida1macOS 12.7.1 Montereyx86_64R Under development (unstable) (2024-01-16 r85808) -- "Unsuffered Consequences" 4438
kunpeng2Linux (openEuler 22.03 LTS-SP1)aarch64R Under development (unstable) (2024-01-16 r85812) -- "Unsuffered Consequences" 4414
Click on any hostname to see more info about the system (e.g. compilers)      (*) as reported by 'uname -p', except on Windows and Mac OS X

Package 149/2251HostnameOS / ArchINSTALLBUILDCHECKBUILD BIN
BeadDataPackR 1.55.0  (landing page)
Mike Smith
Snapshot Date: 2024-02-26 14:39:26 -0500 (Mon, 26 Feb 2024)
git_url: https://git.bioconductor.org/packages/BeadDataPackR
git_branch: devel
git_last_commit: 2f5a97a
git_last_commit_date: 2023-10-24 09:43:35 -0500 (Tue, 24 Oct 2023)
nebbiolo1Linux (Ubuntu 22.04.3 LTS) / x86_64  OK    OK    OK  UNNEEDED, same version is already published
palomino3Windows Server 2022 Datacenter / x64  OK    OK    OK    OK  UNNEEDED, same version is already published
merida1macOS 12.7.1 Monterey / x86_64  OK    OK    OK    OK  UNNEEDED, same version is already published
kunpeng2Linux (openEuler 22.03 LTS-SP1) / aarch64  OK    OK    OK  

BUILD BIN results for BeadDataPackR on merida1


To the developers/maintainers of the BeadDataPackR package:
- Allow up to 24 hours (and sometimes 48 hours) for your latest push to git@git.bioconductor.org:packages/BeadDataPackR.git to reflect on this report. See Troubleshooting Build Report for more information.
- Use the following Renviron settings to reproduce errors and warnings.
- If 'R CMD check' started to fail recently on the Linux builder(s) over a missing dependency, add the missing dependency to 'Suggests:' in your DESCRIPTION file. See Renviron.bioc for more information.

raw results


Summary

Package: BeadDataPackR
Version: 1.55.0
Command: rm -rf BeadDataPackR.buildbin-libdir && mkdir BeadDataPackR.buildbin-libdir && /Users/biocbuild/BBS/utils/build-universal.sh BeadDataPackR_1.55.0.tar.gz /Library/Frameworks/R.framework/Resources/bin/R BeadDataPackR.buildbin-libdir
StartedAt: 2024-02-27 15:34:11 -0500 (Tue, 27 Feb 2024)
EndedAt: 2024-02-27 15:34:20 -0500 (Tue, 27 Feb 2024)
EllapsedTime: 8.7 seconds
RetCode: 0
Status:   OK  
PackageFile: BeadDataPackR_1.55.0.tgz
PackageFileSize: 284.3 KiB

Command output

##############################################################################
##############################################################################
###
### Running command:
###
###   rm -rf BeadDataPackR.buildbin-libdir && mkdir BeadDataPackR.buildbin-libdir && /Users/biocbuild/BBS/utils/build-universal.sh BeadDataPackR_1.55.0.tar.gz /Library/Frameworks/R.framework/Resources/bin/R BeadDataPackR.buildbin-libdir
###
##############################################################################
##############################################################################


>>>>>>> 
>>>>>>> INSTALLATION WITH 'R CMD INSTALL --preclean --no-multiarch --library=BeadDataPackR.buildbin-libdir BeadDataPackR_1.55.0.tar.gz'
>>>>>>> 

* installing *source* package ‘BeadDataPackR’ ...
** using staged installation
** libs
using C compiler: ‘Apple clang version 14.0.0 (clang-1400.0.29.202)’
using SDK: ‘MacOSX11.3.sdk’
clang -arch x86_64 -I"/Library/Frameworks/R.framework/Resources/include" -DNDEBUG   -I/opt/R/x86_64/include    -fPIC  -falign-functions=64 -Wall -g -O2  -c BeadDataPackR.c -o BeadDataPackR.o
clang -arch x86_64 -I"/Library/Frameworks/R.framework/Resources/include" -DNDEBUG   -I/opt/R/x86_64/include    -fPIC  -falign-functions=64 -Wall -g -O2  -c R_init_BeadDataPackR.c -o R_init_BeadDataPackR.o
clang -arch x86_64 -dynamiclib -Wl,-headerpad_max_install_names -undefined dynamic_lookup -L/Library/Frameworks/R.framework/Resources/lib -L/opt/R/x86_64/lib -o BeadDataPackR.so BeadDataPackR.o R_init_BeadDataPackR.o -F/Library/Frameworks/R.framework/.. -framework R -Wl,-framework -Wl,CoreFoundation
installing to /Users/biocbuild/bbs-3.19-bioc/meat/BeadDataPackR.buildbin-libdir/00LOCK-BeadDataPackR/00new/BeadDataPackR/libs
** R
** inst
** byte-compile and prepare package for lazy loading
** help
*** installing help indices
** building package indices
** installing vignettes
** testing if installed package can be loaded from temporary location
** checking absolute paths in shared objects and dynamic libraries
** testing if installed package can be loaded from final location
** testing if installed package keeps a record of temporary installation path
* DONE (BeadDataPackR)


>>>>>>> 
>>>>>>> FIXING PATHS TO DYNAMIC LIBRARIES FOR BeadDataPackR.buildbin-libdir/BeadDataPackR/libs/BeadDataPackR.so
>>>>>>> 

>>>>>>> Paths before fix:
BeadDataPackR.buildbin-libdir/BeadDataPackR/libs/BeadDataPackR.so:
	BeadDataPackR.so (compatibility version 0.0.0, current version 0.0.0)
	/Library/Frameworks/R.framework/Versions/4.4-x86_64/Resources/lib/libR.dylib (compatibility version 4.4.0, current version 4.4.0)
	/System/Library/Frameworks/CoreFoundation.framework/Versions/A/CoreFoundation (compatibility version 150.0.0, current version 1775.118.101)
	/usr/lib/libSystem.B.dylib (compatibility version 1.0.0, current version 1292.100.5)

>>>>>>> Fix with install_name_tool:
install_name_tool -change "/usr/local/lib/libgcc_s.1.1.dylib" "/Library/Frameworks/R.framework/Versions/4.4-x86_64/Resources/lib/libgcc_s.1.1.dylib" "BeadDataPackR.buildbin-libdir/BeadDataPackR/libs/BeadDataPackR.so"
install_name_tool -change "/usr/local/lib/libgfortran.5.dylib" "/Library/Frameworks/R.framework/Versions/4.4-x86_64/Resources/lib/libgfortran.5.dylib" "BeadDataPackR.buildbin-libdir/BeadDataPackR/libs/BeadDataPackR.so"
install_name_tool -change "/usr/local/lib/libquadmath.0.dylib" "/Library/Frameworks/R.framework/Versions/4.4-x86_64/Resources/lib/libquadmath.0.dylib" "BeadDataPackR.buildbin-libdir/BeadDataPackR/libs/BeadDataPackR.so"

>>>>>>> Paths after fix:
BeadDataPackR.buildbin-libdir/BeadDataPackR/libs/BeadDataPackR.so:
	BeadDataPackR.so (compatibility version 0.0.0, current version 0.0.0)
	/Library/Frameworks/R.framework/Versions/4.4-x86_64/Resources/lib/libR.dylib (compatibility version 4.4.0, current version 4.4.0)
	/System/Library/Frameworks/CoreFoundation.framework/Versions/A/CoreFoundation (compatibility version 150.0.0, current version 1775.118.101)
	/usr/lib/libSystem.B.dylib (compatibility version 1.0.0, current version 1292.100.5)