Back to Multiple platform build/check report for BioC 3.15
[A]BCDEFGHIJKLMNOPQRSTUVWXYZ

This page was generated on 2021-11-30 13:55:19 -0500 (Tue, 30 Nov 2021).

BUILD results for ASSIGN on merida1

To the developers/maintainers of the ASSIGN package:
- Please allow up to 24 hours (and sometimes 48 hours) for your latest push to git@git.bioconductor.org:packages/ASSIGN.git to
reflect on this report. See How and When does the builder pull? When will my changes propagate? here for more information.
- Make sure to use the following settings in order to reproduce any error or warning you see on this page.

raw results

Package 90/2068HostnameOS / ArchINSTALLBUILDCHECKBUILD BIN
ASSIGN 1.31.0  (landing page)
Ying Shen , W. Evan Johnson
Snapshot Date: 2021-11-29 14:50:17 -0500 (Mon, 29 Nov 2021)
git_url: https://git.bioconductor.org/packages/ASSIGN
git_branch: master
git_last_commit: f1c4527
git_last_commit_date: 2021-10-26 12:12:42 -0500 (Tue, 26 Oct 2021)
nebbiolo1Linux (Ubuntu 20.04.3 LTS) / x86_64  OK    OK    OK  UNNEEDED, same version is already published
riesling1Windows Server 2019 Standard / x64  OK    OK    OK    OK  
merida1macOS 10.14.6 Mojave / x86_64  OK    OK    OK    OK  UNNEEDED, same version is already published

Summary

Package: ASSIGN
Version: 1.31.0
Command: /Library/Frameworks/R.framework/Resources/bin/R CMD build --keep-empty-dirs --no-resave-data ASSIGN
StartedAt: 2021-11-29 18:45:51 -0500 (Mon, 29 Nov 2021)
EndedAt: 2021-11-29 18:46:17 -0500 (Mon, 29 Nov 2021)
EllapsedTime: 26.3 seconds
RetCode: 0
Status:   OK  
PackageFile: ASSIGN_1.31.0.tar.gz
PackageFileSize: 1.607 MiB

Command output

##############################################################################
##############################################################################
###
### Running command:
###
###   /Library/Frameworks/R.framework/Resources/bin/R CMD build --keep-empty-dirs --no-resave-data ASSIGN
###
##############################################################################
##############################################################################


* checking for file ‘ASSIGN/DESCRIPTION’ ... OK
* preparing ‘ASSIGN’:
* checking DESCRIPTION meta-information ... OK
* installing the package to build vignettes
* creating vignettes ... OK
* checking for LF line-endings in source and make files and shell scripts
* checking for empty or unneeded directories
* building ‘ASSIGN_1.31.0.tar.gz’