Back to Multiple platform build/check report for BioC 3.15
[A]BCDEFGHIJKLMNOPQRSTUVWXYZ

This page was generated on 2021-11-25 14:05:23 -0500 (Thu, 25 Nov 2021).

BUILD BIN results for ASSIGN on merida1

To the developers/maintainers of the ASSIGN package:
- Please allow up to 24 hours (and sometimes 48 hours) for your latest push to git@git.bioconductor.org:packages/ASSIGN.git to
reflect on this report. See How and When does the builder pull? When will my changes propagate? here for more information.
- Make sure to use the following settings in order to reproduce any error or warning you see on this page.

raw results

Package 90/2068HostnameOS / ArchINSTALLBUILDCHECKBUILD BIN
ASSIGN 1.31.0  (landing page)
Ying Shen , W. Evan Johnson
Snapshot Date: 2021-11-24 14:50:13 -0500 (Wed, 24 Nov 2021)
git_url: https://git.bioconductor.org/packages/ASSIGN
git_branch: master
git_last_commit: f1c4527
git_last_commit_date: 2021-10-26 12:12:42 -0500 (Tue, 26 Oct 2021)
nebbiolo1Linux (Ubuntu 20.04.3 LTS) / x86_64  OK    OK    OK  UNNEEDED, same version is already published
riesling1Windows Server 2019 Standard / x64  OK    OK    OK    OK  
merida1macOS 10.14.6 Mojave / x86_64  OK    OK    OK    OK  UNNEEDED, same version is already published

Summary

Package: ASSIGN
Version: 1.31.0
Command: rm -rf ASSIGN.buildbin-libdir && mkdir ASSIGN.buildbin-libdir && /Users/biocbuild/BBS/utils/build-universal.sh ASSIGN_1.31.0.tar.gz /Library/Frameworks/R.framework/Resources/bin/R ASSIGN.buildbin-libdir
StartedAt: 2021-11-25 09:42:41 -0500 (Thu, 25 Nov 2021)
EndedAt: 2021-11-25 09:43:46 -0500 (Thu, 25 Nov 2021)
EllapsedTime: 65.0 seconds
RetCode: 0
Status:   OK  
PackageFile: ASSIGN_1.31.0.tgz
PackageFileSize: 1.66 MiB

Command output

##############################################################################
##############################################################################
###
### Running command:
###
###   rm -rf ASSIGN.buildbin-libdir && mkdir ASSIGN.buildbin-libdir && /Users/biocbuild/BBS/utils/build-universal.sh ASSIGN_1.31.0.tar.gz /Library/Frameworks/R.framework/Resources/bin/R ASSIGN.buildbin-libdir
###
##############################################################################
##############################################################################


>>>>>>> 
>>>>>>> INSTALLATION WITH 'R CMD INSTALL --preclean --no-multiarch --library=ASSIGN.buildbin-libdir ASSIGN_1.31.0.tar.gz'
>>>>>>> 

* installing *source* package ‘ASSIGN’ ...
** using staged installation
** R
** data
*** moving datasets to lazyload DB
** inst
** byte-compile and prepare package for lazy loading
** help
*** installing help indices
** building package indices
** installing vignettes
** testing if installed package can be loaded from temporary location
** testing if installed package can be loaded from final location
** testing if installed package keeps a record of temporary installation path
* DONE (ASSIGN)