Back to Multiple platform build/check report for BioC 3.17:   simplified   long
[A]BCDEFGHIJKLMNOPQRSTUVWXYZ

This page was generated on 2023-03-22 11:06:27 -0400 (Wed, 22 Mar 2023).

HostnameOSArch (*)R versionInstalled pkgs
nebbiolo1Linux (Ubuntu 22.04.1 LTS)x86_64R Under development (unstable) (2023-03-16 r83996) -- "Unsuffered Consequences" 4508
palomino3Windows Server 2022 Datacenterx64R Under development (unstable) (2023-03-15 r83984 ucrt) -- "Unsuffered Consequences" 4293
merida1macOS 10.14.6 Mojavex86_64R Under development (unstable) (2023-03-16 r83985) -- "Unsuffered Consequences" 4290
Click on any hostname to see more info about the system (e.g. compilers)      (*) as reported by 'uname -p', except on Windows and Mac OS X

BUILD results for ANCOMBC on merida1


To the developers/maintainers of the ANCOMBC package:
- Please allow up to 24 hours (and sometimes 48 hours) for your latest push to git@git.bioconductor.org:packages/ANCOMBC.git to
reflect on this report. See How and When does the builder pull? When will my changes propagate? for more information.
- Make sure to use the following settings in order to reproduce any error or warning you see on this page.

raw results

Package 60/2189HostnameOS / ArchINSTALLBUILDCHECKBUILD BIN
ANCOMBC 2.1.2  (landing page)
Huang Lin
Snapshot Date: 2023-03-21 14:00:22 -0400 (Tue, 21 Mar 2023)
git_url: https://git.bioconductor.org/packages/ANCOMBC
git_branch: master
git_last_commit: 57657ff
git_last_commit_date: 2022-12-17 17:21:12 -0400 (Sat, 17 Dec 2022)
nebbiolo1Linux (Ubuntu 22.04.1 LTS) / x86_64  OK    OK    OK  UNNEEDED, same version is already published
palomino3Windows Server 2022 Datacenter / x64  OK    OK    OK    OK  UNNEEDED, same version is already published
merida1macOS 10.14.6 Mojave / x86_64  OK    TIMEOUT  skippedskipped

Summary

Package: ANCOMBC
Version: 2.1.2
Command: /Library/Frameworks/R.framework/Resources/bin/R CMD build --keep-empty-dirs --no-resave-data ANCOMBC
StartedAt: 2023-03-21 16:38:12 -0400 (Tue, 21 Mar 2023)
EndedAt: 2023-03-21 17:18:12 -0400 (Tue, 21 Mar 2023)
EllapsedTime: 2400.8 seconds
RetCode: None
Status:   TIMEOUT  
PackageFile: None
PackageFileSize: NA

Command output

##############################################################################
##############################################################################
###
### Running command:
###
###   /Library/Frameworks/R.framework/Resources/bin/R CMD build --keep-empty-dirs --no-resave-data ANCOMBC
###
##############################################################################
##############################################################################


* checking for file ‘ANCOMBC/DESCRIPTION’ ... OK
* preparing ‘ANCOMBC’:
* checking DESCRIPTION meta-information ... OK
* installing the package to process help pages
Loading required namespace: ANCOMBC
* saving partial Rd database
* creating vignettes ...