Index of /checkResults/devel/bioc-LATEST/ANCOMBC/raw-results
Name
Last modified
Size
Description
Parent Directory
-
info.dcf
28-May-2023 00:06
267
lconway/
28-May-2023 00:06
-
nebbiolo2/
28-May-2023 00:05
-
palomino4/
28-May-2023 00:05
-