Index of /checkResults/devel/bioc-LATEST/ALDEx2/raw-results

[ICO]NameLast modifiedSizeDescription

[DIR]Parent Directory  -  
[   ]info.dcf15-May-2022 00:07 254  
[DIR]lconway/15-May-2022 00:07 -  
[DIR]nebbiolo2/15-May-2022 00:04 -  
[DIR]palomino4/15-May-2022 00:06 -