Index of /checkResults/3.17/bioc-LATEST/MADSEQ/raw-results
Name
Last modified
Size
Description
Parent Directory
-
info.dcf
03-Jun-2023 00:07
271
merida1/
03-Jun-2023 00:07
-
nebbiolo1/
03-Jun-2023 00:05
-
palomino3/
03-Jun-2023 00:06
-