Back to Multiple platform build/check report for BioC 3.15
ABCDEFGHIJKLMNOPQR[S]TUVWXYZ

This page was generated on 2022-06-24 12:05:25 -0400 (Fri, 24 Jun 2022).

HostnameOSArch (*)R versionInstalled pkgs
nebbiolo1Linux (Ubuntu 20.04.4 LTS)x86_644.2.0 (2022-04-22) -- "Vigorous Calisthenics" 4380
palomino3Windows Server 2022 Datacenterx644.2.0 (2022-04-22 ucrt) -- "Vigorous Calisthenics" 4156
merida1macOS 10.14.6 Mojavex86_644.2.0 (2022-04-22) -- "Vigorous Calisthenics" 4221
Click on any hostname to see more info about the system (e.g. compilers)      (*) as reported by 'uname -p', except on Windows and Mac OS X

CHECK results for skewr on nebbiolo1


To the developers/maintainers of the skewr package:
- Please allow up to 24 hours (and sometimes 48 hours) for your latest push to git@git.bioconductor.org:packages/skewr.git to
reflect on this report. See How and When does the builder pull? When will my changes propagate? for more information.
- Make sure to use the following settings in order to reproduce any error or warning you see on this page.

raw results

Package 1864/2140HostnameOS / ArchINSTALLBUILDCHECKBUILD BIN
skewr 1.28.0  (landing page)
Ryan Putney
Snapshot Date: 2022-06-23 13:55:15 -0400 (Thu, 23 Jun 2022)
git_url: https://git.bioconductor.org/packages/skewr
git_branch: RELEASE_3_15
git_last_commit: fd2672c
git_last_commit_date: 2022-04-26 11:23:56 -0400 (Tue, 26 Apr 2022)
nebbiolo1Linux (Ubuntu 20.04.4 LTS) / x86_64  OK    OK    OK  UNNEEDED, same version is already published
palomino3Windows Server 2022 Datacenter / x64  OK    OK    OK    OK  UNNEEDED, same version is already published
merida1macOS 10.14.6 Mojave / x86_64  OK    OK    OK    NA  

Summary

Package: skewr
Version: 1.28.0
Command: /home/biocbuild/bbs-3.15-bioc/R/bin/R CMD check --install=check:skewr.install-out.txt --library=/home/biocbuild/bbs-3.15-bioc/R/library --no-vignettes --timings skewr_1.28.0.tar.gz
StartedAt: 2022-06-23 22:05:05 -0400 (Thu, 23 Jun 2022)
EndedAt: 2022-06-23 22:10:15 -0400 (Thu, 23 Jun 2022)
EllapsedTime: 309.4 seconds
RetCode: 0
Status:   OK  
CheckDir: skewr.Rcheck
Warnings: 0

Command output

##############################################################################
##############################################################################
###
### Running command:
###
###   /home/biocbuild/bbs-3.15-bioc/R/bin/R CMD check --install=check:skewr.install-out.txt --library=/home/biocbuild/bbs-3.15-bioc/R/library --no-vignettes --timings skewr_1.28.0.tar.gz
###
##############################################################################
##############################################################################


* using log directory ‘/home/biocbuild/bbs-3.15-bioc/meat/skewr.Rcheck’
* using R version 4.2.0 (2022-04-22)
* using platform: x86_64-pc-linux-gnu (64-bit)
* using session charset: UTF-8
* using option ‘--no-vignettes’
* checking for file ‘skewr/DESCRIPTION’ ... OK
* this is package ‘skewr’ version ‘1.28.0’
* checking package namespace information ... OK
* checking package dependencies ... OK
* checking if this is a source package ... OK
* checking if there is a namespace ... OK
* checking for hidden files and directories ... OK
* checking for portable file names ... OK
* checking for sufficient/correct file permissions ... OK
* checking whether package ‘skewr’ can be installed ... OK
* checking installed package size ... OK
* checking package directory ... OK
* checking ‘build’ directory ... OK
* checking DESCRIPTION meta-information ... OK
* checking top-level files ... OK
* checking for left-over files ... OK
* checking index information ... OK
* checking package subdirectories ... OK
* checking R files for non-ASCII characters ... OK
* checking R files for syntax errors ... OK
* checking whether the package can be loaded ... OK
* checking whether the package can be loaded with stated dependencies ... OK
* checking whether the package can be unloaded cleanly ... OK
* checking whether the namespace can be loaded with stated dependencies ... OK
* checking whether the namespace can be unloaded cleanly ... OK
* checking dependencies in R code ... OK
* checking S3 generic/method consistency ... OK
* checking replacement functions ... OK
* checking foreign function calls ... OK
* checking R code for possible problems ... NOTE
dSN: no visible global function definition for ‘dnorm’
dSN: no visible global function definition for ‘pnorm’
panelPlots: no visible global function definition for ‘data’
panelPlots : finishPlot: no visible global function definition for
  ‘mtext’
panelPlots : finishPlot: no visible global function definition for
  ‘par’
panelPlots: no visible global function definition for ‘par’
panelPlots: no visible global function definition for ‘density’
panelPlots: no visible global function definition for ‘axis’
panelPlots: no visible global function definition for ‘lines’
panelPlots: no visible global function definition for ‘segments’
panelPlots: no visible global function definition for ‘mtext’
plotComponents: no visible global function definition for ‘hist’
plotComponents: no visible global function definition for ‘lines’
plotComponents: no visible global function definition for ‘segments’
plotComponents: no visible global function definition for ‘density’
subsetProbes: no visible global function definition for ‘data’
subsetProbes: no visible binding for global variable
  ‘IlluminaHumanMethylation450kmanifest’
subsetProbes: no visible binding for global variable ‘Color’
Undefined global functions or variables:
  Color IlluminaHumanMethylation450kmanifest axis data density dnorm
  hist lines mtext par pnorm segments
Consider adding
  importFrom("graphics", "axis", "hist", "lines", "mtext", "par",
             "segments")
  importFrom("stats", "density", "dnorm", "pnorm")
  importFrom("utils", "data")
to your NAMESPACE file.
* checking Rd files ... OK
* checking Rd metadata ... OK
* checking Rd cross-references ... OK
* checking for missing documentation entries ... OK
* checking for code/documentation mismatches ... OK
* checking Rd \usage sections ... OK
* checking Rd contents ... OK
* checking for unstated dependencies in examples ... OK
* checking files in ‘vignettes’ ... OK
* checking examples ... OK
Examples with CPU (user + system) or elapsed time > 5s
              user system elapsed
subsetProbes 5.742  0.272   6.016
* checking for unstated dependencies in vignettes ... OK
* checking package vignettes in ‘inst/doc’ ... OK
* checking running R code from vignettes ... SKIPPED
* checking re-building of vignette outputs ... SKIPPED
* checking PDF version of manual ... OK
* DONE

Status: 1 NOTE
See
  ‘/home/biocbuild/bbs-3.15-bioc/meat/skewr.Rcheck/00check.log’
for details.



Installation output

skewr.Rcheck/00install.out

##############################################################################
##############################################################################
###
### Running command:
###
###   /home/biocbuild/bbs-3.15-bioc/R/bin/R CMD INSTALL skewr
###
##############################################################################
##############################################################################


* installing to library ‘/home/biocbuild/bbs-3.15-bioc/R/library’
* installing *source* package ‘skewr’ ...
** using staged installation
** R
** byte-compile and prepare package for lazy loading
No methods found in package ‘RSQLite’ for request: ‘dbListFields’ when loading ‘lumi’
** help
*** installing help indices
** building package indices
** installing vignettes
** testing if installed package can be loaded from temporary location
No methods found in package ‘RSQLite’ for request: ‘dbListFields’ when loading ‘lumi’
** testing if installed package can be loaded from final location
No methods found in package ‘RSQLite’ for request: ‘dbListFields’ when loading ‘lumi’
** testing if installed package keeps a record of temporary installation path
* DONE (skewr)

Tests output


Example timings

skewr.Rcheck/skewr-Ex.timings

nameusersystemelapsed
getBarcodes0.0220.0000.022
getMethyLumiSet000
getSNparams000
panelPlots000
preprocess0.0010.0000.000
subsetProbes5.7420.2726.016