Back to Multiple platform build/check report for BioC 3.15
ABCDEFG[H]IJKLMNOPQRSTUVWXYZ

This page was generated on 2022-05-23 12:05:20 -0400 (Mon, 23 May 2022).

HostnameOSArch (*)R versionInstalled pkgs
nebbiolo1Linux (Ubuntu 20.04.4 LTS)x86_644.2.0 (2022-04-22) -- "Vigorous Calisthenics" 4380
palomino3Windows Server 2022 Datacenterx644.2.0 (2022-04-22 ucrt) -- "Vigorous Calisthenics" 4155
merida1macOS 10.14.6 Mojavex86_644.2.0 (2022-04-22) -- "Vigorous Calisthenics" 4221
Click on any hostname to see more info about the system (e.g. compilers)      (*) as reported by 'uname -p', except on Windows and Mac OS X

CHECK results for HilbertVis on nebbiolo1


To the developers/maintainers of the HilbertVis package:
- Please allow up to 24 hours (and sometimes 48 hours) for your latest push to git@git.bioconductor.org:packages/HilbertVis.git to
reflect on this report. See How and When does the builder pull? When will my changes propagate? for more information.
- Make sure to use the following settings in order to reproduce any error or warning you see on this page.

raw results

Package 897/2140HostnameOS / ArchINSTALLBUILDCHECKBUILD BIN
HilbertVis 1.54.0  (landing page)
Simon Anders
Snapshot Date: 2022-05-22 13:55:15 -0400 (Sun, 22 May 2022)
git_url: https://git.bioconductor.org/packages/HilbertVis
git_branch: RELEASE_3_15
git_last_commit: a901481
git_last_commit_date: 2022-04-26 11:02:16 -0400 (Tue, 26 Apr 2022)
nebbiolo1Linux (Ubuntu 20.04.4 LTS) / x86_64  OK    OK    OK  UNNEEDED, same version is already published
palomino3Windows Server 2022 Datacenter / x64  OK    OK    OK    OK  UNNEEDED, same version is already published
merida1macOS 10.14.6 Mojave / x86_64  OK    OK    WARNINGS    OK  UNNEEDED, same version is already published

Summary

Package: HilbertVis
Version: 1.54.0
Command: /home/biocbuild/bbs-3.15-bioc/R/bin/R CMD check --install=check:HilbertVis.install-out.txt --library=/home/biocbuild/bbs-3.15-bioc/R/library --no-vignettes --timings HilbertVis_1.54.0.tar.gz
StartedAt: 2022-05-22 19:56:05 -0400 (Sun, 22 May 2022)
EndedAt: 2022-05-22 19:56:19 -0400 (Sun, 22 May 2022)
EllapsedTime: 14.0 seconds
RetCode: 0
Status:   OK  
CheckDir: HilbertVis.Rcheck
Warnings: 0

Command output

##############################################################################
##############################################################################
###
### Running command:
###
###   /home/biocbuild/bbs-3.15-bioc/R/bin/R CMD check --install=check:HilbertVis.install-out.txt --library=/home/biocbuild/bbs-3.15-bioc/R/library --no-vignettes --timings HilbertVis_1.54.0.tar.gz
###
##############################################################################
##############################################################################


* using log directory ‘/home/biocbuild/bbs-3.15-bioc/meat/HilbertVis.Rcheck’
* using R version 4.2.0 (2022-04-22)
* using platform: x86_64-pc-linux-gnu (64-bit)
* using session charset: UTF-8
* using option ‘--no-vignettes’
* checking for file ‘HilbertVis/DESCRIPTION’ ... OK
* this is package ‘HilbertVis’ version ‘1.54.0’
* checking package namespace information ... OK
* checking package dependencies ...Warning: unable to access index for repository https://CRAN.R-project.org/src/contrib:
  cannot open URL 'https://CRAN.R-project.org/src/contrib/PACKAGES'
 OK
* checking if this is a source package ... OK
* checking if there is a namespace ... OK
* checking for hidden files and directories ... OK
* checking for portable file names ... OK
* checking for sufficient/correct file permissions ... OK
* checking whether package ‘HilbertVis’ can be installed ... OK
* checking installed package size ... OK
* checking package directory ... OK
* checking ‘build’ directory ... OK
* checking DESCRIPTION meta-information ... NOTE
Malformed Description field: should contain one or more complete sentences.
* checking top-level files ... OK
* checking for left-over files ... OK
* checking index information ... OK
* checking package subdirectories ... OK
* checking R files for non-ASCII characters ... OK
* checking R files for syntax errors ... OK
* checking whether the package can be loaded ... OK
* checking whether the package can be loaded with stated dependencies ... OK
* checking whether the package can be unloaded cleanly ... OK
* checking whether the namespace can be loaded with stated dependencies ... OK
* checking whether the namespace can be unloaded cleanly ... OK
* checking dependencies in R code ... NOTE
'library' or 'require' call to ‘EBImage’ in package code.
  Please use :: or requireNamespace() instead.
  See section 'Suggested packages' in the 'Writing R Extensions' manual.
* checking S3 generic/method consistency ... OK
* checking replacement functions ... OK
* checking foreign function calls ... OK
* checking R code for possible problems ... NOTE
makeRandomTestData: no visible global function definition for ‘runif’
makeRandomTestData: no visible global function definition for ‘rgamma’
makeRandomTestData: no visible global function definition for ‘dnorm’
makeRandomTestData: no visible global function definition for ‘rpois’
plotLongVector: no visible global function definition for ‘segments’
showHilbertImage: no visible global function definition for
  ‘colorRampPalette’
showHilbertImage: no visible global function definition for ‘col2rgb’
showHilbertImage: no visible global function definition for ‘flip’
showHilbertImage: no visible global function definition for ‘rgbImage’
showHilbertImage: no visible global function definition for ‘Image’
showHilbertImage: no visible global function definition for ‘display’
shrinkRleVector: no visible global function definition for ‘aggregate’
shrinkVector: no visible global function definition for ‘is’
Undefined global functions or variables:
  Image aggregate col2rgb colorRampPalette display dnorm flip is rgamma
  rgbImage rpois runif segments
Consider adding
  importFrom("grDevices", "col2rgb", "colorRampPalette")
  importFrom("graphics", "segments")
  importFrom("methods", "is")
  importFrom("stats", "aggregate", "dnorm", "rgamma", "rpois", "runif")
to your NAMESPACE file (and ensure that your DESCRIPTION Imports field
contains 'methods').
* checking Rd files ... OK
* checking Rd metadata ... OK
* checking Rd cross-references ... OK
* checking for missing documentation entries ... OK
* checking for code/documentation mismatches ... OK
* checking Rd \usage sections ... OK
* checking Rd contents ... OK
* checking for unstated dependencies in examples ... OK
* checking line endings in C/C++/Fortran sources/headers ... OK
* checking line endings in Makefiles ... OK
* checking for GNU extensions in Makefiles ... OK
* checking include directives in Makefiles ... OK
* checking compiled code ... NOTE
Note: information on .o files is not available
* checking files in ‘vignettes’ ... OK
* checking examples ... OK
* checking for unstated dependencies in vignettes ... OK
* checking package vignettes in ‘inst/doc’ ... OK
* checking running R code from vignettes ... SKIPPED
* checking re-building of vignette outputs ... SKIPPED
* checking PDF version of manual ... OK
* DONE

Status: 4 NOTEs
See
  ‘/home/biocbuild/bbs-3.15-bioc/meat/HilbertVis.Rcheck/00check.log’
for details.



Installation output

HilbertVis.Rcheck/00install.out

##############################################################################
##############################################################################
###
### Running command:
###
###   /home/biocbuild/bbs-3.15-bioc/R/bin/R CMD INSTALL HilbertVis
###
##############################################################################
##############################################################################


* installing to library ‘/home/biocbuild/bbs-3.15-bioc/R/library’
* installing *source* package ‘HilbertVis’ ...
** using staged installation
** libs
gcc -I"/home/biocbuild/bbs-3.15-bioc/R/include" -DNDEBUG   -I/usr/local/include   -fpic  -g -O2  -Wall -c hilbert.c -o hilbert.o
gcc -I"/home/biocbuild/bbs-3.15-bioc/R/include" -DNDEBUG   -I/usr/local/include   -fpic  -g -O2  -Wall -c make_wiggle_vector.c -o make_wiggle_vector.o
gcc -I"/home/biocbuild/bbs-3.15-bioc/R/include" -DNDEBUG   -I/usr/local/include   -fpic  -g -O2  -Wall -c shrink_vector.c -o shrink_vector.o
gcc -shared -L/home/biocbuild/bbs-3.15-bioc/R/lib -L/usr/local/lib -o HilbertVis.so hilbert.o make_wiggle_vector.o shrink_vector.o -L/home/biocbuild/bbs-3.15-bioc/R/lib -lR
installing to /home/biocbuild/bbs-3.15-bioc/R/library/00LOCK-HilbertVis/00new/HilbertVis/libs
** R
** inst
** byte-compile and prepare package for lazy loading
** help
*** installing help indices
** building package indices
** installing vignettes
** testing if installed package can be loaded from temporary location
** checking absolute paths in shared objects and dynamic libraries
** testing if installed package can be loaded from final location
** testing if installed package keeps a record of temporary installation path
* DONE (HilbertVis)

Tests output


Example timings

HilbertVis.Rcheck/HilbertVis-Ex.timings

nameusersystemelapsed
hilbertCurve0.0030.0070.011
hilbertImage1.8520.0881.942
makeRandomTestData000
makeWiggleVector0.0060.0000.006
plotHilbertCurve0.1770.0080.185
plotLongVector0.1320.0110.145
showHilbertImage000
shrinkVector0.0010.0010.000