Back to Multiple platform build/check report for BioC 3.15
ABCDEFG[H]IJKLMNOPQRSTUVWXYZ

This page was generated on 2022-05-25 12:08:08 -0400 (Wed, 25 May 2022).

HostnameOSArch (*)R versionInstalled pkgs
nebbiolo1Linux (Ubuntu 20.04.4 LTS)x86_644.2.0 (2022-04-22) -- "Vigorous Calisthenics" 4380
palomino3Windows Server 2022 Datacenterx644.2.0 (2022-04-22 ucrt) -- "Vigorous Calisthenics" 4155
merida1macOS 10.14.6 Mojavex86_644.2.0 (2022-04-22) -- "Vigorous Calisthenics" 4221
Click on any hostname to see more info about the system (e.g. compilers)      (*) as reported by 'uname -p', except on Windows and Mac OS X

INSTALL results for HilbertVis on merida1


To the developers/maintainers of the HilbertVis package:
- Please allow up to 24 hours (and sometimes 48 hours) for your latest push to git@git.bioconductor.org:packages/HilbertVis.git to
reflect on this report. See How and When does the builder pull? When will my changes propagate? for more information.
- Make sure to use the following settings in order to reproduce any error or warning you see on this page.

raw results

Package 897/2140HostnameOS / ArchINSTALLBUILDCHECKBUILD BIN
HilbertVis 1.54.0  (landing page)
Simon Anders
Snapshot Date: 2022-05-24 13:55:11 -0400 (Tue, 24 May 2022)
git_url: https://git.bioconductor.org/packages/HilbertVis
git_branch: RELEASE_3_15
git_last_commit: a901481
git_last_commit_date: 2022-04-26 11:02:16 -0400 (Tue, 26 Apr 2022)
nebbiolo1Linux (Ubuntu 20.04.4 LTS) / x86_64  OK    OK    OK  UNNEEDED, same version is already published
palomino3Windows Server 2022 Datacenter / x64  OK    OK    OK    OK  UNNEEDED, same version is already published
merida1macOS 10.14.6 Mojave / x86_64  OK    OK    WARNINGS    OK  UNNEEDED, same version is already published

Summary

Package: HilbertVis
Version: 1.54.0
Command: /Library/Frameworks/R.framework/Resources/bin/R CMD INSTALL HilbertVis
StartedAt: 2022-05-24 15:05:18 -0400 (Tue, 24 May 2022)
EndedAt: 2022-05-24 15:05:31 -0400 (Tue, 24 May 2022)
EllapsedTime: 12.5 seconds
RetCode: 0
Status:   OK  

Command output

##############################################################################
##############################################################################
###
### Running command:
###
###   /Library/Frameworks/R.framework/Resources/bin/R CMD INSTALL HilbertVis
###
##############################################################################
##############################################################################


* installing to library ‘/Library/Frameworks/R.framework/Versions/4.2/Resources/library’
* installing *source* package ‘HilbertVis’ ...
** using staged installation
** libs
clang -mmacosx-version-min=10.13 -I"/Library/Frameworks/R.framework/Resources/include" -DNDEBUG   -I/usr/local/include   -fPIC  -Wall -g -O2  -c hilbert.c -o hilbert.o
clang -mmacosx-version-min=10.13 -I"/Library/Frameworks/R.framework/Resources/include" -DNDEBUG   -I/usr/local/include   -fPIC  -Wall -g -O2  -c make_wiggle_vector.c -o make_wiggle_vector.o
clang -mmacosx-version-min=10.13 -I"/Library/Frameworks/R.framework/Resources/include" -DNDEBUG   -I/usr/local/include   -fPIC  -Wall -g -O2  -c shrink_vector.c -o shrink_vector.o
shrink_vector.c:76:20: warning: using integer absolute value function 'abs' when argument is of floating point type [-Wabsolute-value]
               if( abs( REAL( vector )[ j ] ) > abs( val ) )
                   ^
shrink_vector.c:76:20: note: use function 'fabs' instead
               if( abs( REAL( vector )[ j ] ) > abs( val ) )
                   ^~~
                   fabs
shrink_vector.c:76:49: warning: using integer absolute value function 'abs' when argument is of floating point type [-Wabsolute-value]
               if( abs( REAL( vector )[ j ] ) > abs( val ) )
                                                ^
shrink_vector.c:76:49: note: use function 'fabs' instead
               if( abs( REAL( vector )[ j ] ) > abs( val ) )
                                                ^~~
                                                fabs
2 warnings generated.
clang -mmacosx-version-min=10.13 -dynamiclib -Wl,-headerpad_max_install_names -undefined dynamic_lookup -single_module -multiply_defined suppress -L/Library/Frameworks/R.framework/Resources/lib -L/usr/local/lib -o HilbertVis.so hilbert.o make_wiggle_vector.o shrink_vector.o -F/Library/Frameworks/R.framework/.. -framework R -Wl,-framework -Wl,CoreFoundation
installing to /Library/Frameworks/R.framework/Versions/4.2/Resources/library/00LOCK-HilbertVis/00new/HilbertVis/libs
** R
** inst
** byte-compile and prepare package for lazy loading
** help
*** installing help indices
** building package indices
** installing vignettes
** testing if installed package can be loaded from temporary location
** checking absolute paths in shared objects and dynamic libraries
** testing if installed package can be loaded from final location
** testing if installed package keeps a record of temporary installation path
* DONE (HilbertVis)