Index of /checkResults/3.15/bioc-LATEST/HilbertVis/raw-results

[ICO]NameLast modifiedSizeDescription

[DIR]Parent Directory  -  
[   ]info.dcf24-May-2022 01:07 274  
[DIR]merida1/24-May-2022 01:07 -  
[DIR]nebbiolo1/24-May-2022 01:05 -  
[DIR]palomino3/24-May-2022 01:06 -  
[DIR]riesling1/19-Mar-2022 00:07 -