Back to Workflows build report for BioC 3.16

This page was generated on 2023-02-03 14:00:08 -0500 (Fri, 03 Feb 2023).

HostnameOSArch (*)R versionInstalled pkgs
nebbiolo2Linux (Ubuntu 20.04.5 LTS)x86_644.2.2 (2022-10-31) -- "Innocent and Trusting" 4511
palomino4Windows Server 2022 Datacenterx644.2.2 (2022-10-31 ucrt) -- "Innocent and Trusting" 4289
lconwaymacOS 12.5.1 Montereyx86_644.2.2 (2022-10-31) -- "Innocent and Trusting" 4318
Click on any hostname to see more info about the system (e.g. compilers)      (*) as reported by 'uname -p', except on Windows and Mac OS X

BUILD results for methylationArrayAnalysis on lconway


To the developers/maintainers of the methylationArrayAnalysis package:
Make sure to use the following settings in order to reproduce any error or warning you see on this page.

raw results

Package 18/28HostnameOS / ArchINSTALLBUILD
methylationArrayAnalysis 1.22.0  (landing page)
Jovana Maksimovic
Snapshot Date: 2023-02-03 10:45:01 -0500 (Fri, 03 Feb 2023)
git_url: https://git.bioconductor.org/packages/methylationArrayAnalysis
git_branch: RELEASE_3_16
git_last_commit: 9d640a2
git_last_commit_date: 2022-11-01 10:33:54 -0500 (Tue, 01 Nov 2022)
nebbiolo2Linux (Ubuntu 20.04.5 LTS) / x86_64  OK    OK  UNNEEDED, same version is already published
palomino4Windows Server 2022 Datacenter / x64  OK    OK  
lconwaymacOS 12.5.1 Monterey / x86_64  OK    OK  

Summary

Package: methylationArrayAnalysis
Version: 1.22.0
Command: /Library/Frameworks/R.framework/Resources/bin/R CMD build --keep-empty-dirs --no-resave-data methylationArrayAnalysis
StartedAt: 2023-02-03 11:03:01 -0500 (Fri, 03 Feb 2023)
EndedAt: 2023-02-03 11:13:02 -0500 (Fri, 03 Feb 2023)
EllapsedTime: 600.4 seconds
RetCode: 0
Status:   OK  
PackageFile: methylationArrayAnalysis_1.22.0.tar.gz
PackageFileSize: 218.2 MiB

Command output

##############################################################################
##############################################################################
###
### Running command:
###
###   /Library/Frameworks/R.framework/Resources/bin/R CMD build --keep-empty-dirs --no-resave-data methylationArrayAnalysis
###
##############################################################################
##############################################################################


* checking for file ‘methylationArrayAnalysis/DESCRIPTION’ ... OK
* preparing ‘methylationArrayAnalysis’:
* checking DESCRIPTION meta-information ... OK
* installing the package to build vignettes
* creating vignettes ... OK
* checking for LF line-endings in source and make files and shell scripts
* checking for empty or unneeded directories
Omitted ‘LazyData’ from DESCRIPTION
* creating default NAMESPACE file
* building ‘methylationArrayAnalysis_1.22.0.tar.gz’