Index of /checkResults/release/workflows-LATEST/methylationArrayAnalysis/raw-results

[ICO]NameLast modifiedSizeDescription

[DIR]Parent Directory  -  
[   ]info.dcf24-Feb-2024 04:00 319  
[DIR]lconway/24-Feb-2024 04:00 -  
[DIR]nebbiolo2/24-Feb-2024 04:00 -  
[DIR]palomino4/24-Feb-2024 04:00 -