Back to Multiple platform build/check report for BioC 3.15
ABCDEFGH[I]JKLMNOPQRSTUVWXYZ

This page was generated on 2022-05-16 11:04:13 -0400 (Mon, 16 May 2022).

HostnameOSArch (*)R versionInstalled pkgs
nebbiolo1Linux (Ubuntu 20.04.4 LTS)x86_644.2.0 (2022-04-22) -- "Vigorous Calisthenics" 4379
palomino3Windows Server 2022 Datacenterx644.2.0 (2022-04-22 ucrt) -- "Vigorous Calisthenics" 4153
merida1macOS 10.14.6 Mojavex86_644.2.0 (2022-04-22) -- "Vigorous Calisthenics" 4220
Click on any hostname to see more info about the system (e.g. compilers)      (*) as reported by 'uname -p', except on Windows and Mac OS X

All results for package impute


To the developers/maintainers of the impute package:
- Please allow up to 24 hours (and sometimes 48 hours) for your latest push to git@git.bioconductor.org:packages/impute.git to
reflect on this report. See How and When does the builder pull? When will my changes propagate? for more information.
- Make sure to use the following settings in order to reproduce any error or warning you see on this page.

raw results

Package 954/2140HostnameOS / ArchINSTALLBUILDCHECKBUILD BIN
impute 1.70.0  (landing page)
Balasubramanian Narasimhan
Snapshot Date: 2022-05-15 13:55:12 -0400 (Sun, 15 May 2022)
git_url: https://git.bioconductor.org/packages/impute
git_branch: RELEASE_3_15
git_last_commit: 970b2c2
git_last_commit_date: 2022-04-26 10:55:33 -0400 (Tue, 26 Apr 2022)
nebbiolo1Linux (Ubuntu 20.04.4 LTS) / x86_64  OK    OK    OK  UNNEEDED, same version is already published
palomino3Windows Server 2022 Datacenter / x64  OK    OK    OK    OK  UNNEEDED, same version is already published
merida1macOS 10.14.6 Mojave / x86_64  OK    OK    OK    OK  UNNEEDED, same version is already published

Results for Bioconductor software packages that depend directly on package impute

QUICK STATSOS / ArchINSTALLBUILDCHECKBUILD BIN
nebbiolo1Linux (Ubuntu 20.04.4 LTS) / x86_64
0031
0130
00723
palomino3Windows Server 2022 Datacenter / x64
0030
0129
00722
0029
merida1macOS 10.14.6 Mojave / x86_64
0031
0130
00723
0028
Package 1/31HostnameOS / ArchINSTALLBUILDCHECKBUILD BIN
AMARETTO 1.12.0  (landing page)
Olivier Gevaert
git_last_commit: a2f1b61
git_last_commit_date: 2022-04-26 11:53:56 -0400
nebbiolo1Linux (Ubuntu 20.04.4 LTS) / x86_64  OK    OK    OK  UNNEEDED, same version is already published
palomino3Windows Server 2022 Datacenter / x64  OK    OK    OK    OK  UNNEEDED, same version is already published
merida1macOS 10.14.6 Mojave / x86_64  OK    OK    OK    OK  UNNEEDED, same version is already published
Package 2/31HostnameOS / ArchINSTALLBUILDCHECKBUILD BIN
biscuiteer 1.10.0  (landing page)
Jacob Morrison
git_last_commit: 4e21745
git_last_commit_date: 2022-04-26 12:00:38 -0400
nebbiolo1Linux (Ubuntu 20.04.4 LTS) / x86_64  OK    OK    WARNINGS  UNNEEDED, same version is already published
palomino3Windows Server 2022 Datacenter / x64  OK    OK    WARNINGS    OK  UNNEEDED, same version is already published
merida1macOS 10.14.6 Mojave / x86_64  OK    OK    WARNINGS    OK  UNNEEDED, same version is already published
Package 3/31HostnameOS / ArchINSTALLBUILDCHECKBUILD BIN
CancerSubtypes 1.22.0  (landing page)
Taosheng Xu
git_last_commit: 871bfcd
git_last_commit_date: 2022-04-26 11:34:43 -0400
nebbiolo1Linux (Ubuntu 20.04.4 LTS) / x86_64  OK    OK    OK  UNNEEDED, same version is already published
palomino3Windows Server 2022 Datacenter / x64  OK    OK    OK    OK  UNNEEDED, same version is already published
merida1macOS 10.14.6 Mojave / x86_64  OK    OK    OK    OK  UNNEEDED, same version is already published
Package 4/31HostnameOS / ArchINSTALLBUILDCHECKBUILD BIN
CGHcall 2.58.0  (landing page)
Mark van de Wiel
git_last_commit: 483edc7
git_last_commit_date: 2022-04-26 11:00:15 -0400
nebbiolo1Linux (Ubuntu 20.04.4 LTS) / x86_64  OK    OK    WARNINGS  UNNEEDED, same version is already published
palomino3Windows Server 2022 Datacenter / x64  OK    OK    WARNINGS    OK  UNNEEDED, same version is already published
merida1macOS 10.14.6 Mojave / x86_64  OK    OK    WARNINGS    OK  UNNEEDED, same version is already published
Package 5/31HostnameOS / ArchINSTALLBUILDCHECKBUILD BIN
ChAMP 2.26.0  (landing page)
Yuan Tian
git_last_commit: 1548910
git_last_commit_date: 2022-04-26 11:16:54 -0400
nebbiolo1Linux (Ubuntu 20.04.4 LTS) / x86_64  OK    OK    WARNINGS  UNNEEDED, same version is already published
palomino3Windows Server 2022 Datacenter / x64  OK    OK    WARNINGS    OK  NO, package depends on 'DMRcate' which is not available
merida1macOS 10.14.6 Mojave / x86_64  OK    OK    WARNINGS    OK  UNNEEDED, same version is already published
Package 6/31HostnameOS / ArchINSTALLBUILDCHECKBUILD BIN
cola 2.2.0  (landing page)
Zuguang Gu
git_last_commit: 93d66ad
git_last_commit_date: 2022-04-26 11:52:50 -0400
nebbiolo1Linux (Ubuntu 20.04.4 LTS) / x86_64  OK    OK    OK  UNNEEDED, same version is already published
palomino3Windows Server 2022 Datacenter / x64  OK    OK    OK    OK  UNNEEDED, same version is already published
merida1macOS 10.14.6 Mojave / x86_64  OK    OK    OK    OK  UNNEEDED, same version is already published
Package 7/31HostnameOS / ArchINSTALLBUILDCHECKBUILD BIN
DAPAR 1.28.0  (landing page)
Samuel Wieczorek
git_last_commit: ddbbe5d
git_last_commit_date: 2022-04-26 11:27:29 -0400
nebbiolo1Linux (Ubuntu 20.04.4 LTS) / x86_64  OK    OK    OK  UNNEEDED, same version is already published
palomino3Windows Server 2022 Datacenter / x64  OK    OK    OK    OK  UNNEEDED, same version is already published
merida1macOS 10.14.6 Mojave / x86_64  OK    OK    OK    OK  UNNEEDED, same version is already published
Package 8/31HostnameOS / ArchINSTALLBUILDCHECKBUILD BIN
DExMA 1.4.0  (landing page)
Juan Antonio Villatoro-GarcĂ­a
git_last_commit: eebd288
git_last_commit_date: 2022-04-26 12:15:34 -0400
nebbiolo1Linux (Ubuntu 20.04.4 LTS) / x86_64  OK    OK    OK  UNNEEDED, same version is already published
palomino3Windows Server 2022 Datacenter / x64  OK    OK    OK    OK  UNNEEDED, same version is already published
merida1macOS 10.14.6 Mojave / x86_64  OK    OK    OK    OK  UNNEEDED, same version is already published
Package 9/31HostnameOS / ArchINSTALLBUILDCHECKBUILD BIN
doppelgangR 1.24.0  (landing page)
Levi Waldron
git_last_commit: 4f87528
git_last_commit_date: 2022-04-26 11:30:01 -0400
nebbiolo1Linux (Ubuntu 20.04.4 LTS) / x86_64  OK    OK    OK  UNNEEDED, same version is already published
palomino3Windows Server 2022 Datacenter / x64  OK    OK    OK    OK  UNNEEDED, same version is already published
merida1macOS 10.14.6 Mojave / x86_64  OK    OK    OK    OK  UNNEEDED, same version is already published
Package 10/31HostnameOS / ArchINSTALLBUILDCHECKBUILD BIN
EGAD 1.24.0  (landing page)
Sara Ballouz
git_last_commit: b578eb3
git_last_commit_date: 2022-04-26 11:32:21 -0400
nebbiolo1Linux (Ubuntu 20.04.4 LTS) / x86_64  OK    OK    WARNINGS  UNNEEDED, same version is already published
palomino3Windows Server 2022 Datacenter / x64  OK    OK    WARNINGS    OK  UNNEEDED, same version is already published
merida1macOS 10.14.6 Mojave / x86_64  OK    OK    WARNINGS    OK  UNNEEDED, same version is already published
Package 11/31HostnameOS / ArchINSTALLBUILDCHECKBUILD BIN
ENmix 1.32.0  (landing page)
Zongli Xu
git_last_commit: 7abd1c3
git_last_commit_date: 2022-04-26 11:25:08 -0400
nebbiolo1Linux (Ubuntu 20.04.4 LTS) / x86_64  OK    OK    OK  UNNEEDED, same version is already published
palomino3Windows Server 2022 Datacenter / x64  OK    OK    OK    OK  UNNEEDED, same version is already published
merida1macOS 10.14.6 Mojave / x86_64  OK    OK    OK    OK  UNNEEDED, same version is already published
Package 12/31HostnameOS / ArchINSTALLBUILDCHECKBUILD BIN
fastLiquidAssociation 1.32.0  (landing page)
Tina Gunderson
git_last_commit: 5e8cb36
git_last_commit_date: 2022-04-26 11:19:44 -0400
nebbiolo1Linux (Ubuntu 20.04.4 LTS) / x86_64  OK    OK    WARNINGS  UNNEEDED, same version is already published
palomino3Windows Server 2022 Datacenter / x64  OK    OK    WARNINGS    OK  UNNEEDED, same version is already published
merida1macOS 10.14.6 Mojave / x86_64  OK    OK    WARNINGS    OK  UNNEEDED, same version is already published
Package 13/31HostnameOS / ArchINSTALLBUILDCHECKBUILD BIN
genefu 2.28.0  (landing page)
Benjamin Haibe-Kains
git_last_commit: f2f0027
git_last_commit_date: 2022-04-26 11:07:23 -0400
nebbiolo1Linux (Ubuntu 20.04.4 LTS) / x86_64  OK    OK    OK  UNNEEDED, same version is already published
palomino3Windows Server 2022 Datacenter / x64  OK    OK    OK    OK  UNNEEDED, same version is already published
merida1macOS 10.14.6 Mojave / x86_64  OK    OK    OK    OK  UNNEEDED, same version is already published
Package 14/31HostnameOS / ArchINSTALLBUILDCHECKBUILD BIN
genomation 1.28.0  (landing page)
Altuna Akalin , Vedran Franke
git_last_commit: 4ef945a
git_last_commit_date: 2022-04-26 11:23:01 -0400
nebbiolo1Linux (Ubuntu 20.04.4 LTS) / x86_64  OK    OK    WARNINGS  UNNEEDED, same version is already published
palomino3Windows Server 2022 Datacenter / x64  OK    OK    WARNINGS    OK  UNNEEDED, same version is already published
merida1macOS 10.14.6 Mojave / x86_64  OK    OK    WARNINGS    OK  UNNEEDED, same version is already published
Package 15/31HostnameOS / ArchINSTALLBUILDCHECKBUILD BIN
GEOexplorer 1.2.0  (landing page)
Guy Hunt
git_last_commit: 3158786
git_last_commit_date: 2022-04-26 12:17:33 -0400
nebbiolo1Linux (Ubuntu 20.04.4 LTS) / x86_64  OK    OK    OK  UNNEEDED, same version is already published
palomino3Windows Server 2022 Datacenter / x64  OK    OK    OK    OK  UNNEEDED, same version is already published
merida1macOS 10.14.6 Mojave / x86_64  OK    OK    OK    OK  UNNEEDED, same version is already published
Package 16/31HostnameOS / ArchINSTALLBUILDCHECKBUILD BIN
MAGAR 1.4.0  (landing page)
Michael Scherer
git_last_commit: 4596003
git_last_commit_date: 2022-04-26 12:13:07 -0400
nebbiolo1Linux (Ubuntu 20.04.4 LTS) / x86_64  OK    OK    OK  UNNEEDED, same version is already published
palomino3Windows Server 2022 Datacenter / x64  OK    OK    OK    OK  UNNEEDED, same version is already published
merida1macOS 10.14.6 Mojave / x86_64  OK    OK    OK    OK  UNNEEDED, same version is already published
Package 17/31HostnameOS / ArchINSTALLBUILDCHECKBUILD BIN
MatrixQCvis 1.4.0  (landing page)
Thomas Naake
git_last_commit: 5496301
git_last_commit_date: 2022-04-26 12:15:57 -0400
nebbiolo1Linux (Ubuntu 20.04.4 LTS) / x86_64  OK    OK    OK  UNNEEDED, same version is already published
palomino3Windows Server 2022 Datacenter / x64  OK    OK    OK    OK  UNNEEDED, same version is already published
merida1macOS 10.14.6 Mojave / x86_64  OK    OK    OK    OK  UNNEEDED, same version is already published
Package 18/31HostnameOS / ArchINSTALLBUILDCHECKBUILD BIN
MEAT 1.8.0  (landing page)
Sarah Voisin
git_last_commit: f77426c
git_last_commit_date: 2022-04-26 12:02:27 -0400
nebbiolo1Linux (Ubuntu 20.04.4 LTS) / x86_64  OK    OK    WARNINGS  UNNEEDED, same version is already published
palomino3Windows Server 2022 Datacenter / x64  OK    OK    WARNINGS    OK  UNNEEDED, same version is already published
merida1macOS 10.14.6 Mojave / x86_64  OK    OK    WARNINGS    OK  UNNEEDED, same version is already published
Package 19/31HostnameOS / ArchINSTALLBUILDCHECKBUILD BIN
methylclock 1.2.0  (landing page)
Dolors Pelegri-Siso
git_last_commit: 890be0a
git_last_commit_date: 2022-04-26 12:16:55 -0400
nebbiolo1Linux (Ubuntu 20.04.4 LTS) / x86_64  OK    OK    OK  UNNEEDED, same version is already published
palomino3Windows Server 2022 Datacenter / x64  OK    OK    OK    OK  UNNEEDED, same version is already published
merida1macOS 10.14.6 Mojave / x86_64  OK    OK    OK    OK  UNNEEDED, same version is already published
Package 20/31HostnameOS / ArchINSTALLBUILDCHECKBUILD BIN
MethylMix 2.26.0  (landing page)
Olivier Gevaert
git_last_commit: ed5443f
git_last_commit_date: 2022-04-26 11:21:15 -0400
nebbiolo1Linux (Ubuntu 20.04.4 LTS) / x86_64  OK    OK    OK  UNNEEDED, same version is already published
palomino3Windows Server 2022 Datacenter / x64  OK    OK    OK    OK  UNNEEDED, same version is already published
merida1macOS 10.14.6 Mojave / x86_64  OK    OK    OK    OK  UNNEEDED, same version is already published
Package 21/31HostnameOS / ArchINSTALLBUILDCHECKBUILD BIN
miRLAB 1.26.0  (landing page)
Thuc Duy Le
git_last_commit: 8276c9b
git_last_commit_date: 2022-04-26 11:26:19 -0400
nebbiolo1Linux (Ubuntu 20.04.4 LTS) / x86_64  OK    OK    OK  UNNEEDED, same version is already published
palomino3Windows Server 2022 Datacenter / x64  OK    OK    OK    OK  UNNEEDED, same version is already published
merida1macOS 10.14.6 Mojave / x86_64  OK    OK    OK    OK  UNNEEDED, same version is already published
Package 22/31HostnameOS / ArchINSTALLBUILDCHECKBUILD BIN
MSnbase 2.22.0  (landing page)
Laurent Gatto
git_last_commit: 4f6e576
git_last_commit_date: 2022-04-26 11:07:12 -0400
nebbiolo1Linux (Ubuntu 20.04.4 LTS) / x86_64  OK    OK    OK  UNNEEDED, same version is already published
palomino3Windows Server 2022 Datacenter / x64  OK    OK    OK    OK  UNNEEDED, same version is already published
merida1macOS 10.14.6 Mojave / x86_64  OK    OK    OK    OK  UNNEEDED, same version is already published
Package 23/31HostnameOS / ArchINSTALLBUILDCHECKBUILD BIN
netboost 2.4.0  (landing page)
Pascal Schlosser
git_last_commit: 6c23a01
git_last_commit_date: 2022-04-26 11:56:09 -0400
nebbiolo1Linux (Ubuntu 20.04.4 LTS) / x86_64  OK    OK    OK  UNNEEDED, same version is already published
palomino3Windows Server 2022 Datacenter / x64... NOT SUPPORTED ...
merida1macOS 10.14.6 Mojave / x86_64  OK    OK    OK    OK  UNNEEDED, same version is already published
Package 24/31HostnameOS / ArchINSTALLBUILDCHECKBUILD BIN
Pigengene 1.22.0  (landing page)
Habil Zare
git_last_commit: 9b1948a
git_last_commit_date: 2022-04-26 11:32:36 -0400
nebbiolo1Linux (Ubuntu 20.04.4 LTS) / x86_64  OK    OK    OK  UNNEEDED, same version is already published
palomino3Windows Server 2022 Datacenter / x64  OK    OK    OK    OK  UNNEEDED, same version is already published
merida1macOS 10.14.6 Mojave / x86_64  OK    OK    OK    OK  UNNEEDED, same version is already published
Package 25/31HostnameOS / ArchINSTALLBUILDCHECKBUILD BIN
pmp 1.8.0  (landing page)
Gavin Rhys Lloyd
git_last_commit: 3c77e26
git_last_commit_date: 2022-04-26 12:02:03 -0400
nebbiolo1Linux (Ubuntu 20.04.4 LTS) / x86_64  OK    OK    OK  UNNEEDED, same version is already published
palomino3Windows Server 2022 Datacenter / x64  OK    OK    OK    OK  UNNEEDED, same version is already published
merida1macOS 10.14.6 Mojave / x86_64  OK    OK    OK    OK  UNNEEDED, same version is already published
Package 26/31HostnameOS / ArchINSTALLBUILDCHECKBUILD BIN
POMA 1.6.0  (landing page)
Pol Castellano-Escuder
git_last_commit: 2ed1380
git_last_commit_date: 2022-04-26 12:07:02 -0400
nebbiolo1Linux (Ubuntu 20.04.4 LTS) / x86_64  OK    OK    OK  UNNEEDED, same version is already published
palomino3Windows Server 2022 Datacenter / x64  OK    OK    OK    OK  UNNEEDED, same version is already published
merida1macOS 10.14.6 Mojave / x86_64  OK    OK    OK    OK  UNNEEDED, same version is already published
Package 27/31HostnameOS / ArchINSTALLBUILDCHECKBUILD BIN
REMP 1.20.1  (landing page)
Yinan Zheng
git_last_commit: 58547b6
git_last_commit_date: 2022-05-13 05:55:06 -0400
nebbiolo1Linux (Ubuntu 20.04.4 LTS) / x86_64  OK    OK    OK  YES
palomino3Windows Server 2022 Datacenter / x64  OK    OK    OK    OK  YES
merida1macOS 10.14.6 Mojave / x86_64  OK    OK    OK    OK  YES
Package 28/31HostnameOS / ArchINSTALLBUILDCHECKBUILD BIN
RNAAgeCalc 1.8.0  (landing page)
Xu Ren
git_last_commit: c1f2c7e
git_last_commit_date: 2022-04-26 12:03:20 -0400
nebbiolo1Linux (Ubuntu 20.04.4 LTS) / x86_64  OK    OK    OK  UNNEEDED, same version is already published
palomino3Windows Server 2022 Datacenter / x64  OK    OK    OK    OK  UNNEEDED, same version is already published
merida1macOS 10.14.6 Mojave / x86_64  OK    OK    OK    OK  UNNEEDED, same version is already published
Package 29/31HostnameOS / ArchINSTALLBUILDCHECKBUILD BIN
Rnits 1.30.0  (landing page)
Dipen P. Sangurdekar
git_last_commit: f486c6f
git_last_commit_date: 2022-04-26 11:21:17 -0400
nebbiolo1Linux (Ubuntu 20.04.4 LTS) / x86_64  OK    ERROR  skipped
palomino3Windows Server 2022 Datacenter / x64  OK    ERROR  skippedskipped
merida1macOS 10.14.6 Mojave / x86_64  OK    ERROR  skippedskipped
Package 30/31HostnameOS / ArchINSTALLBUILDCHECKBUILD BIN
statTarget 1.26.0  (landing page)
Hemi Luan
git_last_commit: 2363042
git_last_commit_date: 2022-04-26 11:36:08 -0400
nebbiolo1Linux (Ubuntu 20.04.4 LTS) / x86_64  OK    OK    OK  UNNEEDED, same version is already published
palomino3Windows Server 2022 Datacenter / x64  OK    OK    OK    OK  UNNEEDED, same version is already published
merida1macOS 10.14.6 Mojave / x86_64  OK    OK    OK    NA  
Package 31/31HostnameOS / ArchINSTALLBUILDCHECKBUILD BIN
TIN 1.28.0  (landing page)
Bjarne Johannessen
git_last_commit: 2f8b7b8
git_last_commit_date: 2022-04-26 11:24:23 -0400
nebbiolo1Linux (Ubuntu 20.04.4 LTS) / x86_64  OK    OK    OK  UNNEEDED, same version is already published
palomino3Windows Server 2022 Datacenter / x64  OK    OK    OK    OK  UNNEEDED, same version is already published
merida1macOS 10.14.6 Mojave / x86_64  OK    OK    OK    NA