Back to Multiple platform build/check report for BioC 3.14
A[B]CDEFGHIJKLMNOPQRSTUVWXYZ

This page was generated on 2021-11-26 15:04:46 -0500 (Fri, 26 Nov 2021).

BUILD results for biscuiteer on nebbiolo2

To the developers/maintainers of the biscuiteer package:
- Please allow up to 24 hours (and sometimes 48 hours) for your latest push to git@git.bioconductor.org:packages/biscuiteer.git to
reflect on this report. See How and When does the builder pull? When will my changes propagate? here for more information.
- Make sure to use the following settings in order to reproduce any error or warning you see on this page.

raw results

Package 198/2083HostnameOS / ArchINSTALLBUILDCHECKBUILD BIN
biscuiteer 1.8.0  (landing page)
"Jacob Morrison"
Snapshot Date: 2021-11-25 04:15:05 -0500 (Thu, 25 Nov 2021)
git_url: https://git.bioconductor.org/packages/biscuiteer
git_branch: RELEASE_3_14
git_last_commit: 2a5989a
git_last_commit_date: 2021-10-26 12:55:31 -0500 (Tue, 26 Oct 2021)
nebbiolo2Linux (Ubuntu 20.04.3 LTS) / x86_64  OK    OK    WARNINGS  UNNEEDED, same version is already published
tokay2Windows Server 2012 R2 Standard / x64  OK    OK    WARNINGS    OK  UNNEEDED, same version is already published
machv2macOS 10.14.6 Mojave / x86_64  OK    OK    WARNINGS    OK  UNNEEDED, same version is already published

Summary

Package: biscuiteer
Version: 1.8.0
Command: /home/biocbuild/bbs-3.14-bioc/R/bin/R CMD build --keep-empty-dirs --no-resave-data biscuiteer
StartedAt: 2021-11-25 06:05:14 -0500 (Thu, 25 Nov 2021)
EndedAt: 2021-11-25 06:07:08 -0500 (Thu, 25 Nov 2021)
EllapsedTime: 114.6 seconds
RetCode: 0
Status:   OK  
PackageFile: biscuiteer_1.8.0.tar.gz
PackageFileSize: 4.743 MiB

Command output

##############################################################################
##############################################################################
###
### Running command:
###
###   /home/biocbuild/bbs-3.14-bioc/R/bin/R CMD build --keep-empty-dirs --no-resave-data biscuiteer
###
##############################################################################
##############################################################################


* checking for file ‘biscuiteer/DESCRIPTION’ ... OK
* preparing ‘biscuiteer’:
* checking DESCRIPTION meta-information ... OK
* installing the package to build vignettes
* creating vignettes ... OK
* checking for LF line-endings in source and make files and shell scripts
* checking for empty or unneeded directories
* looking to see if a ‘data/datalist’ file should be added
* building ‘biscuiteer_1.8.0.tar.gz’