Back to Multiple platform build/check report for BioC 3.18:   simplified   long
ABCDEF[G]HIJKLMNOPQRSTUVWXYZ

This page was generated on 2024-02-21 11:36:03 -0500 (Wed, 21 Feb 2024).

HostnameOSArch (*)R versionInstalled pkgs
nebbiolo2Linux (Ubuntu 22.04.3 LTS)x86_644.3.2 Patched (2023-11-13 r85521) -- "Eye Holes" 4691
palomino4Windows Server 2022 Datacenterx644.3.2 (2023-10-31 ucrt) -- "Eye Holes" 4444
lconwaymacOS 12.7.1 Montereyx86_644.3.2 Patched (2023-11-01 r85457) -- "Eye Holes" 4465
Click on any hostname to see more info about the system (e.g. compilers)      (*) as reported by 'uname -p', except on Windows and Mac OS X

Package 814/2266HostnameOS / ArchINSTALLBUILDCHECKBUILD BIN
genomation 1.34.0  (landing page)
Altuna Akalin , Vedran Franke
Snapshot Date: 2024-02-20 14:05:06 -0500 (Tue, 20 Feb 2024)
git_url: https://git.bioconductor.org/packages/genomation
git_branch: RELEASE_3_18
git_last_commit: accaf9c
git_last_commit_date: 2023-10-24 10:40:33 -0500 (Tue, 24 Oct 2023)
nebbiolo2Linux (Ubuntu 22.04.3 LTS) / x86_64  OK    OK    WARNINGS  UNNEEDED, same version is already published
palomino4Windows Server 2022 Datacenter / x64  OK    OK    WARNINGS    OK  UNNEEDED, same version is already published
lconwaymacOS 12.7.1 Monterey / x86_64  OK    OK    WARNINGS    OK  UNNEEDED, same version is already published
kjohnson1macOS 13.6.1 Ventura / arm64see weekly results here

BUILD results for genomation on nebbiolo2


To the developers/maintainers of the genomation package:
- Allow up to 24 hours (and sometimes 48 hours) for your latest push to git@git.bioconductor.org:packages/genomation.git to reflect on this report. See Troubleshooting Build Report for more information.
- Use the following Renviron settings to reproduce errors and warnings.
- If 'R CMD check' started to fail recently on the Linux builder(s) over a missing dependency, add the missing dependency to 'Suggests:' in your DESCRIPTION file. See Renviron.bioc for more information.

raw results


Summary

Package: genomation
Version: 1.34.0
Command: /home/biocbuild/bbs-3.18-bioc/R/bin/R CMD build --keep-empty-dirs --no-resave-data genomation
StartedAt: 2024-02-20 17:16:04 -0500 (Tue, 20 Feb 2024)
EndedAt: 2024-02-20 17:17:21 -0500 (Tue, 20 Feb 2024)
EllapsedTime: 77.0 seconds
RetCode: 0
Status:   OK  
PackageFile: genomation_1.34.0.tar.gz
PackageFileSize: 6.002 MiB

Command output

##############################################################################
##############################################################################
###
### Running command:
###
###   /home/biocbuild/bbs-3.18-bioc/R/bin/R CMD build --keep-empty-dirs --no-resave-data genomation
###
##############################################################################
##############################################################################


* checking for file ‘genomation/DESCRIPTION’ ... OK
* preparing ‘genomation’:
* checking DESCRIPTION meta-information ... OK
* cleaning src
* installing the package to build vignettes
* creating vignettes ... OK
* cleaning src
* checking for LF line-endings in source and make files and shell scripts
* checking for empty or unneeded directories
* looking to see if a ‘data/datalist’ file should be added
  NB: this package now depends on R (>= 3.5.0)
  WARNING: Added dependency on R >= 3.5.0 because serialized objects in
  serialize/load version 3 cannot be read in older versions of R.
  File(s) containing such objects:
    ‘genomation/data/cage.RData’ ‘genomation/data/cpgi.RData’
    ‘genomation/data/genes.RData’ ‘genomation/data/promoters.RData’
* building ‘genomation_1.34.0.tar.gz’