Back to Multiple platform build/check report for BioC 3.12
AB[C]DEFGHIJKLMNOPQRSTUVWXYZ

BUILD BIN report for CGHcall on merida1

This page was generated on 2021-01-19 11:57:05 -0500 (Tue, 19 Jan 2021).

TO THE DEVELOPERS/MAINTAINERS OF THE CGHcall PACKAGE: Please make sure to use the following settings in order to reproduce any error or warning you see on this page.
Package 269/1974HostnameOS / ArchINSTALLBUILDCHECKBUILD BIN
CGHcall 2.52.0
Mark van de Wiel
Snapshot Date: 2021-01-18 14:42:24 -0500 (Mon, 18 Jan 2021)
URL: https://git.bioconductor.org/packages/CGHcall
Branch: RELEASE_3_12
Last Commit: f0b28b6
Last Changed Date: 2020-10-27 10:31:48 -0500 (Tue, 27 Oct 2020)
malbec1 Linux (Ubuntu 18.04.5 LTS) / x86_64  OK  OK  OK UNNEEDED, same version exists in internal repository
nebbiolo1 Linux (Ubuntu 20.04.1 LTS) / x86_64  OK  OK  OK 
tokay1 Windows Server 2012 R2 Standard / x64  OK  OK  OK  OK UNNEEDED, same version exists in internal repository
merida1 macOS 10.14.6 Mojave / x86_64  OK  OK  OK [ OK ]UNNEEDED, same version exists in internal repository

Summary

Package: CGHcall
Version: 2.52.0
Command: rm -rf CGHcall.buildbin-libdir && mkdir CGHcall.buildbin-libdir && /Users/biocbuild/BBS/utils/build-universal.sh CGHcall_2.52.0.tar.gz /Library/Frameworks/R.framework/Versions/Current/Resources/bin/R CGHcall.buildbin-libdir
StartedAt: 2021-01-19 08:04:32 -0500 (Tue, 19 Jan 2021)
EndedAt: 2021-01-19 08:05:42 -0500 (Tue, 19 Jan 2021)
EllapsedTime: 69.6 seconds
RetCode: 0
Status:  OK 
PackageFile: CGHcall_2.52.0.tgz
PackageFileSize: 458.7 KiB

Command output

##############################################################################
##############################################################################
###
### Running command:
###
###   rm -rf CGHcall.buildbin-libdir && mkdir CGHcall.buildbin-libdir && /Users/biocbuild/BBS/utils/build-universal.sh CGHcall_2.52.0.tar.gz /Library/Frameworks/R.framework/Versions/Current/Resources/bin/R CGHcall.buildbin-libdir
###
##############################################################################
##############################################################################


>>>>>>> 
>>>>>>> INSTALLATION WITH 'R CMD INSTALL --preclean --no-multiarch --library=CGHcall.buildbin-libdir CGHcall_2.52.0.tar.gz'
>>>>>>> 

* installing *source* package ‘CGHcall’ ...
** using staged installation
** R
** data
** inst
** byte-compile and prepare package for lazy loading
** help
*** installing help indices
** building package indices
** installing vignettes
** testing if installed package can be loaded from temporary location
** testing if installed package can be loaded from final location
** testing if installed package keeps a record of temporary installation path
* DONE (CGHcall)