Back to Multiple platform build/check report for BioC 3.14
ABCDEFGHIJKLMNOPQ[R]STUVWXYZ

This page was generated on 2022-01-21 13:05:38 -0500 (Fri, 21 Jan 2022).

HostnameOSArch (*)R versionInstalled pkgs
nebbiolo2Linux (Ubuntu 20.04.4 LTS)x86_644.1.2 (2021-11-01) -- "Bird Hippie" 4329
tokay2Windows Server 2012 R2 Standardx644.1.2 (2021-11-01) -- "Bird Hippie" 4079
machv2macOS 10.14.6 Mojavex86_644.1.2 (2021-11-01) -- "Bird Hippie" 4140
Click on any hostname to see more info about the system (e.g. compilers)      (*) as reported by 'uname -p', except on Windows and Mac OS X

CHECK results for REMP on nebbiolo2


To the developers/maintainers of the REMP package:
- Please allow up to 24 hours (and sometimes 48 hours) for your latest push to git@git.bioconductor.org:packages/REMP.git to
reflect on this report. See How and When does the builder pull? When will my changes propagate? here for more information.
- Make sure to use the following settings in order to reproduce any error or warning you see on this page.

raw results

Package 1577/2083HostnameOS / ArchINSTALLBUILDCHECKBUILD BIN
REMP 1.18.0  (landing page)
Yinan Zheng
Snapshot Date: 2022-01-20 01:55:04 -0500 (Thu, 20 Jan 2022)
git_url: https://git.bioconductor.org/packages/REMP
git_branch: RELEASE_3_14
git_last_commit: 3164bd7
git_last_commit_date: 2021-10-26 12:32:57 -0500 (Tue, 26 Oct 2021)
nebbiolo2Linux (Ubuntu 20.04.4 LTS) / x86_64  OK    OK    OK  UNNEEDED, same version is already published
tokay2Windows Server 2012 R2 Standard / x64  OK    OK    OK    OK  UNNEEDED, same version is already published
machv2macOS 10.14.6 Mojave / x86_64  OK    OK    OK    OK  UNNEEDED, same version is already published

Summary

Package: REMP
Version: 1.18.0
Command: /home/biocbuild/bbs-3.14-bioc/R/bin/R CMD check --install=check:REMP.install-out.txt --library=/home/biocbuild/bbs-3.14-bioc/R/library --no-vignettes --timings REMP_1.18.0.tar.gz
StartedAt: 2022-01-20 09:10:01 -0500 (Thu, 20 Jan 2022)
EndedAt: 2022-01-20 09:16:35 -0500 (Thu, 20 Jan 2022)
EllapsedTime: 393.9 seconds
RetCode: 0
Status:   OK  
CheckDir: REMP.Rcheck
Warnings: 0

Command output

##############################################################################
##############################################################################
###
### Running command:
###
###   /home/biocbuild/bbs-3.14-bioc/R/bin/R CMD check --install=check:REMP.install-out.txt --library=/home/biocbuild/bbs-3.14-bioc/R/library --no-vignettes --timings REMP_1.18.0.tar.gz
###
##############################################################################
##############################################################################


* using log directory ‘/home/biocbuild/bbs-3.14-bioc/meat/REMP.Rcheck’
* using R version 4.1.2 (2021-11-01)
* using platform: x86_64-pc-linux-gnu (64-bit)
* using session charset: UTF-8
* using option ‘--no-vignettes’
* checking for file ‘REMP/DESCRIPTION’ ... OK
* checking extension type ... Package
* this is package ‘REMP’ version ‘1.18.0’
* package encoding: UTF-8
* checking package namespace information ... OK
* checking package dependencies ... OK
* checking if this is a source package ... OK
* checking if there is a namespace ... OK
* checking for hidden files and directories ... OK
* checking for portable file names ... OK
* checking for sufficient/correct file permissions ... OK
* checking whether package ‘REMP’ can be installed ... OK
* checking installed package size ... OK
* checking package directory ... OK
* checking ‘build’ directory ... OK
* checking DESCRIPTION meta-information ... OK
* checking top-level files ... OK
* checking for left-over files ... OK
* checking index information ... OK
* checking package subdirectories ... OK
* checking R files for non-ASCII characters ... OK
* checking R files for syntax errors ... OK
* checking whether the package can be loaded ... OK
* checking whether the package can be loaded with stated dependencies ... OK
* checking whether the package can be unloaded cleanly ... OK
* checking whether the namespace can be loaded with stated dependencies ... OK
* checking whether the namespace can be unloaded cleanly ... OK
* checking dependencies in R code ... NOTE
'library' or 'require' calls in package code:
  ‘IlluminaHumanMethylation450kanno.ilmn12.hg19’
  ‘IlluminaHumanMethylationEPICanno.ilm10b2.hg19’
  Please use :: or requireNamespace() instead.
  See section 'Suggested packages' in the 'Writing R Extensions' manual.
* checking S3 generic/method consistency ... OK
* checking replacement functions ... OK
* checking foreign function calls ... OK
* checking R code for possible problems ... NOTE
initREMP: no visible binding for global variable
  ‘IlluminaHumanMethylation450kanno.ilmn12.hg19’
initREMP: no visible binding for global variable
  ‘IlluminaHumanMethylationEPICanno.ilm10b2.hg19’
remprofile: no visible binding for global variable
  ‘IlluminaHumanMethylation450kanno.ilmn12.hg19’
remprofile: no visible binding for global variable
  ‘IlluminaHumanMethylationEPICanno.ilm10b2.hg19’
Undefined global functions or variables:
  IlluminaHumanMethylation450kanno.ilmn12.hg19
  IlluminaHumanMethylationEPICanno.ilm10b2.hg19
* checking Rd files ... OK
* checking Rd metadata ... OK
* checking Rd cross-references ... OK
* checking for missing documentation entries ... OK
* checking for code/documentation mismatches ... OK
* checking Rd \usage sections ... OK
* checking Rd contents ... OK
* checking for unstated dependencies in examples ... OK
* checking contents of ‘data’ directory ... OK
* checking data for non-ASCII characters ... OK
* checking LazyData ... OK
* checking data for ASCII and uncompressed saves ... OK
* checking files in ‘vignettes’ ... OK
* checking examples ... OK
Examples with CPU (user + system) or elapsed time > 5s
                  user system elapsed
remp            17.543  0.460  17.504
fetchRMSK       13.993  0.595  15.010
GRannot         11.781  1.506  14.103
rempTemplate    11.718  0.290  12.064
initREMP        10.911  0.174  11.489
remprofile      10.182  0.299  10.491
fetchRefSeqGene  6.536  0.276   7.298
* checking for unstated dependencies in vignettes ... OK
* checking package vignettes in ‘inst/doc’ ... OK
* checking running R code from vignettes ... SKIPPED
* checking re-building of vignette outputs ... SKIPPED
* checking PDF version of manual ... OK
* DONE

Status: 2 NOTEs
See
  ‘/home/biocbuild/bbs-3.14-bioc/meat/REMP.Rcheck/00check.log’
for details.



Installation output

REMP.Rcheck/00install.out

##############################################################################
##############################################################################
###
### Running command:
###
###   /home/biocbuild/bbs-3.14-bioc/R/bin/R CMD INSTALL REMP
###
##############################################################################
##############################################################################


* installing to library ‘/home/biocbuild/bbs-3.14-bioc/R/library’
* installing *source* package ‘REMP’ ...
** using staged installation
** R
** data
*** moving datasets to lazyload DB
** inst
** byte-compile and prepare package for lazy loading
** help
*** installing help indices
** building package indices
** installing vignettes
** testing if installed package can be loaded from temporary location
** testing if installed package can be loaded from final location
** testing if installed package keeps a record of temporary installation path
* DONE (REMP)

Tests output


Example timings

REMP.Rcheck/REMP-Ex.timings

nameusersystemelapsed
GRannot11.781 1.50614.103
REMParcel-class0.0010.0000.001
REMProduct-class0.0020.0000.002
fetchRMSK13.993 0.59515.010
fetchRefSeqGene6.5360.2767.298
findRECpG1.0300.0541.080
getBackend2.6830.1082.782
getGM128783.3900.3013.734
grooMethy2.1430.1842.976
initREMP10.911 0.17411.489
options0.0010.0000.001
remp17.543 0.46017.504
rempTemplate11.718 0.29012.064
remprofile10.182 0.29910.491