Index of /checkResults/release/bioc-LATEST/glmGamPoi/raw-results

[ICO]NameLast modifiedSizeDescription

[DIR]Parent Directory  -  
[   ]info.dcf06-Dec-2023 01:37 293  
[DIR]palomino4/06-Dec-2023 01:36 -  
[DIR]nebbiolo2/06-Dec-2023 01:35 -  
[DIR]lconway/06-Dec-2023 01:37 -  
[DIR]kunpeng2/03-Nov-2023 00:40 -