Index of /checkResults/release/bioc-LATEST/glmGamPoi/raw-results/lconway
Name
Last modified
Size
Description
Parent Directory
-
buildsrc-out.txt
05-Mar-2024 01:37
1.5K
buildsrc-summary.dcf
05-Mar-2024 01:37
348
install-out.txt
05-Mar-2024 01:37
4.3K
install-summary.dcf
05-Mar-2024 01:37
273