![]() | Name | Last modified | Size | Description |
---|---|---|---|---|
![]() | Parent Directory | - | ||
![]() | buildsrc-out.txt | 26-Sep-2023 00:35 | 844 | |
![]() | buildsrc-summary.dcf | 26-Sep-2023 00:35 | 424 | |
![]() | checksrc-out.txt | 26-Sep-2023 00:35 | 4.0K | |
![]() | checksrc-summary.dcf | 26-Sep-2023 00:35 | 422 | |
![]() | install-out.txt | 26-Sep-2023 00:35 | 14K | |
![]() | install-summary.dcf | 26-Sep-2023 00:35 | 263 | |