![]() | Name | Last modified | Size | Description |
---|---|---|---|---|
![]() | Parent Directory | - | ||
![]() | buildbin-out.txt | 05-Oct-2023 00:36 | 14K | |
![]() | buildbin-summary.dcf | 05-Oct-2023 00:36 | 528 | |
![]() | buildsrc-out.txt | 05-Oct-2023 00:36 | 881 | |
![]() | buildsrc-summary.dcf | 05-Oct-2023 00:36 | 461 | |
![]() | checksrc-out.txt | 05-Oct-2023 00:36 | 5.1K | |
![]() | checksrc-summary.dcf | 05-Oct-2023 00:36 | 459 | |
![]() | install-out.txt | 05-Oct-2023 00:36 | 14K | |
![]() | install-summary.dcf | 05-Oct-2023 00:36 | 272 | |