![]() | Name | Last modified | Size | Description |
---|---|---|---|---|
![]() | Parent Directory | - | ||
![]() | buildbin-out.txt | 05-Oct-2023 00:37 | 7.9K | |
![]() | buildbin-summary.dcf | 05-Oct-2023 00:37 | 543 | |
![]() | buildsrc-out.txt | 05-Oct-2023 00:37 | 854 | |
![]() | buildsrc-summary.dcf | 05-Oct-2023 00:37 | 435 | |
![]() | checksrc-out.txt | 05-Oct-2023 00:37 | 3.9K | |
![]() | checksrc-summary.dcf | 05-Oct-2023 00:37 | 452 | |
![]() | install-out.txt | 05-Oct-2023 00:37 | 4.3K | |
![]() | install-summary.dcf | 05-Oct-2023 00:37 | 274 | |