Back to Multiple platform build/check report for BioC 3.19:   simplified   long
AB[C]DEFGHIJKLMNOPQRSTUVWXYZ

This page was generated on 2024-06-21 17:39 -0400 (Fri, 21 Jun 2024).

HostnameOSArch (*)R versionInstalled pkgs
nebbiolo1Linux (Ubuntu 22.04.3 LTS)x86_644.4.0 (2024-04-24) -- "Puppy Cup" 4758
palomino3Windows Server 2022 Datacenterx644.4.0 (2024-04-24 ucrt) -- "Puppy Cup" 4492
merida1macOS 12.7.4 Montereyx86_644.4.0 (2024-04-24) -- "Puppy Cup" 4506
kjohnson1macOS 13.6.6 Venturaarm644.4.0 (2024-04-24) -- "Puppy Cup" 4464
Click on any hostname to see more info about the system (e.g. compilers)      (*) as reported by 'uname -p', except on Windows and Mac OS X

Package 384/2300HostnameOS / ArchINSTALLBUILDCHECKBUILD BIN
cn.farms 1.52.0  (landing page)
Andreas Mitterecker
Snapshot Date: 2024-06-19 14:00 -0400 (Wed, 19 Jun 2024)
git_url: https://git.bioconductor.org/packages/cn.farms
git_branch: RELEASE_3_19
git_last_commit: 34535c2
git_last_commit_date: 2024-04-30 10:23:55 -0400 (Tue, 30 Apr 2024)
nebbiolo1Linux (Ubuntu 22.04.3 LTS) / x86_64  OK    OK    OK  UNNEEDED, same version is already published
palomino3Windows Server 2022 Datacenter / x64  OK    OK    OK    OK  UNNEEDED, same version is already published
merida1macOS 12.7.4 Monterey / x86_64  OK    OK    OK    OK  UNNEEDED, same version is already published
kjohnson1macOS 13.6.6 Ventura / arm64  OK    OK    OK    OK  UNNEEDED, same version is already published


INSTALL results for cn.farms on palomino3

To the developers/maintainers of the cn.farms package:
- Allow up to 24 hours (and sometimes 48 hours) for your latest push to git@git.bioconductor.org:packages/cn.farms.git to reflect on this report. See Troubleshooting Build Report for more information.
- Use the following Renviron settings to reproduce errors and warnings.
- If 'R CMD check' started to fail recently on the Linux builder(s) over a missing dependency, add the missing dependency to 'Suggests:' in your DESCRIPTION file. See Renviron.bioc for more information.

raw results


Summary

Package: cn.farms
Version: 1.52.0
Command: F:\biocbuild\bbs-3.19-bioc\R\bin\R.exe CMD INSTALL cn.farms
StartedAt: 2024-06-19 16:03:16 -0400 (Wed, 19 Jun 2024)
EndedAt: 2024-06-19 16:04:06 -0400 (Wed, 19 Jun 2024)
EllapsedTime: 50.5 seconds
RetCode: 0
Status:   OK  

Command output

##############################################################################
##############################################################################
###
### Running command:
###
###   F:\biocbuild\bbs-3.19-bioc\R\bin\R.exe CMD INSTALL cn.farms
###
##############################################################################
##############################################################################


* installing to library 'F:/biocbuild/bbs-3.19-bioc/R/library'
* installing *source* package 'cn.farms' ...
** using staged installation
** libs
using C compiler: 'gcc.exe (GCC) 13.2.0'
using C++ compiler: 'G__~1.EXE (GCC) 13.2.0'
gcc  -I"F:/biocbuild/bbs-3.19-bioc/R/include" -DNDEBUG     -I"C:/rtools44/x86_64-w64-mingw32.static.posix/include"     -O2 -Wall  -mfpmath=sse -msse2 -mstackrealign  -c R_init_cnfarms.c -o R_init_cnfarms.o
g++ -std=gnu++17  -I"F:/biocbuild/bbs-3.19-bioc/R/include" -DNDEBUG     -I"C:/rtools44/x86_64-w64-mingw32.static.posix/include"     -O2 -Wall  -mfpmath=sse -msse2 -mstackrealign  -c laplace.cpp -o laplace.o
laplace.cpp: In function 'SEXPREC* momentsGauss(SEXP, SEXP, SEXP, SEXP, SEXP, SEXP, SEXP, SEXP, SEXP, SEXP)':
laplace.cpp:442:13: warning: unused variable 'method' [-Wunused-variable]
  442 |         int method=0;
      |             ^~~~~~
laplace.cpp: In function 'void computeParameters(double, double, double, double, double, double, int&, double&, double&, double&, double&, double&, double&, double&, double&, double&, double&, double&, double&, double&, double&)':
laplace.cpp:364:42: warning: 'I1left' may be used uninitialized [-Wmaybe-uninitialized]
  364 |         double I2left=(-leftMy/leftSigma)*I1left+I0left;
      |                       ~~~~~~~~~~~~~~~~~~~^~~~~~~
laplace.cpp:198:16: note: 'I1left' was declared here
  198 |         double I1left;
      |                ^~~~~~
laplace.cpp:368:63: warning: 'I1right' may be used uninitialized [-Wmaybe-uninitialized]
  368 |         double rightMoment1=1.0*rightMy*I0right+1.0*rightSigma*I1right;
      |                                                 ~~~~~~~~~~~~~~^~~~~~~~
laplace.cpp:199:16: note: 'I1right' was declared here
  199 |         double I1right;
      |                ^~~~~~~
gcc  -I"F:/biocbuild/bbs-3.19-bioc/R/include" -DNDEBUG     -I"C:/rtools44/x86_64-w64-mingw32.static.posix/include"     -O2 -Wall  -mfpmath=sse -msse2 -mstackrealign  -c sparse_farms.c -o sparse_farms.o
g++ -std=gnu++17 -shared -s -static-libgcc -o cn.farms.dll tmp.def R_init_cnfarms.o laplace.o sparse_farms.o -LC:/rtools44/x86_64-w64-mingw32.static.posix/lib/x64 -LC:/rtools44/x86_64-w64-mingw32.static.posix/lib -LF:/biocbuild/bbs-3.19-bioc/R/bin/x64 -lR
installing to F:/biocbuild/bbs-3.19-bioc/R/library/00LOCK-cn.farms/00new/cn.farms/libs/x64
** R
** demo
** inst
** byte-compile and prepare package for lazy loading
** help
*** installing help indices
** building package indices
** installing vignettes
** testing if installed package can be loaded from temporary location
** testing if installed package can be loaded from final location
** testing if installed package keeps a record of temporary installation path
* DONE (cn.farms)