Back to Multiple platform build/check report for BioC 3.19:   simplified   long
AB[C]DEFGHIJKLMNOPQRSTUVWXYZ

This page was generated on 2024-06-21 17:38 -0400 (Fri, 21 Jun 2024).

HostnameOSArch (*)R versionInstalled pkgs
nebbiolo1Linux (Ubuntu 22.04.3 LTS)x86_644.4.0 (2024-04-24) -- "Puppy Cup" 4758
palomino3Windows Server 2022 Datacenterx644.4.0 (2024-04-24 ucrt) -- "Puppy Cup" 4492
merida1macOS 12.7.4 Montereyx86_644.4.0 (2024-04-24) -- "Puppy Cup" 4506
kjohnson1macOS 13.6.6 Venturaarm644.4.0 (2024-04-24) -- "Puppy Cup" 4464
Click on any hostname to see more info about the system (e.g. compilers)      (*) as reported by 'uname -p', except on Windows and Mac OS X

Package 384/2300HostnameOS / ArchINSTALLBUILDCHECKBUILD BIN
cn.farms 1.52.0  (landing page)
Andreas Mitterecker
Snapshot Date: 2024-06-19 14:00 -0400 (Wed, 19 Jun 2024)
git_url: https://git.bioconductor.org/packages/cn.farms
git_branch: RELEASE_3_19
git_last_commit: 34535c2
git_last_commit_date: 2024-04-30 10:23:55 -0400 (Tue, 30 Apr 2024)
nebbiolo1Linux (Ubuntu 22.04.3 LTS) / x86_64  OK    OK    OK  UNNEEDED, same version is already published
palomino3Windows Server 2022 Datacenter / x64  OK    OK    OK    OK  UNNEEDED, same version is already published
merida1macOS 12.7.4 Monterey / x86_64  OK    OK    OK    OK  UNNEEDED, same version is already published
kjohnson1macOS 13.6.6 Ventura / arm64  OK    OK    OK    OK  UNNEEDED, same version is already published


CHECK results for cn.farms on nebbiolo1

To the developers/maintainers of the cn.farms package:
- Allow up to 24 hours (and sometimes 48 hours) for your latest push to git@git.bioconductor.org:packages/cn.farms.git to reflect on this report. See Troubleshooting Build Report for more information.
- Use the following Renviron settings to reproduce errors and warnings.
- If 'R CMD check' started to fail recently on the Linux builder(s) over a missing dependency, add the missing dependency to 'Suggests:' in your DESCRIPTION file. See Renviron.bioc for more information.

raw results


Summary

Package: cn.farms
Version: 1.52.0
Command: /home/biocbuild/bbs-3.19-bioc/R/bin/R CMD check --install=check:cn.farms.install-out.txt --library=/home/biocbuild/bbs-3.19-bioc/R/site-library --timings cn.farms_1.52.0.tar.gz
StartedAt: 2024-06-19 21:46:05 -0400 (Wed, 19 Jun 2024)
EndedAt: 2024-06-19 21:49:40 -0400 (Wed, 19 Jun 2024)
EllapsedTime: 214.6 seconds
RetCode: 0
Status:   OK  
CheckDir: cn.farms.Rcheck
Warnings: 0

Command output

##############################################################################
##############################################################################
###
### Running command:
###
###   /home/biocbuild/bbs-3.19-bioc/R/bin/R CMD check --install=check:cn.farms.install-out.txt --library=/home/biocbuild/bbs-3.19-bioc/R/site-library --timings cn.farms_1.52.0.tar.gz
###
##############################################################################
##############################################################################


* using log directory ‘/home/biocbuild/bbs-3.19-bioc/meat/cn.farms.Rcheck’
* using R version 4.4.0 (2024-04-24)
* using platform: x86_64-pc-linux-gnu
* R was compiled by
    gcc (Ubuntu 11.4.0-1ubuntu1~22.04) 11.4.0
    GNU Fortran (Ubuntu 11.4.0-1ubuntu1~22.04) 11.4.0
* running under: Ubuntu 22.04.4 LTS
* using session charset: UTF-8
* checking for file ‘cn.farms/DESCRIPTION’ ... OK
* checking extension type ... Package
* this is package ‘cn.farms’ version ‘1.52.0’
* checking package namespace information ... OK
* checking package dependencies ... OK
* checking if this is a source package ... OK
* checking if there is a namespace ... OK
* checking for hidden files and directories ... OK
* checking for portable file names ... OK
* checking for sufficient/correct file permissions ... OK
* checking whether package ‘cn.farms’ can be installed ... OK
* used C compiler: ‘gcc (Ubuntu 11.4.0-1ubuntu1~22.04) 11.4.0’
* used C++ compiler: ‘g++ (Ubuntu 11.4.0-1ubuntu1~22.04) 11.4.0’
* checking installed package size ... OK
* checking package directory ... OK
* checking ‘build’ directory ... OK
* checking DESCRIPTION meta-information ... OK
* checking top-level files ... OK
* checking for left-over files ... OK
* checking index information ... OK
* checking package subdirectories ... OK
* checking code files for non-ASCII characters ... OK
* checking R files for syntax errors ... OK
* checking whether the package can be loaded ... OK
* checking whether the package can be loaded with stated dependencies ... OK
* checking whether the package can be unloaded cleanly ... OK
* checking whether the namespace can be loaded with stated dependencies ... OK
* checking whether the namespace can be unloaded cleanly ... OK
* checking loading without being on the library search path ... OK
* checking whether startup messages can be suppressed ... OK
* checking dependencies in R code ... OK
* checking S3 generic/method consistency ... OK
* checking replacement functions ... OK
* checking foreign function calls ... OK
* checking R code for possible problems ... NOTE
calcDistance: no visible global function definition for ‘density’
callSummarizeH01: no visible binding for global variable ‘var’
callSummarizeH01: no visible global function definition for ‘rnorm’
createAnnotation: no visible global function definition for
  ‘installed.packages’
determineBaselineArray: no visible binding for global variable ‘median’
flcSnp6Std: no visible global function definition for ‘lowess’
flcSnp6Std: no visible global function definition for ‘approx’
flcSnp6StdH01: no visible global function definition for ‘lowess’
flcSnp6StdH01: no visible global function definition for ‘approx’
flcStd: no visible global function definition for ‘lowess’
flcStd: no visible global function definition for ‘approx’
flcStdH01: no visible global function definition for ‘lowess’
flcStdH01: no visible global function definition for ‘approx’
getProbePositionEffectDesignMatrix: no visible global function
  definition for ‘head’
getVar: no visible global function definition for ‘getFromNamespace’
initializeBigMatrix: no visible global function definition for
  ‘isPackageLoaded’
normalizeAverage: no visible binding for global variable ‘median’
normalizeAverage: no visible global function definition for ‘median’
normalizeSorH01: no visible binding for global variable ‘pairs’
normalizeSorH01: no visible global function definition for ‘median’
plotDendrogram : colLab: no visible global function definition for
  ‘is.leaf’
plotDendrogram: no visible global function definition for
  ‘as.dendrogram’
plotDendrogram: no visible global function definition for ‘hclust’
plotDendrogram: no visible global function definition for
  ‘order.dendrogram’
plotDendrogram: no visible global function definition for ‘dendrapply’
plotDensity: no visible global function definition for ‘density’
plotDensity: no visible global function definition for ‘lines’
plotEvalIc: no visible global function definition for ‘rgb’
plotEvalIc: no visible global function definition for ‘rect’
plotEvalIc: no visible global function definition for ‘points’
plotEvalIc: no visible global function definition for ‘densCols’
plotEvalIc: no visible global function definition for ‘mtext’
plotRegions: no visible global function definition for ‘pdf’
plotRegions: no visible global function definition for ‘text’
plotRegions: no visible global function definition for ‘par’
plotRegions: no visible global function definition for ‘matplot’
plotRegions: no visible global function definition for ‘abline’
plotRegions: no visible global function definition for ‘matlines’
plotRegions: no visible global function definition for ‘legend’
plotRegions: no visible global function definition for ‘axis’
plotRegions: no visible global function definition for ‘nclass.Sturges’
plotRegions: no visible global function definition for ‘dev.off’
plotSmoothScatter: no visible global function definition for ‘pdf’
plotSmoothScatter: no visible global function definition for
  ‘smoothScatter’
plotSmoothScatter: no visible global function definition for ‘abline’
plotSmoothScatter: no visible global function definition for ‘loess’
plotSmoothScatter: no visible global function definition for ‘points’
plotSmoothScatter: no visible global function definition for ‘dev.off’
setVar: no visible global function definition for ‘assignInNamespace’
sfClusterSetupSPRNG: no visible global function definition for ‘runif’
sfExport: no visible global function definition for ‘getFromNamespace’
sfExportAll: no visible global function definition for ‘na.omit’
sfInit: no visible global function definition for ‘makeNWScluster’
sfInit: no visible global function definition for ‘packageDescription’
sfTest : testCalc1: no visible global function definition for ‘runif’
sfTest : testCalc2: no visible global function definition for ‘runif’
summarizeFarmsExact: no visible global function definition for ‘median’
summarizeFarmsExact: no visible binding for global variable ‘median’
summarizeFarmsExact: no visible global function definition for ‘pchisq’
summarizeFarmsExact2: no visible global function definition for
  ‘median’
summarizeFarmsExact2: no visible binding for global variable ‘median’
summarizeFarmsExact2: no visible global function definition for
  ‘pchisq’
summarizeFarmsExact3: no visible global function definition for
  ‘median’
summarizeFarmsExact3: no visible binding for global variable ‘median’
summarizeFarmsExact3: no visible global function definition for
  ‘pchisq’
summarizeFarmsGaussian: no visible global function definition for
  ‘median’
summarizeFarmsGaussian: no visible binding for global variable ‘median’
summarizeFarmsGaussian: no visible global function definition for ‘var’
summarizeFarmsStatistics: no visible binding for global variable
  ‘median’
summarizeFarmsStatistics: no visible global function definition for
  ‘median’
summarizeFarmsVariational: no visible binding for global variable
  ‘median’
summarizeFarmsVariational: no visible global function definition for
  ‘sd’
summarizeFarmsVariational: no visible global function definition for
  ‘median’
summarizeFarmsVariational: no visible global function definition for
  ‘var’
Undefined global functions or variables:
  abline approx as.dendrogram assignInNamespace axis dendrapply
  densCols density dev.off getFromNamespace hclust head
  installed.packages is.leaf isPackageLoaded legend lines loess lowess
  makeNWScluster matlines matplot median mtext na.omit nclass.Sturges
  order.dendrogram packageDescription pairs par pchisq pdf points rect
  rgb rnorm runif sd smoothScatter text var
Consider adding
  importFrom("grDevices", "densCols", "dev.off", "nclass.Sturges", "pdf",
             "rgb")
  importFrom("graphics", "abline", "axis", "legend", "lines", "matlines",
             "matplot", "mtext", "pairs", "par", "points", "rect",
             "smoothScatter", "text")
  importFrom("stats", "approx", "as.dendrogram", "dendrapply", "density",
             "hclust", "is.leaf", "loess", "lowess", "median", "na.omit",
             "order.dendrogram", "pchisq", "rnorm", "runif", "sd", "var")
  importFrom("utils", "assignInNamespace", "getFromNamespace", "head",
             "installed.packages", "packageDescription")
to your NAMESPACE file.
* checking Rd files ... OK
* checking Rd metadata ... OK
* checking Rd cross-references ... OK
* checking for missing documentation entries ... OK
* checking for code/documentation mismatches ... OK
* checking Rd \usage sections ... OK
* checking Rd contents ... OK
* checking for unstated dependencies in examples ... OK
* checking R/sysdata.rda ... OK
* checking line endings in C/C++/Fortran sources/headers ... OK
* checking compiled code ... NOTE
Note: information on .o files is not available
* checking files in ‘vignettes’ ... OK
* checking examples ... OK
* checking for unstated dependencies in vignettes ... OK
* checking package vignettes ... OK
* checking re-building of vignette outputs ... OK
* checking PDF version of manual ... OK
* DONE

Status: 2 NOTEs
See
  ‘/home/biocbuild/bbs-3.19-bioc/meat/cn.farms.Rcheck/00check.log’
for details.


Installation output

cn.farms.Rcheck/00install.out

##############################################################################
##############################################################################
###
### Running command:
###
###   /home/biocbuild/bbs-3.19-bioc/R/bin/R CMD INSTALL cn.farms
###
##############################################################################
##############################################################################


* installing to library ‘/home/biocbuild/bbs-3.19-bioc/R/site-library’
* installing *source* package ‘cn.farms’ ...
** using staged installation
** libs
using C compiler: ‘gcc (Ubuntu 11.4.0-1ubuntu1~22.04) 11.4.0’
using C++ compiler: ‘g++ (Ubuntu 11.4.0-1ubuntu1~22.04) 11.4.0’
gcc -I"/home/biocbuild/bbs-3.19-bioc/R/include" -DNDEBUG   -I/usr/local/include    -fpic  -g -O2  -Wall -c R_init_cnfarms.c -o R_init_cnfarms.o
g++ -std=gnu++17 -I"/home/biocbuild/bbs-3.19-bioc/R/include" -DNDEBUG   -I/usr/local/include    -fpic  -g -O2  -Wall  -c laplace.cpp -o laplace.o
laplace.cpp: In function ‘SEXPREC* momentsGauss(SEXP, SEXP, SEXP, SEXP, SEXP, SEXP, SEXP, SEXP, SEXP, SEXP)’:
laplace.cpp:442:13: warning: unused variable ‘method’ [-Wunused-variable]
  442 |         int method=0;
      |             ^~~~~~
laplace.cpp: In function ‘void computeParameters(double, double, double, double, double, double, int&, double&, double&, double&, double&, double&, double&, double&, double&, double&, double&, double&, double&, double&, double&)’:
laplace.cpp:368:63: warning: ‘I1right’ may be used uninitialized in this function [-Wmaybe-uninitialized]
  368 |         double rightMoment1=1.0*rightMy*I0right+1.0*rightSigma*I1right;
      |                                                 ~~~~~~~~~~~~~~^~~~~~~~
laplace.cpp:364:42: warning: ‘I1left’ may be used uninitialized in this function [-Wmaybe-uninitialized]
  364 |         double I2left=(-leftMy/leftSigma)*I1left+I0left;
      |                       ~~~~~~~~~~~~~~~~~~~^~~~~~~
gcc -I"/home/biocbuild/bbs-3.19-bioc/R/include" -DNDEBUG   -I/usr/local/include    -fpic  -g -O2  -Wall -c sparse_farms.c -o sparse_farms.o
g++ -std=gnu++17 -shared -L/home/biocbuild/bbs-3.19-bioc/R/lib -L/usr/local/lib -o cn.farms.so R_init_cnfarms.o laplace.o sparse_farms.o -L/home/biocbuild/bbs-3.19-bioc/R/lib -lR
installing to /home/biocbuild/bbs-3.19-bioc/R/site-library/00LOCK-cn.farms/00new/cn.farms/libs
** R
** demo
** inst
** byte-compile and prepare package for lazy loading
** help
*** installing help indices
** building package indices
** installing vignettes
** testing if installed package can be loaded from temporary location
** checking absolute paths in shared objects and dynamic libraries
** testing if installed package can be loaded from final location
** testing if installed package keeps a record of temporary installation path
* DONE (cn.farms)

Tests output


Example timings

cn.farms.Rcheck/cn.farms-Ex.timings

nameusersystemelapsed
cn.farms000
combineData0.7560.0440.801
createAnnotation0.0000.0000.001
distributionDistance0.6060.0440.651
dnaCopySf0.0670.0030.071
fragLengCorr1.4550.1201.576
mlSummarization2.2750.1282.403
normalizeAverage0.0020.0000.002
normalizeCels000
normalizeNpData0.0000.0000.001
plotDendrogram0.0810.0120.092
plotDensity0.3560.0040.359
plotEvalIc0.3170.0040.321
plotRegions0.1140.0160.129
plotSmoothScatter0.2600.0000.259
plotViolines0.1110.0000.110
slSummarization1.9150.0481.963
sparseFarmsC0.0000.0010.001
summarizeFarmsExact0.0040.0020.005
summarizeFarmsExact20.0020.0040.005
summarizeFarmsExact30.0050.0000.005
summarizeFarmsGaussian0.0020.0000.001
summarizeFarmsMethods0.0010.0000.001
summarizeFarmsVariational0.0040.0000.003
summarizeWindowBps0.0000.0040.004
summarizeWindowMethods0.0010.0000.002
summarizeWindowStd0.0030.0000.003