Index of /checkResults/release/bioc-LATEST/SomaticSignatures/raw-results

[ICO]NameLast modifiedSizeDescription

[DIR]Parent Directory  -  
[   ]info.dcf27-Jan-2022 03:08 288  
[DIR]machv2/27-Jan-2022 03:08 -  
[DIR]nebbiolo2/27-Jan-2022 03:06 -  
[DIR]tokay2/27-Jan-2022 03:07 -