Back to Multiple platform build/check report for BioC 3.19:   simplified   long
ABCDEFGHIJKLMNOPQ[R]STUVWXYZ

This page was generated on 2024-06-18 17:59 -0400 (Tue, 18 Jun 2024).

HostnameOSArch (*)R versionInstalled pkgs
nebbiolo1Linux (Ubuntu 22.04.3 LTS)x86_644.4.0 (2024-04-24) -- "Puppy Cup" 4758
palomino3Windows Server 2022 Datacenterx644.4.0 (2024-04-24 ucrt) -- "Puppy Cup" 4492
merida1macOS 12.7.4 Montereyx86_644.4.0 (2024-04-24) -- "Puppy Cup" 4464
kjohnson1macOS 13.6.6 Venturaarm644.4.0 (2024-04-24) -- "Puppy Cup" 4464
Click on any hostname to see more info about the system (e.g. compilers)      (*) as reported by 'uname -p', except on Windows and Mac OS X

Package 1775/2300HostnameOS / ArchINSTALLBUILDCHECKBUILD BIN
RIPAT 1.14.0  (landing page)
Min-Jeong Baek
Snapshot Date: 2024-06-16 14:00 -0400 (Sun, 16 Jun 2024)
git_url: https://git.bioconductor.org/packages/RIPAT
git_branch: RELEASE_3_19
git_last_commit: f2a161d
git_last_commit_date: 2024-04-30 11:26:21 -0400 (Tue, 30 Apr 2024)
nebbiolo1Linux (Ubuntu 22.04.3 LTS) / x86_64  OK    OK    ERROR  
palomino3Windows Server 2022 Datacenter / x64  OK    OK    OK    OK  UNNEEDED, same version is already published
merida1macOS 12.7.4 Monterey / x86_64  OK    OK    OK    OK  UNNEEDED, same version is already published
kjohnson1macOS 13.6.6 Ventura / arm64  OK    OK    OK    OK  UNNEEDED, same version is already published


CHECK results for RIPAT on palomino3

To the developers/maintainers of the RIPAT package:
- Allow up to 24 hours (and sometimes 48 hours) for your latest push to git@git.bioconductor.org:packages/RIPAT.git to reflect on this report. See Troubleshooting Build Report for more information.
- Use the following Renviron settings to reproduce errors and warnings.
- If 'R CMD check' started to fail recently on the Linux builder(s) over a missing dependency, add the missing dependency to 'Suggests:' in your DESCRIPTION file. See Renviron.bioc for more information.

raw results


Summary

Package: RIPAT
Version: 1.14.0
Command: F:\biocbuild\bbs-3.19-bioc\R\bin\R.exe CMD check --no-multiarch --install=check:RIPAT.install-out.txt --library=F:\biocbuild\bbs-3.19-bioc\R\library --no-vignettes --timings RIPAT_1.14.0.tar.gz
StartedAt: 2024-06-17 10:16:50 -0400 (Mon, 17 Jun 2024)
EndedAt: 2024-06-17 10:21:45 -0400 (Mon, 17 Jun 2024)
EllapsedTime: 294.6 seconds
RetCode: 0
Status:   OK  
CheckDir: RIPAT.Rcheck
Warnings: 0

Command output

##############################################################################
##############################################################################
###
### Running command:
###
###   F:\biocbuild\bbs-3.19-bioc\R\bin\R.exe CMD check --no-multiarch --install=check:RIPAT.install-out.txt --library=F:\biocbuild\bbs-3.19-bioc\R\library --no-vignettes --timings RIPAT_1.14.0.tar.gz
###
##############################################################################
##############################################################################


* using log directory 'F:/biocbuild/bbs-3.19-bioc/meat/RIPAT.Rcheck'
* using R version 4.4.0 (2024-04-24 ucrt)
* using platform: x86_64-w64-mingw32
* R was compiled by
    gcc.exe (GCC) 13.2.0
    GNU Fortran (GCC) 13.2.0
* running under: Windows Server 2022 x64 (build 20348)
* using session charset: UTF-8
* using option '--no-vignettes'
* checking for file 'RIPAT/DESCRIPTION' ... OK
* this is package 'RIPAT' version '1.14.0'
* package encoding: UTF-8
* checking package namespace information ... OK
* checking package dependencies ... OK
* checking if this is a source package ... OK
* checking if there is a namespace ... OK
* checking for hidden files and directories ... OK
* checking for portable file names ... OK
* checking whether package 'RIPAT' can be installed ... OK
* checking installed package size ... OK
* checking package directory ... OK
* checking 'build' directory ... OK
* checking DESCRIPTION meta-information ... OK
* checking top-level files ... OK
* checking for left-over files ... OK
* checking index information ... OK
* checking package subdirectories ... OK
* checking code files for non-ASCII characters ... OK
* checking R files for syntax errors ... OK
* checking whether the package can be loaded ... OK
* checking whether the package can be loaded with stated dependencies ... OK
* checking whether the package can be unloaded cleanly ... OK
* checking whether the namespace can be loaded with stated dependencies ... OK
* checking whether the namespace can be unloaded cleanly ... OK
* checking whether startup messages can be suppressed ... OK
* checking dependencies in R code ... OK
* checking S3 generic/method consistency ... OK
* checking replacement functions ... OK
* checking foreign function calls ... OK
* checking R code for possible problems ... NOTE
annoByCpG: no visible global function definition for 'hist'
annoByCpG: no visible binding for global variable 'Range'
annoByCpG: no visible binding for global variable 'Freq'
annoByCpG: no visible binding for global variable 'Group'
annoByGene: no visible global function definition for 'hist'
annoByGene: no visible binding for global variable 'Range'
annoByGene: no visible binding for global variable 'Freq'
annoByGene: no visible binding for global variable 'Group'
annoByRepeat: no visible global function definition for 'hist'
annoByRepeat: no visible binding for global variable 'all_dist_dup_m'
annoByRepeat: no visible binding for global variable 'Range'
annoByRepeat: no visible binding for global variable 'Freq'
annoByRepeat: no visible binding for global variable 'Group'
annoByVar: no visible global function definition for 'hist'
annoByVar: no visible binding for global variable 'Range'
annoByVar: no visible binding for global variable 'Freq'
annoByVar: no visible binding for global variable 'Group'
makeDocument : <anonymous>: no visible global function definition for
  'hist'
makeDocument: no visible binding for global variable 'group'
makeDocument: no visible binding for global variable 'type'
makeDocument: no visible binding for global variable 'convert_p'
makeDocument: no visible global function definition for 'par'
Undefined global functions or variables:
  Freq Group Range all_dist_dup_m convert_p group hist par type
Consider adding
  importFrom("graphics", "hist", "par")
to your NAMESPACE file.
* checking Rd files ... OK
* checking Rd metadata ... OK
* checking Rd cross-references ... OK
* checking for missing documentation entries ... OK
* checking for code/documentation mismatches ... OK
* checking Rd \usage sections ... OK
* checking Rd contents ... OK
* checking for unstated dependencies in examples ... OK
* checking contents of 'data' directory ... OK
* checking data for non-ASCII characters ... OK
* checking data for ASCII and uncompressed saves ... OK
* checking files in 'vignettes' ... OK
* checking examples ... OK
Examples with CPU (user + system) or elapsed time > 5s
              user system elapsed
drawingKaryo 11.78   6.55   18.54
annoByCpG     3.90   6.39   10.40
makeData      6.40   1.95    9.72
makeDocument  3.47   0.79    5.56
makeInputObj  0.96   0.07    5.44
* checking for unstated dependencies in vignettes ... OK
* checking package vignettes ... OK
* checking running R code from vignettes ... SKIPPED
* checking re-building of vignette outputs ... SKIPPED
* checking PDF version of manual ... OK
* DONE

Status: 1 NOTE
See
  'F:/biocbuild/bbs-3.19-bioc/meat/RIPAT.Rcheck/00check.log'
for details.


Installation output

RIPAT.Rcheck/00install.out

##############################################################################
##############################################################################
###
### Running command:
###
###   F:\biocbuild\bbs-3.19-bioc\R\bin\R.exe CMD INSTALL RIPAT
###
##############################################################################
##############################################################################


* installing to library 'F:/biocbuild/bbs-3.19-bioc/R/library'
* installing *source* package 'RIPAT' ...
** using staged installation
** R
** data
** inst
** byte-compile and prepare package for lazy loading
** help
*** installing help indices
** building package indices
** installing vignettes
** testing if installed package can be loaded from temporary location
Warning in fun(libname, pkgname) :
  Package 'RIPAT' is deprecated and will be removed from Bioconductor
  version 3.20
** testing if installed package can be loaded from final location
Warning in fun(libname, pkgname) :
  Package 'RIPAT' is deprecated and will be removed from Bioconductor
  version 3.20
** testing if installed package keeps a record of temporary installation path
* DONE (RIPAT)

Tests output


Example timings

RIPAT.Rcheck/RIPAT-Ex.timings

nameusersystemelapsed
annoByCpG 3.90 6.3910.40
annoByGene1.470.091.57
annoByRepeat1.160.171.35
annoByVar0.690.080.76
blast_gene0.060.000.07
blast_obj0.010.000.01
cpg_exam_db0.020.000.02
drawingKaryo11.78 6.5518.54
gene_exam_db0.020.020.03
makeData6.401.959.72
makeDocument3.470.795.56
makeInputObj0.960.075.44
makeInputObj21.650.021.67
micro_exam_db0.000.010.02
repeat_exam_db0.000.020.01
tss_exam_db0.020.000.02
var_exam_db0.040.020.06