Index of /checkResults/release/bioc-LATEST/RIPAT/raw-results

[ICO]NameLast modifiedSizeDescription

[DIR]Parent Directory  -  
[   ]info.dcf02-Dec-2022 01:09 268  
[DIR]kjohnson/12-Jul-2022 00:06 -  
[DIR]lconway/02-Dec-2022 01:09 -  
[DIR]nebbiolo2/02-Dec-2022 01:06 -  
[DIR]palomino4/02-Dec-2022 01:07 -