Back to Multiple platform build/check report for BioC 3.15 |
|
This page was generated on 2022-06-24 12:07:41 -0400 (Fri, 24 Jun 2022).
Hostname | OS | Arch (*) | R version | Installed pkgs |
---|---|---|---|---|
nebbiolo1 | Linux (Ubuntu 20.04.4 LTS) | x86_64 | 4.2.0 (2022-04-22) -- "Vigorous Calisthenics" | 4380 |
palomino3 | Windows Server 2022 Datacenter | x64 | 4.2.0 (2022-04-22 ucrt) -- "Vigorous Calisthenics" | 4156 |
merida1 | macOS 10.14.6 Mojave | x86_64 | 4.2.0 (2022-04-22) -- "Vigorous Calisthenics" | 4221 |
Click on any hostname to see more info about the system (e.g. compilers) (*) as reported by 'uname -p', except on Windows and Mac OS X |
To the developers/maintainers of the MAGeCKFlute package: - Please allow up to 24 hours (and sometimes 48 hours) for your latest push to git@git.bioconductor.org:packages/MAGeCKFlute.git to reflect on this report. See How and When does the builder pull? When will my changes propagate? for more information. - Make sure to use the following settings in order to reproduce any error or warning you see on this page. |
Package 1063/2140 | Hostname | OS / Arch | INSTALL | BUILD | CHECK | BUILD BIN | ||||||||
MAGeCKFlute 2.0.0 (landing page) Wubing Zhang
| nebbiolo1 | Linux (Ubuntu 20.04.4 LTS) / x86_64 | OK | OK | OK | ![]() | ||||||||
palomino3 | Windows Server 2022 Datacenter / x64 | OK | OK | OK | OK | ![]() | ||||||||
merida1 | macOS 10.14.6 Mojave / x86_64 | OK | OK | OK | OK | ![]() | ||||||||
Package: MAGeCKFlute |
Version: 2.0.0 |
Command: /Library/Frameworks/R.framework/Resources/bin/R CMD build --keep-empty-dirs --no-resave-data MAGeCKFlute |
StartedAt: 2022-06-23 19:14:37 -0400 (Thu, 23 Jun 2022) |
EndedAt: 2022-06-23 19:19:52 -0400 (Thu, 23 Jun 2022) |
EllapsedTime: 314.4 seconds |
RetCode: 0 |
Status: OK |
PackageFile: MAGeCKFlute_2.0.0.tar.gz |
PackageFileSize: 59.14 MiB |
############################################################################## ############################################################################## ### ### Running command: ### ### /Library/Frameworks/R.framework/Resources/bin/R CMD build --keep-empty-dirs --no-resave-data MAGeCKFlute ### ############################################################################## ############################################################################## * checking for file ‘MAGeCKFlute/DESCRIPTION’ ... OK * preparing ‘MAGeCKFlute’: * checking DESCRIPTION meta-information ... OK * installing the package to build vignettes * creating vignettes ... OK * checking for LF line-endings in source and make files and shell scripts * checking for empty or unneeded directories Omitted ‘LazyData’ from DESCRIPTION * building ‘MAGeCKFlute_2.0.0.tar.gz’ Warning in utils::tar(filepath, pkgname, compression = compression, compression_level = 9L, : storing paths of more than 100 bytes is not portable: ‘MAGeCKFlute/vignettes/MAGeCKFlute_cache/html/CheckCountSummary_603010af56a6d947a1f156c7fa096fe8.RData’ Warning in utils::tar(filepath, pkgname, compression = compression, compression_level = 9L, : storing paths of more than 100 bytes is not portable: ‘MAGeCKFlute/vignettes/MAGeCKFlute_cache/html/incorporateDepmap2_243dd997e9777fa91c655abcff5a3198.RData’ Warning in utils::tar(filepath, pkgname, compression = compression, compression_level = 9L, : storing paths of more than 100 bytes is not portable: ‘MAGeCKFlute/vignettes/MAGeCKFlute_cache/html/incorporateDepmap_1580ffba4b84578a576f7afbe09f7641.RData’