Back to Multiple platform build/check report for BioC 3.17: simplified long |
|
This page was generated on 2023-10-03 11:37:31 -0400 (Tue, 03 Oct 2023).
Hostname | OS | Arch (*) | R version | Installed pkgs |
---|---|---|---|---|
nebbiolo1 | Linux (Ubuntu 22.04.2 LTS) | x86_64 | 4.3.1 (2023-06-16) -- "Beagle Scouts" | 4626 |
palomino3 | Windows Server 2022 Datacenter | x64 | 4.3.1 (2023-06-16 ucrt) -- "Beagle Scouts" | 4379 |
merida1 | macOS 12.6.4 Monterey | x86_64 | 4.3.1 (2023-06-16) -- "Beagle Scouts" | 4395 |
Click on any hostname to see more info about the system (e.g. compilers) (*) as reported by 'uname -p', except on Windows and Mac OS X |
Package 1104/2230 | Hostname | OS / Arch | INSTALL | BUILD | CHECK | BUILD BIN | ||||||||
MAGeCKFlute 2.4.0 (landing page) Wubing Zhang
| nebbiolo1 | Linux (Ubuntu 22.04.2 LTS) / x86_64 | OK | OK | OK | ![]() | ||||||||
palomino3 | Windows Server 2022 Datacenter / x64 | OK | OK | OK | OK | ![]() | ||||||||
merida1 | macOS 12.6.4 Monterey / x86_64 | OK | OK | OK | OK | ![]() | ||||||||
To the developers/maintainers of the MAGeCKFlute package: - Allow up to 24 hours (and sometimes 48 hours) for your latest push to git@git.bioconductor.org:packages/MAGeCKFlute.git to reflect on this report. See Troubleshooting Build Report for more information. - Use the following Renviron settings to reproduce errors and warnings. - If 'R CMD check' started to fail recently on the Linux builder(s) over a missing dependency, add the missing dependency to 'Suggests:' in your DESCRIPTION file. See Renviron.bioc for more information. |
Package: MAGeCKFlute |
Version: 2.4.0 |
Command: /Library/Frameworks/R.framework/Resources/bin/R CMD check --install=check:MAGeCKFlute.install-out.txt --library=/Library/Frameworks/R.framework/Resources/library --no-vignettes --timings MAGeCKFlute_2.4.0.tar.gz |
StartedAt: 2023-10-03 03:19:26 -0400 (Tue, 03 Oct 2023) |
EndedAt: 2023-10-03 03:29:57 -0400 (Tue, 03 Oct 2023) |
EllapsedTime: 631.0 seconds |
RetCode: 0 |
Status: OK |
CheckDir: MAGeCKFlute.Rcheck |
Warnings: 0 |
############################################################################## ############################################################################## ### ### Running command: ### ### /Library/Frameworks/R.framework/Resources/bin/R CMD check --install=check:MAGeCKFlute.install-out.txt --library=/Library/Frameworks/R.framework/Resources/library --no-vignettes --timings MAGeCKFlute_2.4.0.tar.gz ### ############################################################################## ############################################################################## * using log directory ‘/Users/biocbuild/bbs-3.17-bioc/meat/MAGeCKFlute.Rcheck’ * using R version 4.3.1 (2023-06-16) * using platform: x86_64-apple-darwin20 (64-bit) * R was compiled by Apple clang version 14.0.3 (clang-1403.0.22.14.1) GNU Fortran (GCC) 12.2.0 * running under: macOS Monterey 12.6.4 * using session charset: UTF-8 * using option ‘--no-vignettes’ * checking for file ‘MAGeCKFlute/DESCRIPTION’ ... OK * checking extension type ... Package * this is package ‘MAGeCKFlute’ version ‘2.4.0’ * package encoding: UTF-8 * checking package namespace information ... OK * checking package dependencies ... OK * checking if this is a source package ... OK * checking if there is a namespace ... OK * checking for hidden files and directories ... OK * checking for portable file names ... OK * checking for sufficient/correct file permissions ... OK * checking whether package ‘MAGeCKFlute’ can be installed ... OK * checking installed package size ... NOTE installed size is 20.7Mb sub-directories of 1Mb or more: extdata 20.3Mb * checking package directory ... OK * checking ‘build’ directory ... OK * checking DESCRIPTION meta-information ... OK * checking top-level files ... OK * checking for left-over files ... OK * checking index information ... OK * checking package subdirectories ... OK * checking R files for non-ASCII characters ... OK * checking R files for syntax errors ... OK * checking whether the package can be loaded ... OK * checking whether the package can be loaded with stated dependencies ... OK * checking whether the package can be unloaded cleanly ... OK * checking whether the namespace can be loaded with stated dependencies ... OK * checking whether the namespace can be unloaded cleanly ... OK * checking dependencies in R code ... OK * checking S3 generic/method consistency ... OK * checking replacement functions ... OK * checking foreign function calls ... OK * checking R code for possible problems ... NOTE EnrichedFilter: no visible global function definition for ‘is’ EnrichedGeneView: no visible global function definition for ‘is’ EnrichedView: no visible global function definition for ‘is’ EnrichedView: no visible global function definition for ‘slot’ enrich.HGT: no visible global function definition for ‘new’ Undefined global functions or variables: is new slot Consider adding importFrom("methods", "is", "new", "slot") to your NAMESPACE file (and ensure that your DESCRIPTION Imports field contains 'methods'). * checking Rd files ... OK * checking Rd metadata ... OK * checking Rd cross-references ... OK * checking for missing documentation entries ... OK * checking for code/documentation mismatches ... OK * checking Rd \usage sections ... OK * checking Rd contents ... OK * checking for unstated dependencies in examples ... OK * checking files in ‘vignettes’ ... OK * checking examples ... OK Examples with CPU (user + system) or elapsed time > 5s user system elapsed MAView 22.096 0.460 29.283 enrich.ORT 6.727 0.116 9.025 ScatterView 5.189 0.147 7.199 BatchRemove 4.981 0.126 6.468 enrich.HGT 4.271 0.095 5.927 * checking for unstated dependencies in vignettes ... OK * checking package vignettes in ‘inst/doc’ ... OK * checking running R code from vignettes ... SKIPPED * checking re-building of vignette outputs ... SKIPPED * checking PDF version of manual ... OK * DONE Status: 2 NOTEs See ‘/Users/biocbuild/bbs-3.17-bioc/meat/MAGeCKFlute.Rcheck/00check.log’ for details.
MAGeCKFlute.Rcheck/00install.out
############################################################################## ############################################################################## ### ### Running command: ### ### /Library/Frameworks/R.framework/Resources/bin/R CMD INSTALL MAGeCKFlute ### ############################################################################## ############################################################################## * installing to library ‘/Library/Frameworks/R.framework/Versions/4.3-x86_64/Resources/library’ * installing *source* package ‘MAGeCKFlute’ ... ** using staged installation ** R ** inst ** byte-compile and prepare package for lazy loading ** help *** installing help indices ** building package indices ** installing vignettes ** testing if installed package can be loaded from temporary location ** testing if installed package can be loaded from final location ** testing if installed package keeps a record of temporary installation path * DONE (MAGeCKFlute)
MAGeCKFlute.Rcheck/MAGeCKFlute-Ex.timings
name | user | system | elapsed | |
BarView | 0.377 | 0.008 | 0.476 | |
BatchRemove | 4.981 | 0.126 | 6.468 | |
ConsistencyView | 1.563 | 0.093 | 2.155 | |
CutoffCalling | 0.005 | 0.001 | 0.008 | |
DensityDiffView | 1.809 | 0.043 | 2.378 | |
DensityView | 1.551 | 0.042 | 2.027 | |
EnrichAnalyzer | 0.019 | 0.002 | 0.024 | |
EnrichedFilter | 0.016 | 0.002 | 0.025 | |
EnrichedGeneView | 0.017 | 0.002 | 0.023 | |
EnrichedView | 0.016 | 0.001 | 0.023 | |
FluteMLE | 0.001 | 0.001 | 0.002 | |
FluteRRA | 0.003 | 0.001 | 0.010 | |
HeatmapView | 0.631 | 0.015 | 0.814 | |
IdentBarView | 0.296 | 0.004 | 0.388 | |
IncorporateDepmap | 0.369 | 0.013 | 0.497 | |
MAView | 22.096 | 0.460 | 29.283 | |
MapRatesView | 0.873 | 0.011 | 1.166 | |
NormalizeBeta | 1.273 | 0.023 | 1.723 | |
OmitCommonEssential | 0.000 | 0.000 | 0.001 | |
RankView | 1.198 | 0.065 | 1.664 | |
ReadBeta | 0.575 | 0.013 | 0.772 | |
ReadRRA | 0.370 | 0.012 | 0.530 | |
ReadsgRRA | 0.021 | 0.002 | 0.027 | |
ResembleDepmap | 0.314 | 0.007 | 0.432 | |
ScatterView | 5.189 | 0.147 | 7.199 | |
Selector | 1.080 | 0.019 | 1.521 | |
SquareView | 1.898 | 0.062 | 2.684 | |
TransGeneID | 3.357 | 0.045 | 4.362 | |
ViolinView | 3.112 | 0.067 | 4.157 | |
VolcanoView | 2.270 | 0.081 | 3.093 | |
arrangePathview | 0.582 | 0.016 | 0.786 | |
enrich.GSE | 0.016 | 0.002 | 0.019 | |
enrich.HGT | 4.271 | 0.095 | 5.927 | |
enrich.ORT | 6.727 | 0.116 | 9.025 | |
getCols | 0.011 | 0.001 | 0.012 | |
getGeneAnn | 0.000 | 0.000 | 0.001 | |
getOrg | 0.002 | 0.000 | 0.002 | |
getOrtAnn | 0.000 | 0.000 | 0.001 | |
gsGetter | 0.518 | 0.012 | 0.678 | |
hclustView | 0.732 | 0.026 | 1.043 | |
loadDepmap | 0.000 | 0.000 | 0.001 | |
normalize.loess | 1.407 | 0.034 | 1.920 | |
sgRankView | 0.359 | 0.004 | 0.466 | |
writeGMT | 0.048 | 0.002 | 0.065 | |