Back to Multiple platform build/check report for BioC 3.18:   simplified   long
ABCDEFG[H]IJKLMNOPQRSTUVWXYZ

This page was generated on 2024-02-22 11:37:48 -0500 (Thu, 22 Feb 2024).

HostnameOSArch (*)R versionInstalled pkgs
nebbiolo2Linux (Ubuntu 22.04.3 LTS)x86_644.3.2 Patched (2023-11-13 r85521) -- "Eye Holes" 4691
palomino4Windows Server 2022 Datacenterx644.3.2 (2023-10-31 ucrt) -- "Eye Holes" 4444
lconwaymacOS 12.7.1 Montereyx86_644.3.2 Patched (2023-11-01 r85457) -- "Eye Holes" 4465
Click on any hostname to see more info about the system (e.g. compilers)      (*) as reported by 'uname -p', except on Windows and Mac OS X

Package 935/2266HostnameOS / ArchINSTALLBUILDCHECKBUILD BIN
HDF5Array 1.30.1  (landing page)
Hervé Pagès
Snapshot Date: 2024-02-21 14:05:05 -0500 (Wed, 21 Feb 2024)
git_url: https://git.bioconductor.org/packages/HDF5Array
git_branch: RELEASE_3_18
git_last_commit: 1aee703
git_last_commit_date: 2024-02-14 00:03:31 -0500 (Wed, 14 Feb 2024)
nebbiolo2Linux (Ubuntu 22.04.3 LTS) / x86_64  OK    OK    WARNINGS  UNNEEDED, same version is already published
palomino4Windows Server 2022 Datacenter / x64  OK    OK    OK    OK  UNNEEDED, same version is already published
lconwaymacOS 12.7.1 Monterey / x86_64  OK    OK    ERROR    OK  
kjohnson1macOS 13.6.1 Ventura / arm64see weekly results here

BUILD results for HDF5Array on lconway


To the developers/maintainers of the HDF5Array package:
- Allow up to 24 hours (and sometimes 48 hours) for your latest push to git@git.bioconductor.org:packages/HDF5Array.git to reflect on this report. See Troubleshooting Build Report for more information.
- Use the following Renviron settings to reproduce errors and warnings.
- If 'R CMD check' started to fail recently on the Linux builder(s) over a missing dependency, add the missing dependency to 'Suggests:' in your DESCRIPTION file. See Renviron.bioc for more information.

raw results


Summary

Package: HDF5Array
Version: 1.30.1
Command: /Library/Frameworks/R.framework/Resources/bin/R CMD build --keep-empty-dirs --no-resave-data HDF5Array
StartedAt: 2024-02-21 16:55:25 -0500 (Wed, 21 Feb 2024)
EndedAt: 2024-02-21 16:55:28 -0500 (Wed, 21 Feb 2024)
EllapsedTime: 2.2 seconds
RetCode: 0
Status:   OK  
PackageFile: HDF5Array_1.30.1.tar.gz
PackageFileSize: 7.723 MiB

Command output

##############################################################################
##############################################################################
###
### Running command:
###
###   /Library/Frameworks/R.framework/Resources/bin/R CMD build --keep-empty-dirs --no-resave-data HDF5Array
###
##############################################################################
##############################################################################


* checking for file ‘HDF5Array/DESCRIPTION’ ... OK
* preparing ‘HDF5Array’:
* checking DESCRIPTION meta-information ... OK
* cleaning src
* checking for LF line-endings in source and make files and shell scripts
* checking for empty or unneeded directories
* building ‘HDF5Array_1.30.1.tar.gz’