Back to Multiple platform build/check report for BioC 3.19:   simplified   long
ABCDEF[G]HIJKLMNOPQRSTUVWXYZ

This page was generated on 2024-06-21 17:39 -0400 (Fri, 21 Jun 2024).

HostnameOSArch (*)R versionInstalled pkgs
nebbiolo1Linux (Ubuntu 22.04.3 LTS)x86_644.4.0 (2024-04-24) -- "Puppy Cup" 4758
palomino3Windows Server 2022 Datacenterx644.4.0 (2024-04-24 ucrt) -- "Puppy Cup" 4492
merida1macOS 12.7.4 Montereyx86_644.4.0 (2024-04-24) -- "Puppy Cup" 4506
kjohnson1macOS 13.6.6 Venturaarm644.4.0 (2024-04-24) -- "Puppy Cup" 4464
Click on any hostname to see more info about the system (e.g. compilers)      (*) as reported by 'uname -p', except on Windows and Mac OS X

Package 930/2300HostnameOS / ArchINSTALLBUILDCHECKBUILD BIN
GSVA 1.52.3  (landing page)
Robert Castelo
Snapshot Date: 2024-06-19 14:00 -0400 (Wed, 19 Jun 2024)
git_url: https://git.bioconductor.org/packages/GSVA
git_branch: RELEASE_3_19
git_last_commit: f34b397
git_last_commit_date: 2024-06-06 14:14:50 -0400 (Thu, 06 Jun 2024)
nebbiolo1Linux (Ubuntu 22.04.3 LTS) / x86_64  OK    OK    OK  UNNEEDED, same version is already published
palomino3Windows Server 2022 Datacenter / x64  OK    OK    OK    OK  UNNEEDED, same version is already published
merida1macOS 12.7.4 Monterey / x86_64  OK    OK    OK    OK  UNNEEDED, same version is already published
kjohnson1macOS 13.6.6 Ventura / arm64  OK    OK    OK    OK  UNNEEDED, same version is already published


BUILD results for GSVA on palomino3

To the developers/maintainers of the GSVA package:
- Allow up to 24 hours (and sometimes 48 hours) for your latest push to git@git.bioconductor.org:packages/GSVA.git to reflect on this report. See Troubleshooting Build Report for more information.
- Use the following Renviron settings to reproduce errors and warnings.
- If 'R CMD check' started to fail recently on the Linux builder(s) over a missing dependency, add the missing dependency to 'Suggests:' in your DESCRIPTION file. See Renviron.bioc for more information.

raw results


Summary

Package: GSVA
Version: 1.52.3
Command: chmod a+r GSVA -R && F:\biocbuild\bbs-3.19-bioc\R\bin\R.exe CMD build --keep-empty-dirs --no-resave-data GSVA
StartedAt: 2024-06-19 19:52:27 -0400 (Wed, 19 Jun 2024)
EndedAt: 2024-06-19 19:56:07 -0400 (Wed, 19 Jun 2024)
EllapsedTime: 220.0 seconds
RetCode: 0
Status:   OK  
PackageFile: GSVA_1.52.3.tar.gz
PackageFileSize: 2.098 MiB

Command output

##############################################################################
##############################################################################
###
### Running command:
###
###   chmod a+r GSVA -R && F:\biocbuild\bbs-3.19-bioc\R\bin\R.exe CMD build --keep-empty-dirs --no-resave-data GSVA
###
##############################################################################
##############################################################################


* checking for file 'GSVA/DESCRIPTION' ... OK
* preparing 'GSVA':
* checking DESCRIPTION meta-information ... OK
* cleaning src
* installing the package to build vignettes
* creating vignettes ... OK
* cleaning src
* checking for LF line-endings in source and make files and shell scripts
* checking for empty or unneeded directories
* building 'GSVA_1.52.3.tar.gz'
Warning: file 'GSVA/cleanup' did not have execute permissions: corrected