Index of /checkResults/release/bioc-LATEST/GSVA/raw-results

[ICO]NameLast modifiedSizeDescription

[DIR]Parent Directory  -  
[   ]info.dcf07-Dec-2022 01:09 269  
[DIR]kjohnson/12-Jul-2022 00:06 -  
[DIR]lconway/07-Dec-2022 01:09 -  
[DIR]nebbiolo2/07-Dec-2022 01:06 -  
[DIR]palomino4/07-Dec-2022 01:07 -