Back to Multiple platform build/check report for BioC 3.19:   simplified   long
AB[C]DEFGHIJKLMNOPQRSTUVWXYZ

This page was generated on 2024-06-18 17:58 -0400 (Tue, 18 Jun 2024).

HostnameOSArch (*)R versionInstalled pkgs
nebbiolo1Linux (Ubuntu 22.04.3 LTS)x86_644.4.0 (2024-04-24) -- "Puppy Cup" 4758
palomino3Windows Server 2022 Datacenterx644.4.0 (2024-04-24 ucrt) -- "Puppy Cup" 4492
merida1macOS 12.7.4 Montereyx86_644.4.0 (2024-04-24) -- "Puppy Cup" 4464
kjohnson1macOS 13.6.6 Venturaarm644.4.0 (2024-04-24) -- "Puppy Cup" 4464
Click on any hostname to see more info about the system (e.g. compilers)      (*) as reported by 'uname -p', except on Windows and Mac OS X

Package 416/2300HostnameOS / ArchINSTALLBUILDCHECKBUILD BIN
COMPASS 1.42.0  (landing page)
Greg Finak
Snapshot Date: 2024-06-16 14:00 -0400 (Sun, 16 Jun 2024)
git_url: https://git.bioconductor.org/packages/COMPASS
git_branch: RELEASE_3_19
git_last_commit: b47dd43
git_last_commit_date: 2024-04-30 10:35:03 -0400 (Tue, 30 Apr 2024)
nebbiolo1Linux (Ubuntu 22.04.3 LTS) / x86_64  OK    OK    OK  UNNEEDED, same version is already published
palomino3Windows Server 2022 Datacenter / x64  OK    OK    OK    OK  UNNEEDED, same version is already published
merida1macOS 12.7.4 Monterey / x86_64  OK    OK    OK    OK  UNNEEDED, same version is already published
kjohnson1macOS 13.6.6 Ventura / arm64  OK    OK    OK    OK  UNNEEDED, same version is already published


CHECK results for COMPASS on palomino3

To the developers/maintainers of the COMPASS package:
- Allow up to 24 hours (and sometimes 48 hours) for your latest push to git@git.bioconductor.org:packages/COMPASS.git to reflect on this report. See Troubleshooting Build Report for more information.
- Use the following Renviron settings to reproduce errors and warnings.
- If 'R CMD check' started to fail recently on the Linux builder(s) over a missing dependency, add the missing dependency to 'Suggests:' in your DESCRIPTION file. See Renviron.bioc for more information.

raw results


Summary

Package: COMPASS
Version: 1.42.0
Command: F:\biocbuild\bbs-3.19-bioc\R\bin\R.exe CMD check --no-multiarch --install=check:COMPASS.install-out.txt --library=F:\biocbuild\bbs-3.19-bioc\R\library --no-vignettes --timings COMPASS_1.42.0.tar.gz
StartedAt: 2024-06-17 02:05:34 -0400 (Mon, 17 Jun 2024)
EndedAt: 2024-06-17 02:08:58 -0400 (Mon, 17 Jun 2024)
EllapsedTime: 204.7 seconds
RetCode: 0
Status:   OK  
CheckDir: COMPASS.Rcheck
Warnings: 0

Command output

##############################################################################
##############################################################################
###
### Running command:
###
###   F:\biocbuild\bbs-3.19-bioc\R\bin\R.exe CMD check --no-multiarch --install=check:COMPASS.install-out.txt --library=F:\biocbuild\bbs-3.19-bioc\R\library --no-vignettes --timings COMPASS_1.42.0.tar.gz
###
##############################################################################
##############################################################################


* using log directory 'F:/biocbuild/bbs-3.19-bioc/meat/COMPASS.Rcheck'
* using R version 4.4.0 (2024-04-24 ucrt)
* using platform: x86_64-w64-mingw32
* R was compiled by
    gcc.exe (GCC) 13.2.0
    GNU Fortran (GCC) 13.2.0
* running under: Windows Server 2022 x64 (build 20348)
* using session charset: UTF-8
* using option '--no-vignettes'
* checking for file 'COMPASS/DESCRIPTION' ... OK
* checking extension type ... Package
* this is package 'COMPASS' version '1.42.0'
* package encoding: UTF-8
* checking package namespace information ... OK
* checking package dependencies ... OK
* checking if this is a source package ... OK
* checking if there is a namespace ... OK
* checking for hidden files and directories ... OK
* checking for portable file names ... OK
* checking whether package 'COMPASS' can be installed ... OK
* used C compiler: 'gcc.exe (GCC) 13.2.0'
* used C++ compiler: 'G__~1.EXE (GCC) 13.2.0'
* checking installed package size ... OK
* checking package directory ... OK
* checking 'build' directory ... OK
* checking DESCRIPTION meta-information ... OK
* checking top-level files ... OK
* checking for left-over files ... OK
* checking index information ... OK
* checking package subdirectories ... OK
* checking code files for non-ASCII characters ... OK
* checking R files for syntax errors ... OK
* checking whether the package can be loaded ... OK
* checking whether the package can be loaded with stated dependencies ... OK
* checking whether the package can be unloaded cleanly ... OK
* checking whether the namespace can be loaded with stated dependencies ... OK
* checking whether the namespace can be unloaded cleanly ... OK
* checking whether startup messages can be suppressed ... OK
* checking dependencies in R code ... NOTE
Namespaces in Imports field not imported from:
  'BiocStyle' 'foreach' 'rmarkdown'
  All declared Imports should be used.
* checking S3 generic/method consistency ... OK
* checking replacement functions ... OK
* checking foreign function calls ... OK
* checking R code for possible problems ... NOTE
.CellCounts: no visible binding for global variable
  '_COMPASS_CellCounts'
COMPASSfitToCountsTable: no visible binding for global variable
  'population'
COMPASSfitToCountsTable: no visible binding for global variable 'Count'
COMPASSfitToCountsTable: no visible binding for global variable 'id'
CellCounts_character: no visible binding for global variable
  '_COMPASS_CellCounts_character'
GetThresholdedIntensities : <anonymous>: no visible global function
  definition for 'gh_pop_is_bool_gate'
Undefined global functions or variables:
  Count _COMPASS_CellCounts _COMPASS_CellCounts_character
  gh_pop_is_bool_gate id population
* checking Rd files ... OK
* checking Rd metadata ... OK
* checking Rd cross-references ... OK
* checking for missing documentation entries ... OK
* checking for code/documentation mismatches ... OK
* checking Rd \usage sections ... OK
* checking Rd contents ... OK
* checking for unstated dependencies in examples ... OK
* checking contents of 'data' directory ... OK
* checking data for non-ASCII characters ... OK
* checking LazyData ... OK
* checking data for ASCII and uncompressed saves ... OK
* checking line endings in shell scripts ... OK
* checking line endings in C/C++/Fortran sources/headers ... OK
* checking line endings in Makefiles ... OK
* checking compilation flags in Makevars ... OK
* checking for GNU extensions in Makefiles ... OK
* checking for portable use of $(BLAS_LIBS) and $(LAPACK_LIBS) ... OK
* checking use of PKG_*FLAGS in Makefiles ... OK
* checking compiled code ... NOTE
Note: information on .o files for x64 is not available
File 'F:/biocbuild/bbs-3.19-bioc/R/library/COMPASS/libs/x64/COMPASS.dll':
  Found '_exit', possibly from '_exit' (C)
  Found 'abort', possibly from 'abort' (C), 'runtime' (Fortran)
  Found 'exit', possibly from 'exit' (C), 'stop' (Fortran)

Compiled code should not call entry points which might terminate R nor
write to stdout/stderr instead of to the console, nor use Fortran I/O
nor system RNGs nor [v]sprintf. The detected symbols are linked into
the code but might come from libraries and not actually be called.

See 'Writing portable packages' in the 'Writing R Extensions' manual.
* checking sizes of PDF files under 'inst/doc' ... OK
* checking files in 'vignettes' ... OK
* checking examples ... OK
Examples with CPU (user + system) or elapsed time > 5s
                          user system elapsed
shinyCOMPASSDeps          2.69   2.78    5.83
GetThresholdedIntensities 4.53   0.68    6.13
* checking for unstated dependencies in 'tests' ... OK
* checking tests ...
  Running 'test-all.R'
 OK
* checking for unstated dependencies in vignettes ... OK
* checking package vignettes ... OK
* checking running R code from vignettes ... SKIPPED
* checking re-building of vignette outputs ... SKIPPED
* checking PDF version of manual ... OK
* DONE

Status: 3 NOTEs
See
  'F:/biocbuild/bbs-3.19-bioc/meat/COMPASS.Rcheck/00check.log'
for details.


Installation output

COMPASS.Rcheck/00install.out

##############################################################################
##############################################################################
###
### Running command:
###
###   F:\biocbuild\bbs-3.19-bioc\R\bin\R.exe CMD INSTALL COMPASS
###
##############################################################################
##############################################################################


* installing to library 'F:/biocbuild/bbs-3.19-bioc/R/library'
* installing *source* package 'COMPASS' ...
** using staged installation
** libs
using C compiler: 'gcc.exe (GCC) 13.2.0'
using C++ compiler: 'G__~1.EXE (GCC) 13.2.0'
gcc  -I"F:/biocbuild/bbs-3.19-bioc/R/include" -DNDEBUG  -I'F:/biocbuild/bbs-3.19-bioc/R/library/Rcpp/include'   -I"C:/rtools44/x86_64-w64-mingw32.static.posix/include"     -O2 -Wall  -mfpmath=sse -msse2 -mstackrealign  -c COMPASS_init.c -o COMPASS_init.o
g++ -std=gnu++17  -I"F:/biocbuild/bbs-3.19-bioc/R/include" -DNDEBUG  -I'F:/biocbuild/bbs-3.19-bioc/R/library/Rcpp/include'   -I"C:/rtools44/x86_64-w64-mingw32.static.posix/include"     -O2 -Wall  -mfpmath=sse -msse2 -mstackrealign  -c CellCounts.cpp -o CellCounts.o
g++ -std=gnu++17  -I"F:/biocbuild/bbs-3.19-bioc/R/include" -DNDEBUG  -I'F:/biocbuild/bbs-3.19-bioc/R/library/Rcpp/include'   -I"C:/rtools44/x86_64-w64-mingw32.static.posix/include"     -O2 -Wall  -mfpmath=sse -msse2 -mstackrealign  -c CellCounts_character.cpp -o CellCounts_character.o
g++ -std=gnu++17  -I"F:/biocbuild/bbs-3.19-bioc/R/include" -DNDEBUG  -I'F:/biocbuild/bbs-3.19-bioc/R/library/Rcpp/include'   -I"C:/rtools44/x86_64-w64-mingw32.static.posix/include"     -O2 -Wall  -mfpmath=sse -msse2 -mstackrealign  -c RcppExports.cpp -o RcppExports.o
gcc  -I"F:/biocbuild/bbs-3.19-bioc/R/include" -DNDEBUG  -I'F:/biocbuild/bbs-3.19-bioc/R/library/Rcpp/include'   -I"C:/rtools44/x86_64-w64-mingw32.static.posix/include"     -O2 -Wall  -mfpmath=sse -msse2 -mstackrealign  -c digamma.c -o digamma.o
gcc  -I"F:/biocbuild/bbs-3.19-bioc/R/include" -DNDEBUG  -I'F:/biocbuild/bbs-3.19-bioc/R/library/Rcpp/include'   -I"C:/rtools44/x86_64-w64-mingw32.static.posix/include"     -O2 -Wall  -mfpmath=sse -msse2 -mstackrealign  -c mat2vec.c -o mat2vec.o
gcc  -I"F:/biocbuild/bbs-3.19-bioc/R/include" -DNDEBUG  -I'F:/biocbuild/bbs-3.19-bioc/R/library/Rcpp/include'   -I"C:/rtools44/x86_64-w64-mingw32.static.posix/include"     -O2 -Wall  -mfpmath=sse -msse2 -mstackrealign  -c melt_dataframe.c -o melt_dataframe.o
gcc  -I"F:/biocbuild/bbs-3.19-bioc/R/include" -DNDEBUG  -I'F:/biocbuild/bbs-3.19-bioc/R/library/Rcpp/include'   -I"C:/rtools44/x86_64-w64-mingw32.static.posix/include"     -O2 -Wall  -mfpmath=sse -msse2 -mstackrealign  -c melt_matrix.c -o melt_matrix.o
g++ -std=gnu++17  -I"F:/biocbuild/bbs-3.19-bioc/R/include" -DNDEBUG  -I'F:/biocbuild/bbs-3.19-bioc/R/library/Rcpp/include'   -I"C:/rtools44/x86_64-w64-mingw32.static.posix/include"     -O2 -Wall  -mfpmath=sse -msse2 -mstackrealign  -c samplePuPs.cpp -o samplePuPs.o
gcc  -I"F:/biocbuild/bbs-3.19-bioc/R/include" -DNDEBUG  -I'F:/biocbuild/bbs-3.19-bioc/R/library/Rcpp/include'   -I"C:/rtools44/x86_64-w64-mingw32.static.posix/include"     -O2 -Wall  -mfpmath=sse -msse2 -mstackrealign  -c transpose_list.c -o transpose_list.o
g++ -std=gnu++17  -I"F:/biocbuild/bbs-3.19-bioc/R/include" -DNDEBUG  -I'F:/biocbuild/bbs-3.19-bioc/R/library/Rcpp/include'   -I"C:/rtools44/x86_64-w64-mingw32.static.posix/include"     -O2 -Wall  -mfpmath=sse -msse2 -mstackrealign  -c updatealphas_Exp.cpp -o updatealphas_Exp.o
g++ -std=gnu++17  -I"F:/biocbuild/bbs-3.19-bioc/R/include" -DNDEBUG  -I'F:/biocbuild/bbs-3.19-bioc/R/library/Rcpp/include'   -I"C:/rtools44/x86_64-w64-mingw32.static.posix/include"     -O2 -Wall  -mfpmath=sse -msse2 -mstackrealign  -c updatealphas_Exp_MH.cpp -o updatealphas_Exp_MH.o
updatealphas_Exp_MH.cpp: In function 'SEXPREC* updatealphas_Exp_MH(SEXP, SEXP, SEXP, SEXP, SEXP, SEXP, SEXP, SEXP, SEXP)':
updatealphas_Exp_MH.cpp:26:10: warning: variable 'psik' set but not used [-Wunused-but-set-variable]
   26 |   double psik = 0.;
      |          ^~~~
updatealphas_Exp_MH.cpp:35:7: warning: variable 'flagkk' set but not used [-Wunused-but-set-variable]
   35 |   int flagkk = 0;
      |       ^~~~~~
g++ -std=gnu++17  -I"F:/biocbuild/bbs-3.19-bioc/R/include" -DNDEBUG  -I'F:/biocbuild/bbs-3.19-bioc/R/library/Rcpp/include'   -I"C:/rtools44/x86_64-w64-mingw32.static.posix/include"     -O2 -Wall  -mfpmath=sse -msse2 -mstackrealign  -c updatealphau.cpp -o updatealphau.o
g++ -std=gnu++17  -I"F:/biocbuild/bbs-3.19-bioc/R/include" -DNDEBUG  -I'F:/biocbuild/bbs-3.19-bioc/R/library/Rcpp/include'   -I"C:/rtools44/x86_64-w64-mingw32.static.posix/include"     -O2 -Wall  -mfpmath=sse -msse2 -mstackrealign  -c updatealphau_noPu_Exp.cpp -o updatealphau_noPu_Exp.o
g++ -std=gnu++17  -I"F:/biocbuild/bbs-3.19-bioc/R/include" -DNDEBUG  -I'F:/biocbuild/bbs-3.19-bioc/R/library/Rcpp/include'   -I"C:/rtools44/x86_64-w64-mingw32.static.posix/include"     -O2 -Wall  -mfpmath=sse -msse2 -mstackrealign  -c updatealphau_noPu_Exp_MH.cpp -o updatealphau_noPu_Exp_MH.o
g++ -std=gnu++17  -I"F:/biocbuild/bbs-3.19-bioc/R/include" -DNDEBUG  -I'F:/biocbuild/bbs-3.19-bioc/R/library/Rcpp/include'   -I"C:/rtools44/x86_64-w64-mingw32.static.posix/include"     -O2 -Wall  -mfpmath=sse -msse2 -mstackrealign  -c updatebeta_RW.cpp -o updatebeta_RW.o
g++ -std=gnu++17  -I"F:/biocbuild/bbs-3.19-bioc/R/include" -DNDEBUG  -I'F:/biocbuild/bbs-3.19-bioc/R/library/Rcpp/include'   -I"C:/rtools44/x86_64-w64-mingw32.static.posix/include"     -O2 -Wall  -mfpmath=sse -msse2 -mstackrealign  -c updategammak_noPu.cpp -o updategammak_noPu.o
gcc  -I"F:/biocbuild/bbs-3.19-bioc/R/include" -DNDEBUG  -I'F:/biocbuild/bbs-3.19-bioc/R/library/Rcpp/include'   -I"C:/rtools44/x86_64-w64-mingw32.static.posix/include"     -O2 -Wall  -mfpmath=sse -msse2 -mstackrealign  -c utils.c -o utils.o
g++ -std=gnu++17 -shared -s -static-libgcc -o COMPASS.dll tmp.def COMPASS_init.o CellCounts.o CellCounts_character.o RcppExports.o digamma.o mat2vec.o melt_dataframe.o melt_matrix.o samplePuPs.o transpose_list.o updatealphas_Exp.o updatealphas_Exp_MH.o updatealphau.o updatealphau_noPu_Exp.o updatealphau_noPu_Exp_MH.o updatebeta_RW.o updategammak_noPu.o utils.o -LF:/biocbuild/bbs-3.19-bioc/R/bin/x64 -lRlapack -LF:/biocbuild/bbs-3.19-bioc/R/bin/x64 -lRblas -lgfortran -lm -lquadmath -LC:/rtools44/x86_64-w64-mingw32.static.posix/lib/x64 -LC:/rtools44/x86_64-w64-mingw32.static.posix/lib -LF:/biocbuild/bbs-3.19-bioc/R/bin/x64 -lR
installing to F:/biocbuild/bbs-3.19-bioc/R/library/00LOCK-COMPASS/00new/COMPASS/libs/x64
** R
** data
*** moving datasets to lazyload DB
** inst
** byte-compile and prepare package for lazy loading
** help
*** installing help indices
** building package indices
** installing vignettes
** testing if installed package can be loaded from temporary location
** testing if installed package can be loaded from final location
** testing if installed package keeps a record of temporary installation path
* DONE (COMPASS)

Tests output

COMPASS.Rcheck/tests/test-all.Rout


R version 4.4.0 (2024-04-24 ucrt) -- "Puppy Cup"
Copyright (C) 2024 The R Foundation for Statistical Computing
Platform: x86_64-w64-mingw32/x64

R is free software and comes with ABSOLUTELY NO WARRANTY.
You are welcome to redistribute it under certain conditions.
Type 'license()' or 'licence()' for distribution details.

R is a collaborative project with many contributors.
Type 'contributors()' for more information and
'citation()' on how to cite R or R packages in publications.

Type 'demo()' for some demos, 'help()' for on-line help, or
'help.start()' for an HTML browser interface to help.
Type 'q()' to quit R.

> library(testthat)
> library(COMPASS)
> library(flowWorkspace)
As part of improvements to flowWorkspace, some behavior of
GatingSet objects has changed. For details, please read the section
titled "The cytoframe and cytoset classes" in the package vignette:

  vignette("flowWorkspace-Introduction", "flowWorkspace")
> if (file.exists("testthat")) {
+   test_dir("testthat")
+ }
✔ | F W  S  OK | Context

⠏ |          0 | COMPASS                                                        
⠏ |          0 | COMPASS Interface                                              
⠋ |          1 | COMPASS Interface                                              
✔ |          1 | COMPASS Interface

⠏ |          0 | COMPASSPlot                                                    
⠏ |          0 | test plotCOMPASSResultStack                                    
⠋ |          1 | test plotCOMPASSResultStack                                    
⠹ |          3 | test plotCOMPASSResultStack                                    
✔ |          6 | test plotCOMPASSResultStack [53.6s]

⠏ |          0 | CellCounts                                                     
⠏ |          0 | CellCounts                                                     
✔ |          7 | CellCounts

⠏ |          0 | FunctionalityScore                                             
⠏ |          0 | FS, PFS                                                        
✔ |          8 | FS, PFS

⠏ |          0 | GatingSet2COMPASS                                              
⠏ |          0 | test COMPASSContainerFromGatingSet                             
⠋ |          1 | test COMPASSContainerFromGatingSet                             
⠸ |          4 | test COMPASSContainerFromGatingSet                             
⠼ |   1      4 | test COMPASSContainerFromGatingSet                             
✔ |   1      7 | test COMPASSContainerFromGatingSet
────────────────────────────────────────────────────────────────────────────────
Warning ('test-GatingSet2COMPASS.R:30:3'): COMPASSContainerFromGatingSet
There appear to be negative intensities in the 'data' supplied.
Backtrace:
    ▆
 1. └─COMPASS::COMPASSContainerFromGatingSet(...) at test-GatingSet2COMPASS.R:30:3
 2.   └─COMPASS::COMPASSContainer(...)
────────────────────────────────────────────────────────────────────────────────

══ Results ═════════════════════════════════════════════════════════════════════
Duration: 55.7 s

[ FAIL 0 | WARN 1 | SKIP 0 | PASS 29 ]
> 
> proc.time()
   user  system elapsed 
  57.23    4.26   61.57 

Example timings

COMPASS.Rcheck/COMPASS-Ex.timings

nameusersystemelapsed
COMPASS0.220.120.36
COMPASSContainer0.050.020.06
COMPASSContainerFromGatingSet000
CellCounts0.360.000.36
Combinations000
FunctionalityScore000
GetThresholdedIntensities4.530.686.13
PolyfunctionalityScore000
Posterior000
Response000
SimpleCOMPASS2.580.032.59
TotalCellCounts0.020.000.02
UniqueCombinations000
getCounts0.060.050.11
merge.COMPASSContainer0.020.000.02
pheatmap1.070.021.09
plot.COMPASSResult0.070.000.06
plotCOMPASSResultStack000
print.COMPASSContainer000
print.COMPASSResult000
scores0.010.000.02
select_compass_pops000
shinyCOMPASS000
shinyCOMPASSDeps2.692.785.83
subset.COMPASSContainer000
summary.COMPASSContainer000
summary.COMPASSResult000
translate_marker_names000
transpose_list000