Back to Multiple platform build/check report for BioC 3.19:   simplified   long
AB[C]DEFGHIJKLMNOPQRSTUVWXYZ

This page was generated on 2024-06-21 17:38 -0400 (Fri, 21 Jun 2024).

HostnameOSArch (*)R versionInstalled pkgs
nebbiolo1Linux (Ubuntu 22.04.3 LTS)x86_644.4.0 (2024-04-24) -- "Puppy Cup" 4758
palomino3Windows Server 2022 Datacenterx644.4.0 (2024-04-24 ucrt) -- "Puppy Cup" 4492
merida1macOS 12.7.4 Montereyx86_644.4.0 (2024-04-24) -- "Puppy Cup" 4506
kjohnson1macOS 13.6.6 Venturaarm644.4.0 (2024-04-24) -- "Puppy Cup" 4464
Click on any hostname to see more info about the system (e.g. compilers)      (*) as reported by 'uname -p', except on Windows and Mac OS X

Package 416/2300HostnameOS / ArchINSTALLBUILDCHECKBUILD BIN
COMPASS 1.42.0  (landing page)
Greg Finak
Snapshot Date: 2024-06-19 14:00 -0400 (Wed, 19 Jun 2024)
git_url: https://git.bioconductor.org/packages/COMPASS
git_branch: RELEASE_3_19
git_last_commit: b47dd43
git_last_commit_date: 2024-04-30 10:35:03 -0400 (Tue, 30 Apr 2024)
nebbiolo1Linux (Ubuntu 22.04.3 LTS) / x86_64  OK    OK    OK  UNNEEDED, same version is already published
palomino3Windows Server 2022 Datacenter / x64  OK    OK    OK    OK  UNNEEDED, same version is already published
merida1macOS 12.7.4 Monterey / x86_64  OK    OK    OK    OK  UNNEEDED, same version is already published
kjohnson1macOS 13.6.6 Ventura / arm64  OK    OK    OK    OK  UNNEEDED, same version is already published


CHECK results for COMPASS on nebbiolo1

To the developers/maintainers of the COMPASS package:
- Allow up to 24 hours (and sometimes 48 hours) for your latest push to git@git.bioconductor.org:packages/COMPASS.git to reflect on this report. See Troubleshooting Build Report for more information.
- Use the following Renviron settings to reproduce errors and warnings.
- If 'R CMD check' started to fail recently on the Linux builder(s) over a missing dependency, add the missing dependency to 'Suggests:' in your DESCRIPTION file. See Renviron.bioc for more information.

raw results


Summary

Package: COMPASS
Version: 1.42.0
Command: /home/biocbuild/bbs-3.19-bioc/R/bin/R CMD check --install=check:COMPASS.install-out.txt --library=/home/biocbuild/bbs-3.19-bioc/R/site-library --timings COMPASS_1.42.0.tar.gz
StartedAt: 2024-06-19 21:53:47 -0400 (Wed, 19 Jun 2024)
EndedAt: 2024-06-19 21:57:49 -0400 (Wed, 19 Jun 2024)
EllapsedTime: 241.5 seconds
RetCode: 0
Status:   OK  
CheckDir: COMPASS.Rcheck
Warnings: 0

Command output

##############################################################################
##############################################################################
###
### Running command:
###
###   /home/biocbuild/bbs-3.19-bioc/R/bin/R CMD check --install=check:COMPASS.install-out.txt --library=/home/biocbuild/bbs-3.19-bioc/R/site-library --timings COMPASS_1.42.0.tar.gz
###
##############################################################################
##############################################################################


* using log directory ‘/home/biocbuild/bbs-3.19-bioc/meat/COMPASS.Rcheck’
* using R version 4.4.0 (2024-04-24)
* using platform: x86_64-pc-linux-gnu
* R was compiled by
    gcc (Ubuntu 11.4.0-1ubuntu1~22.04) 11.4.0
    GNU Fortran (Ubuntu 11.4.0-1ubuntu1~22.04) 11.4.0
* running under: Ubuntu 22.04.4 LTS
* using session charset: UTF-8
* checking for file ‘COMPASS/DESCRIPTION’ ... OK
* checking extension type ... Package
* this is package ‘COMPASS’ version ‘1.42.0’
* package encoding: UTF-8
* checking package namespace information ... OK
* checking package dependencies ... OK
* checking if this is a source package ... OK
* checking if there is a namespace ... OK
* checking for hidden files and directories ... OK
* checking for portable file names ... OK
* checking for sufficient/correct file permissions ... OK
* checking whether package ‘COMPASS’ can be installed ... OK
* used C compiler: ‘gcc (Ubuntu 11.4.0-1ubuntu1~22.04) 11.4.0’
* used C++ compiler: ‘g++ (Ubuntu 11.4.0-1ubuntu1~22.04) 11.4.0’
* checking installed package size ... OK
* checking package directory ... OK
* checking ‘build’ directory ... OK
* checking DESCRIPTION meta-information ... OK
* checking top-level files ... OK
* checking for left-over files ... OK
* checking index information ... OK
* checking package subdirectories ... OK
* checking code files for non-ASCII characters ... OK
* checking R files for syntax errors ... OK
* checking whether the package can be loaded ... OK
* checking whether the package can be loaded with stated dependencies ... OK
* checking whether the package can be unloaded cleanly ... OK
* checking whether the namespace can be loaded with stated dependencies ... OK
* checking whether the namespace can be unloaded cleanly ... OK
* checking loading without being on the library search path ... OK
* checking whether startup messages can be suppressed ... OK
* checking dependencies in R code ... NOTE
Namespaces in Imports field not imported from:
  ‘BiocStyle’ ‘foreach’ ‘rmarkdown’
  All declared Imports should be used.
* checking S3 generic/method consistency ... OK
* checking replacement functions ... OK
* checking foreign function calls ... OK
* checking R code for possible problems ... NOTE
.CellCounts: no visible binding for global variable
  ‘_COMPASS_CellCounts’
COMPASSfitToCountsTable: no visible binding for global variable
  ‘population’
COMPASSfitToCountsTable: no visible binding for global variable ‘Count’
COMPASSfitToCountsTable: no visible binding for global variable ‘id’
CellCounts_character: no visible binding for global variable
  ‘_COMPASS_CellCounts_character’
GetThresholdedIntensities : <anonymous>: no visible global function
  definition for ‘gh_pop_is_bool_gate’
Undefined global functions or variables:
  Count _COMPASS_CellCounts _COMPASS_CellCounts_character
  gh_pop_is_bool_gate id population
* checking Rd files ... OK
* checking Rd metadata ... OK
* checking Rd cross-references ... OK
* checking for missing documentation entries ... OK
* checking for code/documentation mismatches ... OK
* checking Rd \usage sections ... OK
* checking Rd contents ... OK
* checking for unstated dependencies in examples ... OK
* checking contents of ‘data’ directory ... OK
* checking data for non-ASCII characters ... OK
* checking LazyData ... OK
* checking data for ASCII and uncompressed saves ... OK
* checking line endings in shell scripts ... OK
* checking line endings in C/C++/Fortran sources/headers ... OK
* checking line endings in Makefiles ... OK
* checking compilation flags in Makevars ... OK
* checking for GNU extensions in Makefiles ... OK
* checking for portable use of $(BLAS_LIBS) and $(LAPACK_LIBS) ... OK
* checking use of PKG_*FLAGS in Makefiles ... OK
* checking compiled code ... NOTE
Note: information on .o files is not available
* checking files in ‘vignettes’ ... OK
* checking examples ... OK
* checking for unstated dependencies in ‘tests’ ... OK
* checking tests ...
  Running ‘test-all.R’
 OK
* checking for unstated dependencies in vignettes ... OK
* checking package vignettes ... OK
* checking re-building of vignette outputs ... OK
* checking PDF version of manual ... OK
* DONE

Status: 3 NOTEs
See
  ‘/home/biocbuild/bbs-3.19-bioc/meat/COMPASS.Rcheck/00check.log’
for details.


Installation output

COMPASS.Rcheck/00install.out

##############################################################################
##############################################################################
###
### Running command:
###
###   /home/biocbuild/bbs-3.19-bioc/R/bin/R CMD INSTALL COMPASS
###
##############################################################################
##############################################################################


* installing to library ‘/home/biocbuild/bbs-3.19-bioc/R/site-library’
* installing *source* package ‘COMPASS’ ...
** using staged installation
** libs
using C compiler: ‘gcc (Ubuntu 11.4.0-1ubuntu1~22.04) 11.4.0’
using C++ compiler: ‘g++ (Ubuntu 11.4.0-1ubuntu1~22.04) 11.4.0’
gcc -I"/home/biocbuild/bbs-3.19-bioc/R/include" -DNDEBUG  -I'/home/biocbuild/bbs-3.19-bioc/R/site-library/Rcpp/include' -I/usr/local/include    -fpic  -g -O2  -Wall -c COMPASS_init.c -o COMPASS_init.o
g++ -std=gnu++17 -I"/home/biocbuild/bbs-3.19-bioc/R/include" -DNDEBUG  -I'/home/biocbuild/bbs-3.19-bioc/R/site-library/Rcpp/include' -I/usr/local/include    -fpic  -g -O2  -Wall  -c CellCounts.cpp -o CellCounts.o
g++ -std=gnu++17 -I"/home/biocbuild/bbs-3.19-bioc/R/include" -DNDEBUG  -I'/home/biocbuild/bbs-3.19-bioc/R/site-library/Rcpp/include' -I/usr/local/include    -fpic  -g -O2  -Wall  -c CellCounts_character.cpp -o CellCounts_character.o
g++ -std=gnu++17 -I"/home/biocbuild/bbs-3.19-bioc/R/include" -DNDEBUG  -I'/home/biocbuild/bbs-3.19-bioc/R/site-library/Rcpp/include' -I/usr/local/include    -fpic  -g -O2  -Wall  -c RcppExports.cpp -o RcppExports.o
gcc -I"/home/biocbuild/bbs-3.19-bioc/R/include" -DNDEBUG  -I'/home/biocbuild/bbs-3.19-bioc/R/site-library/Rcpp/include' -I/usr/local/include    -fpic  -g -O2  -Wall -c digamma.c -o digamma.o
gcc -I"/home/biocbuild/bbs-3.19-bioc/R/include" -DNDEBUG  -I'/home/biocbuild/bbs-3.19-bioc/R/site-library/Rcpp/include' -I/usr/local/include    -fpic  -g -O2  -Wall -c mat2vec.c -o mat2vec.o
gcc -I"/home/biocbuild/bbs-3.19-bioc/R/include" -DNDEBUG  -I'/home/biocbuild/bbs-3.19-bioc/R/site-library/Rcpp/include' -I/usr/local/include    -fpic  -g -O2  -Wall -c melt_dataframe.c -o melt_dataframe.o
gcc -I"/home/biocbuild/bbs-3.19-bioc/R/include" -DNDEBUG  -I'/home/biocbuild/bbs-3.19-bioc/R/site-library/Rcpp/include' -I/usr/local/include    -fpic  -g -O2  -Wall -c melt_matrix.c -o melt_matrix.o
g++ -std=gnu++17 -I"/home/biocbuild/bbs-3.19-bioc/R/include" -DNDEBUG  -I'/home/biocbuild/bbs-3.19-bioc/R/site-library/Rcpp/include' -I/usr/local/include    -fpic  -g -O2  -Wall  -c samplePuPs.cpp -o samplePuPs.o
gcc -I"/home/biocbuild/bbs-3.19-bioc/R/include" -DNDEBUG  -I'/home/biocbuild/bbs-3.19-bioc/R/site-library/Rcpp/include' -I/usr/local/include    -fpic  -g -O2  -Wall -c transpose_list.c -o transpose_list.o
g++ -std=gnu++17 -I"/home/biocbuild/bbs-3.19-bioc/R/include" -DNDEBUG  -I'/home/biocbuild/bbs-3.19-bioc/R/site-library/Rcpp/include' -I/usr/local/include    -fpic  -g -O2  -Wall  -c updatealphas_Exp.cpp -o updatealphas_Exp.o
g++ -std=gnu++17 -I"/home/biocbuild/bbs-3.19-bioc/R/include" -DNDEBUG  -I'/home/biocbuild/bbs-3.19-bioc/R/site-library/Rcpp/include' -I/usr/local/include    -fpic  -g -O2  -Wall  -c updatealphas_Exp_MH.cpp -o updatealphas_Exp_MH.o
updatealphas_Exp_MH.cpp: In function ‘SEXPREC* updatealphas_Exp_MH(SEXP, SEXP, SEXP, SEXP, SEXP, SEXP, SEXP, SEXP, SEXP)’:
updatealphas_Exp_MH.cpp:26:10: warning: variable ‘psik’ set but not used [-Wunused-but-set-variable]
   26 |   double psik = 0.;
      |          ^~~~
updatealphas_Exp_MH.cpp:35:7: warning: variable ‘flagkk’ set but not used [-Wunused-but-set-variable]
   35 |   int flagkk = 0;
      |       ^~~~~~
g++ -std=gnu++17 -I"/home/biocbuild/bbs-3.19-bioc/R/include" -DNDEBUG  -I'/home/biocbuild/bbs-3.19-bioc/R/site-library/Rcpp/include' -I/usr/local/include    -fpic  -g -O2  -Wall  -c updatealphau.cpp -o updatealphau.o
g++ -std=gnu++17 -I"/home/biocbuild/bbs-3.19-bioc/R/include" -DNDEBUG  -I'/home/biocbuild/bbs-3.19-bioc/R/site-library/Rcpp/include' -I/usr/local/include    -fpic  -g -O2  -Wall  -c updatealphau_noPu_Exp.cpp -o updatealphau_noPu_Exp.o
g++ -std=gnu++17 -I"/home/biocbuild/bbs-3.19-bioc/R/include" -DNDEBUG  -I'/home/biocbuild/bbs-3.19-bioc/R/site-library/Rcpp/include' -I/usr/local/include    -fpic  -g -O2  -Wall  -c updatealphau_noPu_Exp_MH.cpp -o updatealphau_noPu_Exp_MH.o
g++ -std=gnu++17 -I"/home/biocbuild/bbs-3.19-bioc/R/include" -DNDEBUG  -I'/home/biocbuild/bbs-3.19-bioc/R/site-library/Rcpp/include' -I/usr/local/include    -fpic  -g -O2  -Wall  -c updatebeta_RW.cpp -o updatebeta_RW.o
g++ -std=gnu++17 -I"/home/biocbuild/bbs-3.19-bioc/R/include" -DNDEBUG  -I'/home/biocbuild/bbs-3.19-bioc/R/site-library/Rcpp/include' -I/usr/local/include    -fpic  -g -O2  -Wall  -c updategammak_noPu.cpp -o updategammak_noPu.o
gcc -I"/home/biocbuild/bbs-3.19-bioc/R/include" -DNDEBUG  -I'/home/biocbuild/bbs-3.19-bioc/R/site-library/Rcpp/include' -I/usr/local/include    -fpic  -g -O2  -Wall -c utils.c -o utils.o
g++ -std=gnu++17 -shared -L/home/biocbuild/bbs-3.19-bioc/R/lib -L/usr/local/lib -o COMPASS.so COMPASS_init.o CellCounts.o CellCounts_character.o RcppExports.o digamma.o mat2vec.o melt_dataframe.o melt_matrix.o samplePuPs.o transpose_list.o updatealphas_Exp.o updatealphas_Exp_MH.o updatealphau.o updatealphau_noPu_Exp.o updatealphau_noPu_Exp_MH.o updatebeta_RW.o updategammak_noPu.o utils.o -llapack -L/home/biocbuild/bbs-3.19-bioc/R/lib -lRblas -lgfortran -lm -lquadmath -L/home/biocbuild/bbs-3.19-bioc/R/lib -lR
installing to /home/biocbuild/bbs-3.19-bioc/R/site-library/00LOCK-COMPASS/00new/COMPASS/libs
** R
** data
*** moving datasets to lazyload DB
** inst
** byte-compile and prepare package for lazy loading
** help
*** installing help indices
** building package indices
** installing vignettes
** testing if installed package can be loaded from temporary location
** checking absolute paths in shared objects and dynamic libraries
** testing if installed package can be loaded from final location
** testing if installed package keeps a record of temporary installation path
* DONE (COMPASS)

Tests output

COMPASS.Rcheck/tests/test-all.Rout


R version 4.4.0 (2024-04-24) -- "Puppy Cup"
Copyright (C) 2024 The R Foundation for Statistical Computing
Platform: x86_64-pc-linux-gnu

R is free software and comes with ABSOLUTELY NO WARRANTY.
You are welcome to redistribute it under certain conditions.
Type 'license()' or 'licence()' for distribution details.

R is a collaborative project with many contributors.
Type 'contributors()' for more information and
'citation()' on how to cite R or R packages in publications.

Type 'demo()' for some demos, 'help()' for on-line help, or
'help.start()' for an HTML browser interface to help.
Type 'q()' to quit R.

> library(testthat)
> library(COMPASS)
> library(flowWorkspace)
As part of improvements to flowWorkspace, some behavior of
GatingSet objects has changed. For details, please read the section
titled "The cytoframe and cytoset classes" in the package vignette:

  vignette("flowWorkspace-Introduction", "flowWorkspace")
> if (file.exists("testthat")) {
+   test_dir("testthat")
+ }
✔ | F W  S  OK | Context

⠏ |          0 | COMPASS                                                        
⠏ |          0 | COMPASS Interface                                              
⠋ |          1 | COMPASS Interface                                              
✔ |          1 | COMPASS Interface

⠏ |          0 | COMPASSPlot                                                    
⠏ |          0 | test plotCOMPASSResultStack                                    
⠋ |          1 | test plotCOMPASSResultStack                                    
⠹ |          3 | test plotCOMPASSResultStack                                    
✔ |          6 | test plotCOMPASSResultStack [33.8s]

⠏ |          0 | CellCounts                                                     
⠏ |          0 | CellCounts                                                     
✔ |          7 | CellCounts

⠏ |          0 | FunctionalityScore                                             
⠏ |          0 | FS, PFS                                                        
✔ |          8 | FS, PFS

⠏ |          0 | GatingSet2COMPASS                                              
⠏ |          0 | test COMPASSContainerFromGatingSet                             
⠋ |          1 | test COMPASSContainerFromGatingSet                             
⠼ |   1      4 | test COMPASSContainerFromGatingSet                             
✔ |   1      7 | test COMPASSContainerFromGatingSet
────────────────────────────────────────────────────────────────────────────────
Warning ('test-GatingSet2COMPASS.R:30:3'): COMPASSContainerFromGatingSet
There appear to be negative intensities in the 'data' supplied.
Backtrace:
    ▆
 1. └─COMPASS::COMPASSContainerFromGatingSet(...) at test-GatingSet2COMPASS.R:30:3
 2.   └─COMPASS::COMPASSContainer(...)
────────────────────────────────────────────────────────────────────────────────

══ Results ═════════════════════════════════════════════════════════════════════
Duration: 35.2 s

[ FAIL 0 | WARN 1 | SKIP 0 | PASS 29 ]
> 
> proc.time()
   user  system elapsed 
 39.109   0.785  39.628 

Example timings

COMPASS.Rcheck/COMPASS-Ex.timings

nameusersystemelapsed
COMPASS0.1620.0090.155
COMPASSContainer0.0380.0000.038
COMPASSContainerFromGatingSet000
CellCounts0.330.040.35
Combinations0.0010.0000.001
FunctionalityScore0.0040.0000.004
GetThresholdedIntensities4.5240.2004.724
PolyfunctionalityScore0.0010.0000.001
Posterior0.0000.0040.004
Response0.0080.0000.009
SimpleCOMPASS1.4960.0511.548
TotalCellCounts0.0230.0010.018
UniqueCombinations0.0160.0000.011
getCounts0.0380.0000.032
merge.COMPASSContainer0.0090.0000.008
pheatmap0.8110.0200.831
plot.COMPASSResult0.0440.0000.044
plotCOMPASSResultStack0.0010.0000.000
print.COMPASSContainer0.0010.0000.000
print.COMPASSResult000
scores0.0040.0040.008
select_compass_pops0.0030.0000.004
shinyCOMPASS000
shinyCOMPASSDeps0.5340.0160.550
subset.COMPASSContainer0.0010.0000.002
summary.COMPASSContainer0.0040.0000.005
summary.COMPASSResult0.0000.0000.001
translate_marker_names0.0010.0000.002
transpose_list0.0000.0000.001