Back to Multiple platform build/check report for BioC 3.12
A[B]CDEFGHIJKLMNOPQRSTUVWXYZ

BUILD BIN report for BRAIN on merida1

This page was generated on 2021-01-25 11:55:12 -0500 (Mon, 25 Jan 2021).

TO THE DEVELOPERS/MAINTAINERS OF THE BRAIN PACKAGE: Please make sure to use the following settings in order to reproduce any error or warning you see on this page.
Package 201/1974HostnameOS / ArchINSTALLBUILDCHECKBUILD BIN
BRAIN 1.36.0
Piotr Dittwald
Snapshot Date: 2021-01-24 14:40:16 -0500 (Sun, 24 Jan 2021)
URL: https://git.bioconductor.org/packages/BRAIN
Branch: RELEASE_3_12
Last Commit: 2637aed
Last Changed Date: 2020-10-27 10:45:00 -0500 (Tue, 27 Oct 2020)
malbec1 Linux (Ubuntu 18.04.5 LTS) / x86_64  OK  OK  WARNINGS UNNEEDED, same version exists in internal repository
nebbiolo1 Linux (Ubuntu 20.04.1 LTS) / x86_64  OK  OK  WARNINGS 
tokay1 Windows Server 2012 R2 Standard / x64  OK  OK  WARNINGS  OK UNNEEDED, same version exists in internal repository
merida1 macOS 10.14.6 Mojave / x86_64  OK  OK  WARNINGS [ OK ]UNNEEDED, same version exists in internal repository

Summary

Package: BRAIN
Version: 1.36.0
Command: rm -rf BRAIN.buildbin-libdir && mkdir BRAIN.buildbin-libdir && /Users/biocbuild/BBS/utils/build-universal.sh BRAIN_1.36.0.tar.gz /Library/Frameworks/R.framework/Versions/Current/Resources/bin/R BRAIN.buildbin-libdir
StartedAt: 2021-01-25 07:10:10 -0500 (Mon, 25 Jan 2021)
EndedAt: 2021-01-25 07:11:14 -0500 (Mon, 25 Jan 2021)
EllapsedTime: 63.1 seconds
RetCode: 0
Status:  OK 
PackageFile: BRAIN_1.36.0.tgz
PackageFileSize: 1.969 MiB

Command output

##############################################################################
##############################################################################
###
### Running command:
###
###   rm -rf BRAIN.buildbin-libdir && mkdir BRAIN.buildbin-libdir && /Users/biocbuild/BBS/utils/build-universal.sh BRAIN_1.36.0.tar.gz /Library/Frameworks/R.framework/Versions/Current/Resources/bin/R BRAIN.buildbin-libdir
###
##############################################################################
##############################################################################


>>>>>>> 
>>>>>>> INSTALLATION WITH 'R CMD INSTALL --preclean --no-multiarch --library=BRAIN.buildbin-libdir BRAIN_1.36.0.tar.gz'
>>>>>>> 

* installing *source* package ‘BRAIN’ ...
** using staged installation
** R
** inst
** byte-compile and prepare package for lazy loading
** help
*** installing help indices
** building package indices
** installing vignettes
** testing if installed package can be loaded from temporary location
** testing if installed package can be loaded from final location
** testing if installed package keeps a record of temporary installation path
* DONE (BRAIN)