Index of /checkResults/release/bioc-LATEST/BRAIN/raw-results

[ICO]NameLast modifiedSizeDescription

[DIR]Parent Directory  -  
[   ]info.dcf10-Dec-2023 01:37 276  
[DIR]kunpeng2/03-Nov-2023 00:40 -  
[DIR]lconway/10-Dec-2023 01:37 -  
[DIR]nebbiolo2/10-Dec-2023 01:35 -  
[DIR]palomino4/10-Dec-2023 01:36 -