Back to Multiple platform build/check report for BioC 3.19:   simplified   long
[A]BCDEFGHIJKLMNOPQRSTUVWXYZ

This page was generated on 2024-06-14 14:38 -0400 (Fri, 14 Jun 2024).

HostnameOSArch (*)R versionInstalled pkgs
nebbiolo1Linux (Ubuntu 22.04.3 LTS)x86_644.4.0 (2024-04-24) -- "Puppy Cup" 4757
palomino3Windows Server 2022 Datacenterx644.4.0 (2024-04-24 ucrt) -- "Puppy Cup" 4491
Click on any hostname to see more info about the system (e.g. compilers)      (*) as reported by 'uname -p', except on Windows and Mac OS X

Package 63/2300HostnameOS / ArchINSTALLBUILDCHECKBUILD BIN
ANCOMBC 2.6.0  (landing page)
Huang Lin
Snapshot Date: 2024-06-12 14:00 -0400 (Wed, 12 Jun 2024)
git_url: https://git.bioconductor.org/packages/ANCOMBC
git_branch: RELEASE_3_19
git_last_commit: 8fcfec8
git_last_commit_date: 2024-04-30 11:26:51 -0400 (Tue, 30 Apr 2024)
nebbiolo1Linux (Ubuntu 22.04.3 LTS) / x86_64  OK    OK    OK  UNNEEDED, same version is already published
palomino3Windows Server 2022 Datacenter / x64  OK    OK    OK    OK  UNNEEDED, same version is already published


BUILD results for ANCOMBC on palomino3

To the developers/maintainers of the ANCOMBC package:
- Allow up to 24 hours (and sometimes 48 hours) for your latest push to git@git.bioconductor.org:packages/ANCOMBC.git to reflect on this report. See Troubleshooting Build Report for more information.
- Use the following Renviron settings to reproduce errors and warnings.
- If 'R CMD check' started to fail recently on the Linux builder(s) over a missing dependency, add the missing dependency to 'Suggests:' in your DESCRIPTION file. See Renviron.bioc for more information.

raw results


Summary

Package: ANCOMBC
Version: 2.6.0
Command: chmod a+r ANCOMBC -R && F:\biocbuild\bbs-3.19-bioc\R\bin\R.exe CMD build --keep-empty-dirs --no-resave-data ANCOMBC
StartedAt: 2024-06-12 17:12:47 -0400 (Wed, 12 Jun 2024)
EndedAt: 2024-06-12 17:25:47 -0400 (Wed, 12 Jun 2024)
EllapsedTime: 780.1 seconds
RetCode: 0
Status:   OK  
PackageFile: ANCOMBC_2.6.0.tar.gz
PackageFileSize: 757 KiB

Command output

##############################################################################
##############################################################################
###
### Running command:
###
###   chmod a+r ANCOMBC -R && F:\biocbuild\bbs-3.19-bioc\R\bin\R.exe CMD build --keep-empty-dirs --no-resave-data ANCOMBC
###
##############################################################################
##############################################################################


* checking for file 'ANCOMBC/DESCRIPTION' ... OK
* preparing 'ANCOMBC':
* checking DESCRIPTION meta-information ... OK
* installing the package to process help pages
Loading required namespace: ANCOMBC
* saving partial Rd database
* creating vignettes ... OK
* checking for LF line-endings in source and make files and shell scripts
* checking for empty or unneeded directories
* looking to see if a 'data/datalist' file should be added
* building 'ANCOMBC_2.6.0.tar.gz'