Back to Multiple platform build/check report for BioC 3.19:   simplified   long
[A]BCDEFGHIJKLMNOPQRSTUVWXYZ

This page was generated on 2024-07-19 17:36 -0400 (Fri, 19 Jul 2024).

HostnameOSArch (*)R versionInstalled pkgs
nebbiolo1Linux (Ubuntu 22.04.3 LTS)x86_644.4.1 (2024-06-14) -- "Race for Your Life" 4742
palomino7Windows Server 2022 Datacenterx644.4.1 (2024-06-14 ucrt) -- "Race for Your Life" 4484
merida1macOS 12.7.5 Montereyx86_644.4.1 (2024-06-14) -- "Race for Your Life" 4513
kjohnson1macOS 13.6.6 Venturaarm644.4.1 (2024-06-14) -- "Race for Your Life" 4462
Click on any hostname to see more info about the system (e.g. compilers)      (*) as reported by 'uname -p', except on Windows and Mac OS X

All results for package ANCOMBC


To the developers/maintainers of the ANCOMBC package:
- Allow up to 24 hours (and sometimes 48 hours) for your latest push to git@git.bioconductor.org:packages/ANCOMBC.git to reflect on this report. See Troubleshooting Build Report for more information.
- Use the following Renviron settings to reproduce errors and warnings.
- If 'R CMD check' started to fail recently on the Linux builder(s) over a missing dependency, add the missing dependency to 'Suggests:' in your DESCRIPTION file. See Renviron.bioc for more information.

raw results

Package 63/2300HostnameOS / ArchINSTALLBUILDCHECKBUILD BIN
ANCOMBC 2.6.0  (landing page)
Huang Lin
Snapshot Date: 2024-07-17 14:00 -0400 (Wed, 17 Jul 2024)
git_url: https://git.bioconductor.org/packages/ANCOMBC
git_branch: RELEASE_3_19
git_last_commit: 8fcfec8
git_last_commit_date: 2024-04-30 11:26:51 -0400 (Tue, 30 Apr 2024)
nebbiolo1Linux (Ubuntu 22.04.3 LTS) / x86_64  ERROR    ERROR  skipped
palomino7Windows Server 2022 Datacenter / x64  OK    OK    OK    OK  
merida1macOS 12.7.5 Monterey / x86_64  OK    OK    OK    OK  UNNEEDED, same version is already published
kjohnson1macOS 13.6.6 Ventura / arm64  OK    OK    OK    OK  UNNEEDED, same version is already published



Results for Bioconductor software packages that depend directly on package ANCOMBC

QUICK STATSOS / ArchINSTALLBUILDCHECKBUILD BIN
nebbiolo1Linux (Ubuntu 22.04.3 LTS) / x86_64
020
020
0000
palomino7Windows Server 2022 Datacenter / x64
002
002
0101
002
merida1macOS 12.7.5 Monterey / x86_64
002
101
0100
001
kjohnson1macOS 13.6.6 Ventura / arm64
002
002
0101
002
Package 1/2HostnameOS / ArchINSTALLBUILDCHECKBUILD BIN
benchdamic 1.10.0  (landing page)
Matteo Calgaro
git_last_commit: 8e9ad07
git_last_commit_date: 2024-04-30 11:38:25 -0400
nebbiolo1Linux (Ubuntu 22.04.3 LTS) / x86_64  ERROR    ERROR  skipped
palomino7Windows Server 2022 Datacenter / x64  OK    OK    OK    OK  
merida1macOS 12.7.5 Monterey / x86_64  OK    TIMEOUT  skippedskipped
kjohnson1macOS 13.6.6 Ventura / arm64  OK    OK    OK    OK  UNNEEDED, same version is already published
Package 2/2HostnameOS / ArchINSTALLBUILDCHECKBUILD BIN
microbiomeMarker 1.10.0  (landing page)
Yang Cao
git_last_commit: be09871
git_last_commit_date: 2024-04-30 11:37:55 -0400
nebbiolo1Linux (Ubuntu 22.04.3 LTS) / x86_64  ERROR    ERROR  skipped
palomino7Windows Server 2022 Datacenter / x64  OK    OK    ERROR    OK  
merida1macOS 12.7.5 Monterey / x86_64  OK    OK    ERROR    OK  
kjohnson1macOS 13.6.6 Ventura / arm64  OK    OK    ERROR    OK