Back to Multiple platform build/check report for BioC 3.19:   simplified   long
[A]BCDEFGHIJKLMNOPQRSTUVWXYZ

This page was generated on 2024-06-14 14:38 -0400 (Fri, 14 Jun 2024).

HostnameOSArch (*)R versionInstalled pkgs
nebbiolo1Linux (Ubuntu 22.04.3 LTS)x86_644.4.0 (2024-04-24) -- "Puppy Cup" 4757
palomino3Windows Server 2022 Datacenterx644.4.0 (2024-04-24 ucrt) -- "Puppy Cup" 4491
Click on any hostname to see more info about the system (e.g. compilers)      (*) as reported by 'uname -p', except on Windows and Mac OS X

Package 13/2300HostnameOS / ArchINSTALLBUILDCHECKBUILD BIN
ACME 2.60.0  (landing page)
Sean Davis
Snapshot Date: 2024-06-12 14:00 -0400 (Wed, 12 Jun 2024)
git_url: https://git.bioconductor.org/packages/ACME
git_branch: RELEASE_3_19
git_last_commit: 7a1f0e4
git_last_commit_date: 2024-04-30 10:16:39 -0400 (Tue, 30 Apr 2024)
nebbiolo1Linux (Ubuntu 22.04.3 LTS) / x86_64  OK    OK    WARNINGS  UNNEEDED, same version is already published
palomino3Windows Server 2022 Datacenter / x64  OK    OK    WARNINGS    OK  UNNEEDED, same version is already published


INSTALL results for ACME on palomino3

To the developers/maintainers of the ACME package:
- Allow up to 24 hours (and sometimes 48 hours) for your latest push to git@git.bioconductor.org:packages/ACME.git to reflect on this report. See Troubleshooting Build Report for more information.
- Use the following Renviron settings to reproduce errors and warnings.
- If 'R CMD check' started to fail recently on the Linux builder(s) over a missing dependency, add the missing dependency to 'Suggests:' in your DESCRIPTION file. See Renviron.bioc for more information.

raw results


Summary

Package: ACME
Version: 2.60.0
Command: F:\biocbuild\bbs-3.19-bioc\R\bin\R.exe CMD INSTALL ACME
StartedAt: 2024-06-12 15:39:08 -0400 (Wed, 12 Jun 2024)
EndedAt: 2024-06-12 15:39:24 -0400 (Wed, 12 Jun 2024)
EllapsedTime: 16.1 seconds
RetCode: 0
Status:   OK  

Command output

##############################################################################
##############################################################################
###
### Running command:
###
###   F:\biocbuild\bbs-3.19-bioc\R\bin\R.exe CMD INSTALL ACME
###
##############################################################################
##############################################################################


* installing to library 'F:/biocbuild/bbs-3.19-bioc/R/library'
* installing *source* package 'ACME' ...
** using staged installation
** libs
using C compiler: 'gcc.exe (GCC) 13.2.0'
gcc  -I"F:/biocbuild/bbs-3.19-bioc/R/include" -DNDEBUG     -I"C:/rtools44/x86_64-w64-mingw32.static.posix/include"     -O2 -Wall  -mfpmath=sse -msse2 -mstackrealign  -c windowChisq.c -o windowChisq.o
windowChisq.c: In function 'windowChisq':
windowChisq.c:58:21: warning: suggest parentheses around comparison in operand of '&' [-Wparentheses]
   58 |           firstprobe>0) {
      |           ~~~~~~~~~~^~
windowChisq.c:63:20: warning: suggest parentheses around comparison in operand of '&' [-Wparentheses]
   63 |           lastprobe<(na-1)) {
      |           ~~~~~~~~~^~~~~~~
windowChisq.c:21:11: warning: unused variable 'xa' [-Wunused-variable]
   21 |   double *xa,*xlocations,*xchivals;
      |           ^~
windowChisq.c: At top level:
windowChisq.c:86:20: warning: initialization of 'void * (*)(void)' from incompatible pointer type 'struct SEXPREC * (*)(struct SEXPREC *, struct SEXPREC *, struct SEXPREC *, struct SEXPREC *, struct SEXPREC *)' [-Wincompatible-pointer-types]
   86 |     {"windowChisq",&windowChisq,5},
      |                    ^
windowChisq.c:86:20: note: (near initialization for 'callMethods[0].fun')
gcc -shared -s -static-libgcc -o ACME.dll tmp.def windowChisq.o -LC:/rtools44/x86_64-w64-mingw32.static.posix/lib/x64 -LC:/rtools44/x86_64-w64-mingw32.static.posix/lib -LF:/biocbuild/bbs-3.19-bioc/R/bin/x64 -lR
installing to F:/biocbuild/bbs-3.19-bioc/R/library/00LOCK-ACME/00new/ACME/libs/x64
** R
** data
** inst
** byte-compile and prepare package for lazy loading
** help
*** installing help indices
** building package indices
** installing vignettes
** testing if installed package can be loaded from temporary location
** testing if installed package can be loaded from final location
** testing if installed package keeps a record of temporary installation path
* DONE (ACME)