Index of /checkResults/devel/workflows-LATEST/highthroughputassays/raw-results

[ICO]NameLast modifiedSizeDescription

[DIR]Parent Directory  -  
[   ]info.dcf30-Sep-2023 03:00 316  
[DIR]nebbiolo2/30-Sep-2023 03:00 -