Index of /checkResults/devel/data-experiment-LATEST/mammaPrintData/raw-results

[ICO]NameLast modifiedSizeDescription

[DIR]Parent Directory  -  
[   ]info.dcf22-Sep-2023 03:51 278  
[DIR]nebbiolo2/22-Sep-2023 03:51 -