Back to Multiple platform build/check report for BioC 3.14
ABCDEFGHIJKLMNOPQRSTUVWX[Y]Z

This page was generated on 2021-10-18 12:04:48 -0400 (Mon, 18 Oct 2021).

BUILD results for yarn on merida1

To the developers/maintainers of the yarn package:
- Please allow up to 24 hours (and sometimes 48 hours) for your latest push to git@git.bioconductor.org:packages/yarn.git to
reflect on this report. See How and When does the builder pull? When will my changes propagate? here for more information.
- Make sure to use the following settings in order to reproduce any error or warning you see on this page.

raw results

Package 2056/2060HostnameOS / ArchINSTALLBUILDCHECKBUILD BIN
yarn 1.19.0  (landing page)
Joseph N Paulson
Snapshot Date: 2021-10-17 14:50:03 -0400 (Sun, 17 Oct 2021)
git_url: https://git.bioconductor.org/packages/yarn
git_branch: master
git_last_commit: b67c535
git_last_commit_date: 2021-05-19 12:24:27 -0400 (Wed, 19 May 2021)
nebbiolo2Linux (Ubuntu 20.04.2 LTS) / x86_64  OK    OK    OK  UNNEEDED, same version is already published
riesling1Windows Server 2019 Standard / x64  OK    OK    OK    OK  UNNEEDED, same version is already published
merida1macOS 10.14.6 Mojave / x86_64  OK    OK    OK    NA  

Summary

Package: yarn
Version: 1.19.0
Command: /Library/Frameworks/R.framework/Resources/bin/R CMD build --keep-empty-dirs --no-resave-data yarn
StartedAt: 2021-10-17 23:58:53 -0400 (Sun, 17 Oct 2021)
EndedAt: 2021-10-18 00:00:28 -0400 (Mon, 18 Oct 2021)
EllapsedTime: 95.2 seconds
RetCode: 0
Status:   OK  
PackageFile: yarn_1.19.0.tar.gz
PackageFileSize: 2.968 MiB

Command output

##############################################################################
##############################################################################
###
### Running command:
###
###   /Library/Frameworks/R.framework/Resources/bin/R CMD build --keep-empty-dirs --no-resave-data yarn
###
##############################################################################
##############################################################################


* checking for file ‘yarn/DESCRIPTION’ ... OK
* preparing ‘yarn’:
* checking DESCRIPTION meta-information ... OK
* installing the package to build vignettes
* creating vignettes ... OK
* checking for LF line-endings in source and make files and shell scripts
* checking for empty or unneeded directories
* building ‘yarn_1.19.0.tar.gz’